{"text_format":"1","workbook":"xlsx","n_sheets":7,"sheets":["使用說明","薪酬構成","考勤表","報稅","列印提取","工資明細表","社會保障系統"],"not_rendered":{"charts":0,"images":1,"macros":0,"external_links":0,"defined_names":9,"comments":0,"pivot_tables":0},"unopened":[],"bounds":{"document_bytes":16777216,"sheet_cells":100000,"rows_first":2000,"rows_last":500,"rows_between":2000,"halvings":0,"cell_chars":16384,"cell_head_chars":4096},"cells_cut":0,"cells_raw":0,"read":"whole","date_system":"1900"}

{"sheet":"使用說明","index":0,"n_rows":11,"n_cols":9,"rows_kept":11,"cut":false,"hidden":false,"merged":[[1,1,1,9],[5,3,5,9],[10,3,10,9]]}
[]
[null,"LOGO ·XXXXXX 公司·薪酬計算系統"]
[]
[null,"說明:","1：","\"考勤表\"和\"薪酬構成\"為原始資料,考勤表的資料引用入“薪酬構成”後進行最終計算."]
[null,null,"2：","應發工資和實發工資，及其社保、個稅的扣繳均在“薪酬構成”工作表中完成"]
[null,null,"3：","\"報稅\"和\"薪酬分析\"以及\"財務部報表\"的資料均直接引用至\"薪酬構成\"工作表.\n因此,各項資料均自動生成,一般不作手動更改,避免出錯."]
[null,null,"4：","日常更新資料時,只需更新\"考勤表\"即可，……"]
[null,null,null,null,null,null,null,null,"  //人事行政部"]
[]
[]
[null,null,"＊\n＊\n＊","薪酬計算系統：\n//--------------------------------------------------------------\n工資總額=收入部分-扣款部分-社會保障-個稅部分±飯卡押金\n保險總額=養老保險+醫療保險+失業保險+工傷保險+生育保險+住房公積金\n稅前收入=應發工資總額-社會保險總額\n應稅金額=應發工資-個稅收繳基數（1600）\n個人所得稅=應稅金額*適應稅率-速算扣除係數\n//--------------------------------------------------------------\n社會保障體系：\n本埠：\n外埠：\n\n\n\n"]

{"sheet":"薪酬構成","index":1,"n_rows":85,"n_cols":35,"rows_kept":85,"cut":false,"hidden":false,"merged":[[61,1,61,2],[78,1,78,2],[79,1,79,3],[1,34,2,34],[13,1,13,2],[24,1,24,2],[35,1,35,2],[43,1,43,2],[55,1,55,2],[0,0,0,34],[1,0,1,3],[1,4,1,18],[1,19,1,21],[1,23,1,27],[1,28,1,30],[1,31,1,33]]}
["薪酬構成（收入部分-扣款部分-社會保障-個稅部分±飯卡押金等）"]
["基本資訊",null,null,null,"收入部分",null,null,null,null,null,null,null,null,null,null,null,null,null,null,"扣款部分",null,null,"結算","社會保險系統(個人扣繳)",null,null,null,null,"個人所得稅",null,null,"手機費/飯卡押金",null,null,"結算\n實發工資"]
["序號","部 門","姓 名","身份證","基本工資","獎 金","福 利","津 貼","職務津貼","值班補貼","夜餐補貼","綜合工時/加班","週六日加班","法定節假日","法定假日加班","加班費合計","應加工資","提成獎金","考核工資","事假扣款","病假扣款","其他扣款","應發工資","養老","失業","醫療","住房","社保總計","稅前收入","應稅金額","代扣個稅","話費超標","扣飯卡押金","退飯卡押金"]
[1,null,{"$f":"考勤表!A4","v":0},null,null,null,null,null,null,{"$f":"40*考勤表!J4","v":0},{"$f":"12*考勤表!I4","v":0},{"$f":"ROUND(E4/20.92/8*考勤表!K4*150%,2)","v":0},{"$f":"ROUND(E4/20.92/8*考勤表!L4*200%,2)","v":0},{"$f":"ROUND(E4/20.92/8*考勤表!M4*300%,2)","v":0},{"$f":"ROUND(E4/20.92/8*考勤表!N4*200%,2)","v":0},{"$f":"SUM(L4:O4)","v":0},null,null,null,{"$f":"ROUND(E4/20.92/8*考勤表!C4+10%*F4/8*考勤表!C4,2)","v":0},{"$f":"ROUND(E4/20.92/8*考勤表!D4+5%*F4/8*考勤表!D4,2)","v":0},null,{"$f":"SUM(E4:K4)+SUM(P4:S4)-SUM(T4:V4)","v":0},{"$f":"社會保障系統!F4","v":0},{"$f":"社會保障系統!J4","v":0},{"$f":"社會保障系統!V4","v":0},{"$f":"社會保障系統!X4","v":0},{"$f":"SUM(X4:AA4)","v":0},{"$f":"W4-AB4","v":0},{"$f":"IF(AC4<=1600,0,AC4-1600)","v":0},{"$f":"IF(AD4>100000,AD4*0.45-15375,IF(AD4>80000,AD4*0.4-10375,IF(AD4>60000,AD4*0.35-6375,IF(AD4>40000,AD4*0.3-3375,IF(AD4>20000,AD4*0.25-1375,IF(AD4>5000,AD4*0.2-375,IF(AD4>2000,AD4*0.15-125,IF(AD4>500,AD4*0.1-25,AD4*0.05))))))))","v":0},null,null,null,{"$f":"W4-AB4-AG4+AH4-AF4-ROUND(AE4,2)","v":0}]
[2,null,{"$f":"考勤表!A5","v":0},null,null,null,null,null,null,{"$f":"40*考勤表!J5","v":0},{"$f":"12*考勤表!I5","v":0},{"$f":"ROUND(E5/20.92/8*考勤表!K5*150%,2)","v":0},{"$f":"ROUND(E5/20.92/8*考勤表!L5*200%,2)","v":0},{"$f":"ROUND(E5/20.92/8*考勤表!M5*300%,2)","v":0},{"$f":"ROUND(E5/20.92/8*考勤表!N5*200%,2)","v":0},0,null,null,null,{"$f":"ROUND(E5/20.92/8*考勤表!C5+10%*F5/8*考勤表!C5,2)","v":0},{"$f":"ROUND(E5/20.92/8*考勤表!D5+5%*F5/8*考勤表!D5,2)","v":0},null,0,{"$f":"社會保障系統!F5","v":0},{"$f":"社會保障系統!J5","v":0},{"$f":"社會保障系統!V5","v":0},{"$f":"社會保障系統!X5","v":0},0,0,0,0,null,null,null,0]
[3,null,{"$f":"考勤表!A6","v":0},null,null,null,null,null,null,{"$f":"40*考勤表!J6","v":0},{"$f":"12*考勤表!I6","v":0},{"$f":"ROUND(E6/20.92/8*考勤表!K6*150%,2)","v":0},{"$f":"ROUND(E6/20.92/8*考勤表!L6*200%,2)","v":0},{"$f":"ROUND(E6/20.92/8*考勤表!M6*300%,2)","v":0},{"$f":"ROUND(E6/20.92/8*考勤表!N6*200%,2)","v":0},0,null,null,null,{"$f":"ROUND(E6/20.92/8*考勤表!C6+10%*F6/8*考勤表!C6,2)","v":0},{"$f":"ROUND(E6/20.92/8*考勤表!D6+5%*F6/8*考勤表!D6,2)","v":0},null,0,{"$f":"社會保障系統!F6","v":0},{"$f":"社會保障系統!J6","v":0},{"$f":"社會保障系統!V6","v":0},{"$f":"社會保障系統!X6","v":0},0,0,0,0,null,null,null,0]
[4,null,{"$f":"考勤表!A7","v":0},null,null,null,null,null,null,{"$f":"40*考勤表!J7","v":0},{"$f":"12*考勤表!I7","v":0},{"$f":"ROUND(E7/20.92/8*考勤表!K7*150%,2)","v":0},{"$f":"ROUND(E7/20.92/8*考勤表!L7*200%,2)","v":0},{"$f":"ROUND(E7/20.92/8*考勤表!M7*300%,2)","v":0},{"$f":"ROUND(E7/20.92/8*考勤表!N7*200%,2)","v":0},0,null,null,null,{"$f":"ROUND(E7/20.92/8*考勤表!C7+10%*F7/8*考勤表!C7,2)","v":0},{"$f":"ROUND(E7/20.92/8*考勤表!D7+5%*F7/8*考勤表!D7,2)","v":0},null,0,{"$f":"社會保障系統!F7","v":0},{"$f":"社會保障系統!J7","v":0},{"$f":"社會保障系統!V7","v":0},{"$f":"社會保障系統!X7","v":0},0,0,0,0,null,null,null,0]
[5,null,{"$f":"考勤表!A8","v":0},null,null,null,null,null,null,{"$f":"40*考勤表!J8","v":0},{"$f":"12*考勤表!I8","v":0},{"$f":"ROUND(E8/20.92/8*考勤表!K8*150%,2)","v":0},{"$f":"ROUND(E8/20.92/8*考勤表!L8*200%,2)","v":0},{"$f":"ROUND(E8/20.92/8*考勤表!M8*300%,2)","v":0},{"$f":"ROUND(E8/20.92/8*考勤表!N8*200%,2)","v":0},0,null,null,null,{"$f":"ROUND(E8/20.92/8*考勤表!C8+10%*F8/8*考勤表!C8,2)","v":0},{"$f":"ROUND(E8/20.92/8*考勤表!D8+5%*F8/8*考勤表!D8,2)","v":0},null,0,{"$f":"社會保障系統!F8","v":0},{"$f":"社會保障系統!J8","v":0},{"$f":"社會保障系統!V8","v":0},{"$f":"社會保障系統!X8","v":0},0,0,0,0,null,null,null,0]
[6,null,{"$f":"考勤表!A9","v":0},null,null,null,null,null,null,{"$f":"40*考勤表!J9","v":0},{"$f":"12*考勤表!I9","v":0},{"$f":"ROUND(E9/20.92/8*考勤表!K9*150%,2)","v":0},{"$f":"ROUND(E9/20.92/8*考勤表!L9*200%,2)","v":0},{"$f":"ROUND(E9/20.92/8*考勤表!M9*300%,2)","v":0},{"$f":"ROUND(E9/20.92/8*考勤表!N9*200%,2)","v":0},0,null,null,null,{"$f":"ROUND(E9/20.92/8*考勤表!C9+10%*F9/8*考勤表!C9,2)","v":0},{"$f":"ROUND(E9/20.92/8*考勤表!D9+5%*F9/8*考勤表!D9,2)","v":0},null,0,{"$f":"社會保障系統!F9","v":0},{"$f":"社會保障系統!J9","v":0},{"$f":"社會保障系統!V9","v":0},{"$f":"社會保障系統!X9","v":0},0,0,0,0,null,null,null,0]
[7,null,{"$f":"考勤表!A10","v":0},null,null,null,null,null,null,{"$f":"40*考勤表!J10","v":0},{"$f":"12*考勤表!I10","v":0},{"$f":"ROUND(E10/20.92/8*考勤表!K10*150%,2)","v":0},{"$f":"ROUND(E10/20.92/8*考勤表!L10*200%,2)","v":0},{"$f":"ROUND(E10/20.92/8*考勤表!M10*300%,2)","v":0},{"$f":"ROUND(E10/20.92/8*考勤表!N10*200%,2)","v":0},0,null,null,null,{"$f":"ROUND(E10/20.92/8*考勤表!C10+10%*F10/8*考勤表!C10,2)","v":0},{"$f":"ROUND(E10/20.92/8*考勤表!D10+5%*F10/8*考勤表!D10,2)","v":0},null,0,{"$f":"社會保障系統!F10","v":0},{"$f":"社會保障系統!J10","v":0},{"$f":"社會保障系統!V10","v":0},{"$f":"社會保障系統!X10","v":0},0,0,0,0,null,null,null,0]
[8,null,{"$f":"考勤表!A11","v":0},null,null,null,null,null,null,{"$f":"40*考勤表!J11","v":0},{"$f":"12*考勤表!I11","v":0},{"$f":"ROUND(E11/20.92/8*考勤表!K11*150%,2)","v":0},{"$f":"ROUND(E11/20.92/8*考勤表!L11*200%,2)","v":0},{"$f":"ROUND(E11/20.92/8*考勤表!M11*300%,2)","v":0},{"$f":"ROUND(E11/20.92/8*考勤表!N11*200%,2)","v":0},0,null,null,null,{"$f":"ROUND(E11/20.92/8*考勤表!C11+10%*F11/8*考勤表!C11,2)","v":0},{"$f":"ROUND(E11/20.92/8*考勤表!D11+5%*F11/8*考勤表!D11,2)","v":0},null,0,{"$f":"社會保障系統!F11","v":0},{"$f":"社會保障系統!J11","v":0},{"$f":"社會保障系統!V11","v":0},{"$f":"社會保障系統!X11","v":0},0,0,0,0,null,null,null,0]
[9,null,{"$f":"考勤表!A12","v":0},null,null,null,null,null,null,{"$f":"40*考勤表!J12","v":0},{"$f":"12*考勤表!I12","v":0},{"$f":"ROUND(E12/20.92/8*考勤表!K12*150%,2)","v":0},{"$f":"ROUND(E12/20.92/8*考勤表!L12*200%,2)","v":0},{"$f":"ROUND(E12/20.92/8*考勤表!M12*300%,2)","v":0},{"$f":"ROUND(E12/20.92/8*考勤表!N12*200%,2)","v":0},0,null,null,null,{"$f":"ROUND(E12/20.92/8*考勤表!C12+10%*F12/8*考勤表!C12,2)","v":0},{"$f":"ROUND(E12/20.92/8*考勤表!D12+5%*F12/8*考勤表!D12,2)","v":0},null,0,{"$f":"社會保障系統!F12","v":0},{"$f":"社會保障系統!J12","v":0},{"$f":"社會保障系統!V12","v":0},{"$f":"社會保障系統!X12","v":0},0,0,0,0,null,null,null,0]
[10,null,{"$f":"考勤表!A13","v":0},null,null,null,null,null,null,{"$f":"40*考勤表!J13","v":0},{"$f":"12*考勤表!I13","v":0},{"$f":"ROUND(E13/20.92/8*考勤表!K13*150%,2)","v":0},{"$f":"ROUND(E13/20.92/8*考勤表!L13*200%,2)","v":0},{"$f":"ROUND(E13/20.92/8*考勤表!M13*300%,2)","v":0},{"$f":"ROUND(E13/20.92/8*考勤表!N13*200%,2)","v":0},0,null,null,null,{"$f":"ROUND(E13/20.92/8*考勤表!C13+10%*F13/8*考勤表!C13,2)","v":0},{"$f":"ROUND(E13/20.92/8*考勤表!D13+5%*F13/8*考勤表!D13,2)","v":0},null,0,{"$f":"社會保障系統!F13","v":0},{"$f":"社會保障系統!J13","v":0},{"$f":"社會保障系統!V13","v":0},{"$f":"社會保障系統!X13","v":0},0,0,0,0,null,null,null,0]
[null,"安管部合計",null,null,{"$f":"SUM(E4:E13)","v":0},0,0,0,0,0,0,0,0,0,0,0,0,0,0,0,0,0,0,0,0,0,0,0,0,0,0,0,0,0,0]
[1,null,{"$f":"考勤表!A15","v":0},null,null,null,null,null,null,{"$f":"40*考勤表!J15","v":0},{"$f":"12*考勤表!I15","v":0},{"$f":"ROUND(考勤表!K15/8*50,2)","v":0},{"$f":"ROUND(E15/20.92/8*考勤表!L15*200%,2)","v":0},{"$f":"ROUND(E15/20.92/8*考勤表!M15*300%,2)","v":0},{"$f":"ROUND(E15/20.92/8*考勤表!N15*200%,2)","v":0},{"$f":"SUM(L15:O15)","v":0},null,null,null,{"$f":"ROUND(E15/20.92/8*考勤表!C15+10%*F15/8*考勤表!C15,2)","v":0},{"$f":"ROUND(E15/20.92/8*考勤表!D15+5%*F15/8*考勤表!D15,2)","v":0},null,{"$f":"SUM(E15:K15)+SUM(P15:S15)-SUM(T15:V15)","v":0},{"$f":"社會保障系統!F15","v":0},{"$f":"社會保障系統!J15","v":0},{"$f":"社會保障系統!V15","v":0},{"$f":"社會保障系統!X15","v":0},{"$f":"SUM(X15:AA15)","v":0},{"$f":"W15-AB15","v":0},{"$f":"IF(AC15<=1600,0,AC15-1600)","v":0},{"$f":"IF(AD15>100000,AD15*0.45-15375,IF(AD15>80000,AD15*0.4-10375,IF(AD15>60000,AD15*0.35-6375,IF(AD15>40000,AD15*0.3-3375,IF(AD15>20000,AD15*0.25-1375,IF(AD15>5000,AD15*0.2-375,IF(AD15>2000,AD15*0.15-125,IF(AD15>500,AD15*0.1-25,AD15*0.05))))))))","v":0},null,null,null,{"$f":"W15-AB15-AG15+AH15-AF15-ROUND(AE15,2)","v":0}]
[2,null,{"$f":"考勤表!A16","v":0},null,null,null,null,null,null,{"$f":"40*考勤表!J16","v":0},{"$f":"12*考勤表!I16","v":0},{"$f":"ROUND(考勤表!K16/8*50,2)","v":0},{"$f":"ROUND(E16/20.92/8*考勤表!L16*200%,2)","v":0},{"$f":"ROUND(E16/20.92/8*考勤表!M16*300%,2)","v":0},{"$f":"ROUND(E16/20.92/8*考勤表!N16*200%,2)","v":0},0,null,null,null,{"$f":"ROUND(E16/20.92/8*考勤表!C16+10%*F16/8*考勤表!C16,2)","v":0},{"$f":"ROUND(E16/20.92/8*考勤表!D16+5%*F16/8*考勤表!D16,2)","v":0},null,0,{"$f":"社會保障系統!F16","v":0},{"$f":"社會保障系統!J16","v":0},{"$f":"社會保障系統!V16","v":0},{"$f":"社會保障系統!X16","v":0},0,0,0,0,null,null,null,0]
[3,null,{"$f":"考勤表!A17","v":0},null,null,null,null,null,null,{"$f":"40*考勤表!J17","v":0},{"$f":"12*考勤表!I17","v":0},{"$f":"ROUND(考勤表!K17/8*50,2)","v":0},{"$f":"ROUND(E17/20.92/8*考勤表!L17*200%,2)","v":0},{"$f":"ROUND(E17/20.92/8*考勤表!M17*300%,2)","v":0},{"$f":"ROUND(E17/20.92/8*考勤表!N17*200%,2)","v":0},0,null,null,null,{"$f":"ROUND(E17/20.92/8*考勤表!C17+10%*F17/8*考勤表!C17,2)","v":0},{"$f":"ROUND(E17/20.92/8*考勤表!D17+5%*F17/8*考勤表!D17,2)","v":0},null,0,{"$f":"社會保障系統!F17","v":0},{"$f":"社會保障系統!J17","v":0},{"$f":"社會保障系統!V17","v":0},{"$f":"社會保障系統!X17","v":0},0,0,0,0,null,null,null,0]
[4,null,{"$f":"考勤表!A18","v":0},null,null,null,null,null,null,{"$f":"40*考勤表!J18","v":0},{"$f":"12*考勤表!I18","v":0},{"$f":"ROUND(E69/20.92/8*考勤表!K18*150%,2)","v":0},{"$f":"ROUND(E69/20.92/8*考勤表!L18*200%,2)","v":0},{"$f":"ROUND(E69/20.92/8*考勤表!M18*300%,2)","v":0},{"$f":"ROUND(E69/20.92/8*考勤表!N18*200%,2)","v":0},0,null,null,null,{"$f":"ROUND(E18/20.92/8*考勤表!C18+10%*F18/8*考勤表!C18,2)","v":0},{"$f":"ROUND(E18/20.92/8*考勤表!D18+5%*F18/8*考勤表!D18,2)","v":0},null,0,{"$f":"社會保障系統!F18","v":0},{"$f":"社會保障系統!J18","v":0},{"$f":"社會保障系統!V18","v":0},{"$f":"社會保障系統!X18","v":0},0,0,0,0,null,null,null,0]
[5,null,{"$f":"考勤表!A19","v":0},null,null,null,null,null,null,{"$f":"40*考勤表!J19","v":0},{"$f":"12*考勤表!I19","v":0},{"$f":"ROUND(考勤表!K19/8*50,2)","v":0},{"$f":"ROUND(E19/20.92/8*考勤表!L19*200%,2)","v":0},{"$f":"ROUND(E19/20.92/8*考勤表!M19*300%,2)","v":0},{"$f":"ROUND(E19/20.92/8*考勤表!N19*200%,2)","v":0},0,null,null,null,{"$f":"ROUND(E19/20.92/8*考勤表!C19+10%*F19/8*考勤表!C19,2)","v":0},{"$f":"ROUND(E19/20.92/8*考勤表!D19+5%*F19/8*考勤表!D19,2)","v":0},null,0,{"$f":"社會保障系統!F19","v":0},{"$f":"社會保障系統!J19","v":0},{"$f":"社會保障系統!V19","v":0},{"$f":"社會保障系統!X19","v":0},0,0,0,0,null,null,null,0]
[6,null,{"$f":"考勤表!A20","v":0},null,null,null,null,null,null,{"$f":"40*考勤表!J20","v":0},{"$f":"12*考勤表!I20","v":0},{"$f":"ROUND(考勤表!K20/8*50,2)","v":0},{"$f":"ROUND(E20/20.92/8*考勤表!L20*200%,2)","v":0},{"$f":"ROUND(E20/20.92/8*考勤表!M20*300%,2)","v":0},{"$f":"ROUND(E20/20.92/8*考勤表!N20*200%,2)","v":0},0,null,null,null,{"$f":"ROUND(E20/20.92/8*考勤表!C20+10%*F20/8*考勤表!C20,2)","v":0},{"$f":"ROUND(E20/20.92/8*考勤表!D20+5%*F20/8*考勤表!D20,2)","v":0},null,0,{"$f":"社會保障系統!F20","v":0},{"$f":"社會保障系統!J20","v":0},{"$f":"社會保障系統!V20","v":0},{"$f":"社會保障系統!X20","v":0},0,0,0,0,null,null,null,0]
[7,null,{"$f":"考勤表!A21","v":0},null,null,null,null,null,null,{"$f":"40*考勤表!J21","v":0},{"$f":"12*考勤表!I21","v":0},{"$f":"ROUND(考勤表!K21/8*50,2)","v":0},{"$f":"ROUND(E21/20.92/8*考勤表!L21*200%,2)","v":0},{"$f":"ROUND(E21/20.92/8*考勤表!M21*300%,2)","v":0},{"$f":"ROUND(E21/20.92/8*考勤表!N21*200%,2)","v":0},0,null,null,null,{"$f":"ROUND(E21/20.92/8*考勤表!C21+10%*F21/8*考勤表!C21,2)","v":0},{"$f":"ROUND(E21/20.92/8*考勤表!D21+5%*F21/8*考勤表!D21,2)","v":0},null,0,{"$f":"社會保障系統!F21","v":0},{"$f":"社會保障系統!J21","v":0},{"$f":"社會保障系統!V21","v":0},{"$f":"社會保障系統!X21","v":0},0,0,0,0,null,null,null,0]
[8,null,{"$f":"考勤表!A22","v":0},null,null,null,null,null,null,{"$f":"40*考勤表!J22","v":0},{"$f":"12*考勤表!I22","v":0},{"$f":"ROUND(考勤表!K22/8*50,2)","v":0},{"$f":"ROUND(E22/20.92/8*考勤表!L22*200%,2)","v":0},{"$f":"ROUND(E22/20.92/8*考勤表!M22*300%,2)","v":0},{"$f":"ROUND(E22/20.92/8*考勤表!N22*200%,2)","v":0},0,null,null,null,{"$f":"ROUND(E22/20.92/8*考勤表!C22+10%*F22/8*考勤表!C22,2)","v":0},{"$f":"ROUND(E22/20.92/8*考勤表!D22+5%*F22/8*考勤表!D22,2)","v":0},null,0,{"$f":"社會保障系統!F22","v":0},{"$f":"社會保障系統!J22","v":0},{"$f":"社會保障系統!V22","v":0},{"$f":"社會保障系統!X22","v":0},0,0,0,0,null,null,null,0]
[9,null,{"$f":"考勤表!A23","v":0},null,null,null,null,null,null,{"$f":"40*考勤表!J23","v":0},{"$f":"12*考勤表!I23","v":0},{"$f":"ROUND(考勤表!K23/8*50,2)","v":0},{"$f":"ROUND(E23/20.92/8*考勤表!L23*200%,2)","v":0},{"$f":"ROUND(E23/20.92/8*考勤表!M23*300%,2)","v":0},{"$f":"ROUND(E23/20.92/8*考勤表!N23*200%,2)","v":0},0,null,null,null,{"$f":"ROUND(E23/20.92/8*考勤表!C23+10%*F23/8*考勤表!C23,2)","v":0},{"$f":"ROUND(E23/20.92/8*考勤表!D23+5%*F23/8*考勤表!D23,2)","v":0},null,0,{"$f":"社會保障系統!F23","v":0},{"$f":"社會保障系統!J23","v":0},{"$f":"社會保障系統!V23","v":0},{"$f":"社會保障系統!X23","v":0},0,0,0,0,null,null,null,0]
[10,null,{"$f":"考勤表!A24","v":0},null,null,null,null,null,null,{"$f":"40*考勤表!J24","v":0},{"$f":"12*考勤表!I24","v":0},{"$f":"ROUND(考勤表!K24/8*50,2)","v":0},{"$f":"ROUND(E24/20.92/8*考勤表!L24*200%,2)","v":0},{"$f":"ROUND(E24/20.92/8*考勤表!M24*300%,2)","v":0},{"$f":"ROUND(E24/20.92/8*考勤表!N24*200%,2)","v":0},0,null,null,null,{"$f":"ROUND(E24/20.92/8*考勤表!C24+10%*F24/8*考勤表!C24,2)","v":0},{"$f":"ROUND(E24/20.92/8*考勤表!D24+5%*F24/8*考勤表!D24,2)","v":0},null,0,{"$f":"社會保障系統!F24","v":0},{"$f":"社會保障系統!J24","v":0},{"$f":"社會保障系統!V24","v":0},{"$f":"社會保障系統!X24","v":0},0,0,0,0,null,null,null,0]
[null,"工程部合計",null,null,{"$f":"SUM(E15:E24)","v":0},0,0,0,0,0,0,0,0,0,0,0,0,0,0,0,0,0,0,0,0,0,0,0,0,0,0,0,0,0,0]
[1,null,{"$f":"考勤表!A26","v":0},null,null,null,null,null,null,{"$f":"40*考勤表!J26","v":0},{"$f":"12*考勤表!I26","v":0},{"$f":"ROUND(E26/20.92/8*考勤表!K26*150%,2)","v":0},{"$f":"ROUND(E26/20.92/8*考勤表!L26*200%,2)","v":0},{"$f":"ROUND(E26/20.92/8*考勤表!M26*300%,2)","v":0},{"$f":"ROUND(E26/20.92/8*考勤表!N26*200%,2)","v":0},{"$f":"SUM(L26:O26)","v":0},null,null,null,{"$f":"ROUND(E26/20.92/8*考勤表!C26+10%*F26/8*考勤表!C26,2)","v":0},{"$f":"ROUND(E26/20.92/8*考勤表!D26+5%*F26/8*考勤表!D26,2)","v":0},null,{"$f":"SUM(E26:K26)+SUM(P26:S26)-SUM(T26:V26)","v":0},{"$f":"社會保障系統!F26","v":0},{"$f":"社會保障系統!J26","v":0},{"$f":"社會保障系統!V26","v":0},{"$f":"社會保障系統!X26","v":0},{"$f":"SUM(X26:AA26)","v":0},{"$f":"W26-AB26","v":0},{"$f":"IF(AC26<=1600,0,AC26-1600)","v":0},{"$f":"IF(AD26>100000,AD26*0.45-15375,IF(AD26>80000,AD26*0.4-10375,IF(AD26>60000,AD26*0.35-6375,IF(AD26>40000,AD26*0.3-3375,IF(AD26>20000,AD26*0.25-1375,IF(AD26>5000,AD26*0.2-375,IF(AD26>2000,AD26*0.15-125,IF(AD26>500,AD26*0.1-25,AD26*0.05))))))))","v":0},null,null,null,{"$f":"W26-AB26-AG26+AH26-AF26-ROUND(AE26,2)","v":0}]
[2,null,{"$f":"考勤表!A27","v":0},null,null,null,null,null,null,{"$f":"40*考勤表!J27","v":0},{"$f":"12*考勤表!I27","v":0},{"$f":"ROUND(E27/20.92/8*考勤表!K27*150%,2)","v":0},{"$f":"ROUND(E27/20.92/8*考勤表!L27*200%,2)","v":0},{"$f":"ROUND(E27/20.92/8*考勤表!M27*300%,2)","v":0},{"$f":"ROUND(E27/20.92/8*考勤表!N27*200%,2)","v":0},0,null,null,null,{"$f":"ROUND(E27/20.92/8*考勤表!C27+10%*F27/8*考勤表!C27,2)","v":0},{"$f":"ROUND(E27/20.92/8*考勤表!D27+5%*F27/8*考勤表!D27,2)","v":0},null,0,{"$f":"社會保障系統!F27","v":0},{"$f":"社會保障系統!J27","v":0},{"$f":"社會保障系統!V27","v":0},{"$f":"社會保障系統!X27","v":0},0,0,0,0,null,null,null,0]
[3,null,{"$f":"考勤表!A28","v":0},null,null,null,null,null,null,{"$f":"40*考勤表!J28","v":0},{"$f":"12*考勤表!I28","v":0},{"$f":"ROUND(E28/20.92/8*考勤表!K28*150%,2)","v":0},{"$f":"ROUND(E28/20.92/8*考勤表!L28*200%,2)","v":0},{"$f":"ROUND(E28/20.92/8*考勤表!M28*300%,2)","v":0},{"$f":"ROUND(E28/20.92/8*考勤表!N28*200%,2)","v":0},0,null,null,null,{"$f":"ROUND(E28/20.92/8*考勤表!C28+10%*F28/8*考勤表!C28,2)","v":0},{"$f":"ROUND(E28/20.92/8*考勤表!D28+5%*F28/8*考勤表!D28,2)","v":0},null,0,{"$f":"社會保障系統!F28","v":0},{"$f":"社會保障系統!J28","v":0},{"$f":"社會保障系統!V28","v":0},{"$f":"社會保障系統!X28","v":0},0,0,0,0,null,null,null,0]
[4,null,{"$f":"考勤表!A29","v":0},null,null,null,null,null,null,{"$f":"40*考勤表!J29","v":0},{"$f":"12*考勤表!I29","v":0},{"$f":"ROUND(E29/20.92/8*考勤表!K29*150%,2)","v":0},{"$f":"ROUND(E29/20.92/8*考勤表!L29*200%,2)","v":0},{"$f":"ROUND(E29/20.92/8*考勤表!M29*300%,2)","v":0},{"$f":"ROUND(E29/20.92/8*考勤表!N29*200%,2)","v":0},0,null,null,null,{"$f":"ROUND(E29/20.92/8*考勤表!C29+10%*F29/8*考勤表!C29,2)","v":0},{"$f":"ROUND(E29/20.92/8*考勤表!D29+5%*F29/8*考勤表!D29,2)","v":0},null,0,{"$f":"社會保障系統!F29","v":0},{"$f":"社會保障系統!J29","v":0},{"$f":"社會保障系統!V29","v":0},{"$f":"社會保障系統!X29","v":0},0,0,0,0,null,null,null,0]
[5,null,{"$f":"考勤表!A30","v":0},null,null,null,null,null,null,{"$f":"40*考勤表!J30","v":0},{"$f":"12*考勤表!I30","v":0},{"$f":"ROUND(E30/20.92/8*考勤表!K30*150%,2)","v":0},{"$f":"ROUND(E30/20.92/8*考勤表!L30*200%,2)","v":0},{"$f":"ROUND(E30/20.92/8*考勤表!M30*300%,2)","v":0},{"$f":"ROUND(E30/20.92/8*考勤表!N30*200%,2)","v":0},0,null,null,null,{"$f":"ROUND(E30/20.92/8*考勤表!C30+10%*F30/8*考勤表!C30,2)","v":0},{"$f":"ROUND(E30/20.92/8*考勤表!D30+5%*F30/8*考勤表!D30,2)","v":0},null,0,{"$f":"社會保障系統!F30","v":0},{"$f":"社會保障系統!J30","v":0},{"$f":"社會保障系統!V30","v":0},{"$f":"社會保障系統!X30","v":0},0,0,0,0,null,null,null,0]
[6,null,{"$f":"考勤表!A31","v":0},null,null,null,null,null,null,{"$f":"40*考勤表!J31","v":0},{"$f":"12*考勤表!I31","v":0},{"$f":"ROUND(E31/20.92/8*考勤表!K31*150%,2)","v":0},{"$f":"ROUND(E31/20.92/8*考勤表!L31*200%,2)","v":0},{"$f":"ROUND(E31/20.92/8*考勤表!M31*300%,2)","v":0},{"$f":"ROUND(E31/20.92/8*考勤表!N31*200%,2)","v":0},0,null,null,null,{"$f":"ROUND(E31/20.92/8*考勤表!C31+10%*F31/8*考勤表!C31,2)","v":0},{"$f":"ROUND(E31/20.92/8*考勤表!D31+5%*F31/8*考勤表!D31,2)","v":0},null,0,{"$f":"社會保障系統!F31","v":0},{"$f":"社會保障系統!J31","v":0},{"$f":"社會保障系統!V31","v":0},{"$f":"社會保障系統!X31","v":0},0,0,0,0,null,null,null,0]
[7,null,{"$f":"考勤表!A32","v":0},null,null,null,null,null,null,{"$f":"40*考勤表!J32","v":0},{"$f":"12*考勤表!I32","v":0},{"$f":"ROUND(E32/20.92/8*考勤表!K32*150%,2)","v":0},{"$f":"ROUND(E32/20.92/8*考勤表!L32*200%,2)","v":0},{"$f":"ROUND(E32/20.92/8*考勤表!M32*300%,2)","v":0},{"$f":"ROUND(E32/20.92/8*考勤表!N32*200%,2)","v":0},0,null,null,null,{"$f":"ROUND(E32/20.92/8*考勤表!C32+10%*F32/8*考勤表!C32,2)","v":0},{"$f":"ROUND(E32/20.92/8*考勤表!D32+5%*F32/8*考勤表!D32,2)","v":0},null,0,{"$f":"社會保障系統!F32","v":0},{"$f":"社會保障系統!J32","v":0},{"$f":"社會保障系統!V32","v":0},{"$f":"社會保障系統!X32","v":0},0,0,0,0,null,null,null,0]
[8,null,{"$f":"考勤表!A33","v":0},null,null,null,null,null,null,{"$f":"40*考勤表!J33","v":0},{"$f":"12*考勤表!I33","v":0},{"$f":"ROUND(E33/20.92/8*考勤表!K33*150%,2)","v":0},{"$f":"ROUND(E33/20.92/8*考勤表!L33*200%,2)","v":0},{"$f":"ROUND(E33/20.92/8*考勤表!M33*300%,2)","v":0},{"$f":"ROUND(E33/20.92/8*考勤表!N33*200%,2)","v":0},0,null,null,null,{"$f":"ROUND(E33/20.92/8*考勤表!C33+10%*F33/8*考勤表!C33,2)","v":0},{"$f":"ROUND(E33/20.92/8*考勤表!D33+5%*F33/8*考勤表!D33,2)","v":0},null,0,{"$f":"社會保障系統!F33","v":0},{"$f":"社會保障系統!J33","v":0},{"$f":"社會保障系統!V33","v":0},{"$f":"社會保障系統!X33","v":0},0,0,0,0,null,null,null,0]
[9,null,{"$f":"考勤表!A34","v":0},null,null,null,null,null,null,{"$f":"40*考勤表!J34","v":0},{"$f":"12*考勤表!I34","v":0},{"$f":"ROUND(E34/20.92/8*考勤表!K34*150%,2)","v":0},{"$f":"ROUND(E34/20.92/8*考勤表!L34*200%,2)","v":0},{"$f":"ROUND(E34/20.92/8*考勤表!M34*300%,2)","v":0},{"$f":"ROUND(E34/20.92/8*考勤表!N34*200%,2)","v":0},0,null,null,null,{"$f":"ROUND(E34/20.92/8*考勤表!C34+10%*F34/8*考勤表!C34,2)","v":0},{"$f":"ROUND(E34/20.92/8*考勤表!D34+5%*F34/8*考勤表!D34,2)","v":0},null,0,{"$f":"社會保障系統!F34","v":0},{"$f":"社會保障系統!J34","v":0},{"$f":"社會保障系統!V34","v":0},{"$f":"社會保障系統!X34","v":0},0,0,0,0,null,null,null,0]
[10,null,{"$f":"考勤表!A35","v":0},null,null,null,null,null,null,{"$f":"40*考勤表!J35","v":0},{"$f":"12*考勤表!I35","v":0},{"$f":"ROUND(E35/20.92/8*考勤表!K35*150%,2)","v":0},{"$f":"ROUND(E35/20.92/8*考勤表!L35*200%,2)","v":0},{"$f":"ROUND(E35/20.92/8*考勤表!M35*300%,2)","v":0},{"$f":"ROUND(E35/20.92/8*考勤表!N35*200%,2)","v":0},0,null,null,null,{"$f":"ROUND(E35/20.92/8*考勤表!C35+10%*F35/8*考勤表!C35,2)","v":0},{"$f":"ROUND(E35/20.92/8*考勤表!D35+5%*F35/8*考勤表!D35,2)","v":0},null,0,{"$f":"社會保障系統!F35","v":0},{"$f":"社會保障系統!J35","v":0},{"$f":"社會保障系統!V35","v":0},{"$f":"社會保障系統!X35","v":0},0,0,0,0,null,null,null,0]
[null,"客服中心合計",null,null,{"$f":"SUM(E26:E35)","v":0},0,0,0,0,0,0,0,0,0,0,0,0,0,0,0,0,0,0,0,0,0,0,0,0,0,0,0,0,0,0]
[1,null,{"$f":"考勤表!A37","v":0},null,null,null,null,null,null,{"$f":"40*考勤表!J37","v":0},{"$f":"12*考勤表!I37","v":0},{"$f":"ROUND(E37/20.92/8*考勤表!K37*150%,2)","v":0},{"$f":"ROUND(E37/20.92/8*考勤表!L37*200%,2)","v":0},{"$f":"ROUND(E37/20.92/8*考勤表!M37*300%,2)","v":0},{"$f":"ROUND(E37/20.92/8*考勤表!N37*200%,2)","v":0},{"$f":"SUM(L37:O37)","v":0},null,null,null,{"$f":"ROUND(E37/20.92/8*考勤表!C37+10%*F37/8*考勤表!C37,2)","v":0},{"$f":"ROUND(E37/20.92/8*考勤表!D37+5%*F37/8*考勤表!D37,2)","v":0},null,{"$f":"SUM(E37:K37)+SUM(P37:S37)-SUM(T37:V37)","v":0},{"$f":"社會保障系統!F37","v":0},{"$f":"社會保障系統!J37","v":0},{"$f":"社會保障系統!V37","v":0},{"$f":"社會保障系統!X37","v":0},{"$f":"SUM(X37:AA37)","v":0},{"$f":"W37-AB37","v":0},{"$f":"IF(AC37<=1600,0,AC37-1600)","v":0},{"$f":"IF(AD37>100000,AD37*0.45-15375,IF(AD37>80000,AD37*0.4-10375,IF(AD37>60000,AD37*0.35-6375,IF(AD37>40000,AD37*0.3-3375,IF(AD37>20000,AD37*0.25-1375,IF(AD37>5000,AD37*0.2-375,IF(AD37>2000,AD37*0.15-125,IF(AD37>500,AD37*0.1-25,AD37*0.05))))))))","v":0},null,null,null,{"$f":"W37-AB37-AG37+AH37-AF37-ROUND(AE37,2)","v":0}]
[2,null,{"$f":"考勤表!A38","v":0},null,null,null,null,null,null,{"$f":"40*考勤表!J38","v":0},{"$f":"12*考勤表!I38","v":0},{"$f":"ROUND(E38/20.92/8*考勤表!K38*150%,2)","v":0},{"$f":"ROUND(E38/20.92/8*考勤表!L38*200%,2)","v":0},{"$f":"ROUND(E38/20.92/8*考勤表!M38*300%,2)","v":0},{"$f":"ROUND(E38/20.92/8*考勤表!N38*200%,2)","v":0},{"$f":"SUM(L38:O38)","v":0},null,null,null,{"$f":"ROUND(E38/20.92/8*考勤表!C38+10%*F38/8*考勤表!C38,2)","v":0},{"$f":"ROUND(E38/20.92/8*考勤表!D38+5%*F38/8*考勤表!D38,2)","v":0},null,0,{"$f":"社會保障系統!F38","v":0},{"$f":"社會保障系統!J38","v":0},{"$f":"社會保障系統!V38","v":0},{"$f":"社會保障系統!X38","v":0},0,0,0,0,null,null,null,0]
[3,null,{"$f":"考勤表!A39","v":0},null,null,null,null,null,null,{"$f":"40*考勤表!J39","v":0},{"$f":"12*考勤表!I39","v":0},{"$f":"ROUND(E39/20.92/8*考勤表!K39*150%,2)","v":0},{"$f":"ROUND(E39/20.92/8*考勤表!L39*200%,2)","v":0},{"$f":"ROUND(E39/20.92/8*考勤表!M39*300%,2)","v":0},{"$f":"ROUND(E39/20.92/8*考勤表!N39*200%,2)","v":0},{"$f":"SUM(L39:O39)","v":0},null,null,null,{"$f":"ROUND(E39/20.92/8*考勤表!C39+10%*F39/8*考勤表!C39,2)","v":0},{"$f":"ROUND(E39/20.92/8*考勤表!D39+5%*F39/8*考勤表!D39,2)","v":0},null,0,{"$f":"社會保障系統!F39","v":0},{"$f":"社會保障系統!J39","v":0},{"$f":"社會保障系統!V39","v":0},{"$f":"社會保障系統!X39","v":0},0,0,0,0,null,null,null,0]
[4,null,{"$f":"考勤表!A40","v":0},null,null,null,null,null,null,{"$f":"40*考勤表!J40","v":0},{"$f":"12*考勤表!I40","v":0},{"$f":"ROUND(E40/20.92/8*考勤表!K40*150%,2)","v":0},{"$f":"ROUND(E40/20.92/8*考勤表!L40*200%,2)","v":0},{"$f":"ROUND(E40/20.92/8*考勤表!M40*300%,2)","v":0},{"$f":"ROUND(E40/20.92/8*考勤表!N40*200%,2)","v":0},{"$f":"SUM(L40:O40)","v":0},null,null,null,{"$f":"ROUND(E40/20.92/8*考勤表!C40+10%*F40/8*考勤表!C40,2)","v":0},{"$f":"ROUND(E40/20.92/8*考勤表!D40+5%*F40/8*考勤表!D40,2)","v":0},null,0,{"$f":"社會保障系統!F40","v":0},{"$f":"社會保障系統!J40","v":0},{"$f":"社會保障系統!V40","v":0},{"$f":"社會保障系統!X40","v":0},0,0,0,0,null,null,null,0]
[5,null,{"$f":"考勤表!A41","v":0},null,null,null,null,null,null,{"$f":"40*考勤表!J41","v":0},{"$f":"12*考勤表!I41","v":0},{"$f":"ROUND(E41/20.92/8*考勤表!K41*150%,2)","v":0},{"$f":"ROUND(E41/20.92/8*考勤表!L41*200%,2)","v":0},{"$f":"ROUND(E41/20.92/8*考勤表!M41*300%,2)","v":0},{"$f":"ROUND(E41/20.92/8*考勤表!N41*200%,2)","v":0},{"$f":"L41+M41+N41+O41","v":0},null,null,null,{"$f":"ROUND(E41/20.92/8*考勤表!C41+10%*F41/8*考勤表!C41,2)","v":0},{"$f":"ROUND(E41/20.92/8*考勤表!D41+5%*F41/8*考勤表!D41,2)","v":0},null,0,{"$f":"社會保障系統!F41","v":0},{"$f":"社會保障系統!J41","v":0},{"$f":"社會保障系統!V41","v":0},{"$f":"社會保障系統!X41","v":0},0,0,0,0,null,null,null,0]
[6,null,{"$f":"考勤表!A42","v":0},null,null,null,null,null,null,{"$f":"40*考勤表!J42","v":0},{"$f":"12*考勤表!I42","v":0},{"$f":"ROUND(E42/20.92/8*考勤表!K42*150%,2)","v":0},{"$f":"ROUND(E42/20.92/8*考勤表!L42*200%,2)","v":0},{"$f":"ROUND(E42/20.92/8*考勤表!M42*300%,2)","v":0},{"$f":"ROUND(E42/20.92/8*考勤表!N42*200%,2)","v":0},{"$f":"L42+M42+N42+O42","v":0},null,null,null,{"$f":"ROUND(E42/20.92/8*考勤表!C42+10%*F42/8*考勤表!C42,2)","v":0},{"$f":"ROUND(E42/20.92/8*考勤表!D42+5%*F42/8*考勤表!D42,2)","v":0},null,0,{"$f":"社會保障系統!F42","v":0},{"$f":"社會保障系統!J42","v":0},{"$f":"社會保障系統!V42","v":0},{"$f":"社會保障系統!X42","v":0},0,0,0,0,null,null,null,0]
[7,null,{"$f":"考勤表!A43","v":0},null,null,null,null,null,null,{"$f":"40*考勤表!J43","v":0},{"$f":"12*考勤表!I43","v":0},{"$f":"ROUND(E43/20.92/8*考勤表!K43*150%,2)","v":0},{"$f":"ROUND(E43/20.92/8*考勤表!L43*200%,2)","v":0},{"$f":"ROUND(E43/20.92/8*考勤表!M43*300%,2)","v":0},{"$f":"ROUND(E43/20.92/8*考勤表!N43*200%,2)","v":0},{"$f":"L43+M43+N43+O43","v":0},null,null,null,{"$f":"ROUND(E43/20.92/8*考勤表!C43+10%*F43/8*考勤表!C43,2)","v":0},{"$f":"ROUND(E43/20.92/8*考勤表!D43+5%*F43/8*考勤表!D43,2)","v":0},null,0,{"$f":"社會保障系統!F43","v":0},{"$f":"社會保障系統!J43","v":0},{"$f":"社會保障系統!V43","v":0},{"$f":"社會保障系統!X43","v":0},0,0,0,0,null,null,null,0]
[null,"財務部管理處",null,null,{"$f":"SUM(E37:E43)","v":0},0,0,0,0,0,0,0,0,0,0,0,0,0,0,0,0,0,0,0,0,0,0,0,0,0,0,0,0,0,0]
[1,null,{"$f":"考勤表!A45","v":0},null,null,null,null,null,null,{"$f":"40*考勤表!J45","v":0},{"$f":"12*考勤表!I45","v":0},{"$f":"ROUND(E45/20.92/8*考勤表!K45*150%,2)","v":0},{"$f":"ROUND(E45/20.92/8*考勤表!L45*200%,2)","v":0},{"$f":"ROUND(E45/20.92/8*考勤表!M45*300%,2)","v":0},{"$f":"ROUND(E45/20.92/8*考勤表!N45*200%,2)","v":0},{"$f":"L45+M45+N45+O45","v":0},null,null,null,{"$f":"ROUND(E45/20.92/8*考勤表!C45+10%*F45/8*考勤表!C45,2)","v":0},{"$f":"ROUND(E45/20.92/8*考勤表!D45+5%*F45/8*考勤表!D45,2)","v":0},null,{"$f":"SUM(E45:K45)+SUM(P45:S45)-SUM(T45:V45)","v":0},{"$f":"社會保障系統!F45","v":0},{"$f":"社會保障系統!J45","v":0},{"$f":"社會保障系統!V45","v":0},{"$f":"社會保障系統!X45","v":0},{"$f":"SUM(X45:AA45)","v":0},{"$f":"W45-AB45","v":0},{"$f":"IF(AC45<=1600,0,AC45-1600)","v":0},{"$f":"IF(AD45>100000,AD45*0.45-15375,IF(AD45>80000,AD45*0.4-10375,IF(AD45>60000,AD45*0.35-6375,IF(AD45>40000,AD45*0.3-3375,IF(AD45>20000,AD45*0.25-1375,IF(AD45>5000,AD45*0.2-375,IF(AD45>2000,AD45*0.15-125,IF(AD45>500,AD45*0.1-25,AD45*0.05))))))))","v":0},null,null,null,{"$f":"W45-AB45-AG45+AH45-AF45-ROUND(AE45,2)","v":0}]
[2,null,{"$f":"考勤表!A46","v":0},null,null,null,null,null,null,{"$f":"40*考勤表!J46","v":0},{"$f":"12*考勤表!I46","v":0},{"$f":"ROUND(E46/20.92/8*考勤表!K46*150%,2)","v":0},{"$f":"ROUND(E46/20.92/8*考勤表!L46*200%,2)","v":0},{"$f":"ROUND(E46/20.92/8*考勤表!M46*300%,2)","v":0},{"$f":"ROUND(E46/20.92/8*考勤表!N46*200%,2)","v":0},0,null,null,null,{"$f":"ROUND(E46/20.92/8*考勤表!C46+10%*F46/8*考勤表!C46,2)","v":0},{"$f":"ROUND(E46/20.92/8*考勤表!D46+5%*F46/8*考勤表!D46,2)","v":0},null,0,{"$f":"社會保障系統!F46","v":0},{"$f":"社會保障系統!J46","v":0},{"$f":"社會保障系統!V46","v":0},{"$f":"社會保障系統!X46","v":0},0,0,0,0,null,null,null,0]
[3,null,{"$f":"考勤表!A47","v":0},null,null,null,null,null,null,{"$f":"40*考勤表!J47","v":0},{"$f":"12*考勤表!I47","v":0},{"$f":"ROUND(E47/20.92/8*考勤表!K47*150%,2)","v":0},{"$f":"ROUND(E47/20.92/8*考勤表!L47*200%,2)","v":0},{"$f":"ROUND(E47/20.92/8*考勤表!M47*300%,2)","v":0},{"$f":"ROUND(E47/20.92/8*考勤表!N47*200%,2)","v":0},0,null,null,null,{"$f":"ROUND(E47/20.92/8*考勤表!C47+10%*F47/8*考勤表!C47,2)","v":0},{"$f":"ROUND(E47/20.92/8*考勤表!D47+5%*F47/8*考勤表!D47,2)","v":0},null,0,{"$f":"社會保障系統!F47","v":0},{"$f":"社會保障系統!J47","v":0},{"$f":"社會保障系統!V47","v":0},{"$f":"社會保障系統!X47","v":0},0,0,0,0,null,null,null,0]
[4,null,{"$f":"考勤表!A48","v":0},null,null,null,null,null,null,{"$f":"40*考勤表!J48","v":0},{"$f":"12*考勤表!I48","v":0},{"$f":"ROUND(E48/20.92/8*考勤表!K48*150%,2)","v":0},{"$f":"ROUND(E48/20.92/8*考勤表!L48*200%,2)","v":0},{"$f":"ROUND(E48/20.92/8*考勤表!M48*300%,2)","v":0},{"$f":"ROUND(E48/20.92/8*考勤表!N48*200%,2)","v":0},0,null,null,null,{"$f":"ROUND(E48/20.92/8*考勤表!C48+10%*F48/8*考勤表!C48,2)","v":0},{"$f":"ROUND(E48/20.92/8*考勤表!D48+5%*F48/8*考勤表!D48,2)","v":0},null,0,{"$f":"社會保障系統!F48","v":0},{"$f":"社會保障系統!J48","v":0},{"$f":"社會保障系統!V48","v":0},{"$f":"社會保障系統!X48","v":0},0,0,0,0,null,null,null,0]
[5,null,{"$f":"考勤表!A49","v":0},null,null,null,null,null,null,{"$f":"40*考勤表!J49","v":0},{"$f":"12*考勤表!I49","v":0},{"$f":"ROUND(E49/20.92/8*考勤表!K49*150%,2)","v":0},{"$f":"ROUND(E49/20.92/8*考勤表!L49*200%,2)","v":0},{"$f":"ROUND(E49/20.92/8*考勤表!M49*300%,2)","v":0},{"$f":"ROUND(E49/20.92/8*考勤表!N49*200%,2)","v":0},0,null,null,null,{"$f":"ROUND(E49/20.92/8*考勤表!C49+10%*F49/8*考勤表!C49,2)","v":0},{"$f":"ROUND(E49/20.92/8*考勤表!D49+5%*F49/8*考勤表!D49,2)","v":0},null,0,{"$f":"社會保障系統!F49","v":0},{"$f":"社會保障系統!J49","v":0},{"$f":"社會保障系統!V49","v":0},{"$f":"社會保障系統!X49","v":0},0,0,0,0,null,null,null,0]
[6,null,{"$f":"考勤表!A50","v":0},null,null,null,null,null,null,{"$f":"40*考勤表!J50","v":0},{"$f":"12*考勤表!I50","v":0},{"$f":"ROUND(E50/20.92/8*考勤表!K50*150%,2)","v":0},{"$f":"ROUND(E50/20.92/8*考勤表!L50*200%,2)","v":0},{"$f":"ROUND(E50/20.92/8*考勤表!M50*300%,2)","v":0},{"$f":"ROUND(E50/20.92/8*考勤表!N50*200%,2)","v":0},0,null,null,null,{"$f":"ROUND(E50/20.92/8*考勤表!C50+10%*F50/8*考勤表!C50,2)","v":0},{"$f":"ROUND(E50/20.92/8*考勤表!D50+5%*F50/8*考勤表!D50,2)","v":0},null,0,{"$f":"社會保障系統!F50","v":0},{"$f":"社會保障系統!J50","v":0},{"$f":"社會保障系統!V50","v":0},{"$f":"社會保障系統!X50","v":0},0,0,0,0,null,null,null,0]
[7,null,{"$f":"考勤表!A51","v":0},null,null,null,null,null,null,{"$f":"40*考勤表!J51","v":0},{"$f":"12*考勤表!I51","v":0},{"$f":"ROUND(E51/20.92/8*考勤表!K51*150%,2)","v":0},{"$f":"ROUND(E51/20.92/8*考勤表!L51*200%,2)","v":0},{"$f":"ROUND(E51/20.92/8*考勤表!M51*300%,2)","v":0},{"$f":"ROUND(E51/20.92/8*考勤表!N51*200%,2)","v":0},0,null,null,null,{"$f":"ROUND(E51/20.92/8*考勤表!C51+10%*F51/8*考勤表!C51,2)","v":0},{"$f":"ROUND(E51/20.92/8*考勤表!D51+5%*F51/8*考勤表!D51,2)","v":0},null,0,{"$f":"社會保障系統!F51","v":0},{"$f":"社會保障系統!J51","v":0},{"$f":"社會保障系統!V51","v":0},{"$f":"社會保障系統!X51","v":0},0,0,0,0,null,null,null,0]
[8,null,{"$f":"考勤表!A52","v":0},null,null,null,null,null,null,{"$f":"40*考勤表!J52","v":0},{"$f":"12*考勤表!I52","v":0},{"$f":"ROUND(E52/20.92/8*考勤表!K52*150%,2)","v":0},{"$f":"ROUND(E52/20.92/8*考勤表!L52*200%,2)","v":0},{"$f":"ROUND(E52/20.92/8*考勤表!M52*300%,2)","v":0},{"$f":"ROUND(E52/20.92/8*考勤表!N52*200%,2)","v":0},0,null,null,null,{"$f":"ROUND(E52/20.92/8*考勤表!C52+10%*F52/8*考勤表!C52,2)","v":0},{"$f":"ROUND(E52/20.92/8*考勤表!D52+5%*F52/8*考勤表!D52,2)","v":0},null,0,{"$f":"社會保障系統!F52","v":0},{"$f":"社會保障系統!J52","v":0},{"$f":"社會保障系統!V52","v":0},{"$f":"社會保障系統!X52","v":0},0,0,0,0,null,null,null,0]
[9,null,{"$f":"考勤表!A53","v":0},null,null,null,null,null,null,{"$f":"40*考勤表!J53","v":0},{"$f":"12*考勤表!I53","v":0},{"$f":"ROUND(E53/20.92/8*考勤表!K53*150%,2)","v":0},{"$f":"ROUND(E53/20.92/8*考勤表!L53*200%,2)","v":0},{"$f":"ROUND(E53/20.92/8*考勤表!M53*300%,2)","v":0},{"$f":"ROUND(E53/20.92/8*考勤表!N53*200%,2)","v":0},0,null,null,null,{"$f":"ROUND(E53/20.92/8*考勤表!C53+10%*F53/8*考勤表!C53,2)","v":0},{"$f":"ROUND(E53/20.92/8*考勤表!D53+5%*F53/8*考勤表!D53,2)","v":0},null,0,{"$f":"社會保障系統!F53","v":0},{"$f":"社會保障系統!J53","v":0},{"$f":"社會保障系統!V53","v":0},{"$f":"社會保障系統!X53","v":0},0,0,0,0,null,null,null,0]
[10,null,{"$f":"考勤表!A54","v":0},null,null,null,null,null,null,{"$f":"40*考勤表!J54","v":0},{"$f":"12*考勤表!I54","v":0},{"$f":"ROUND(E54/20.92/8*考勤表!K54*150%,2)","v":0},{"$f":"ROUND(E54/20.92/8*考勤表!L54*200%,2)","v":0},{"$f":"ROUND(E54/20.92/8*考勤表!M54*300%,2)","v":0},{"$f":"ROUND(E54/20.92/8*考勤表!N54*200%,2)","v":0},0,null,null,null,{"$f":"ROUND(E54/20.92/8*考勤表!C54+10%*F54/8*考勤表!C54,2)","v":0},{"$f":"ROUND(E54/20.92/8*考勤表!D54+5%*F54/8*考勤表!D54,2)","v":0},null,0,{"$f":"社會保障系統!F54","v":0},{"$f":"社會保障系統!J54","v":0},{"$f":"社會保障系統!V54","v":0},{"$f":"社會保障系統!X54","v":0},0,0,0,0,null,null,null,0]
[11,null,{"$f":"考勤表!A55","v":0},null,null,null,null,null,null,{"$f":"40*考勤表!J55","v":0},{"$f":"12*考勤表!I55","v":0},{"$f":"ROUND(E55/20.92/8*考勤表!K55*150%,2)","v":0},{"$f":"ROUND(E55/20.92/8*考勤表!L55*200%,2)","v":0},{"$f":"ROUND(E55/20.92/8*考勤表!M55*300%,2)","v":0},{"$f":"ROUND(E55/20.92/8*考勤表!N55*200%,2)","v":0},0,null,null,null,{"$f":"ROUND(E55/20.92/8*考勤表!C55+10%*F55/8*考勤表!C55,2)","v":0},{"$f":"ROUND(E55/20.92/8*考勤表!D55+5%*F55/8*考勤表!D55,2)","v":0},null,0,{"$f":"社會保障系統!F55","v":0},{"$f":"社會保障系統!J55","v":0},{"$f":"社會保障系統!V55","v":0},{"$f":"社會保障系統!X55","v":0},0,0,0,0,null,null,null,0]
[12,"財務部車場",null,null,{"$f":"SUM(E45:E55)","v":0},0,0,0,0,0,0,0,0,0,0,0,0,0,0,0,0,0,0,0,0,0,0,0,0,0,0,0,0,0,0]
[13,null,{"$f":"考勤表!A57","v":0},null,null,null,null,null,null,{"$f":"40*考勤表!J57","v":0},{"$f":"12*考勤表!I57","v":0},{"$f":"ROUND(E57/20.92/8*考勤表!K57*150%,2)","v":0},{"$f":"ROUND(E57/20.92/8*考勤表!L57*200%,2)","v":0},{"$f":"ROUND(E57/20.92/8*考勤表!M57*300%,2)","v":0},{"$f":"ROUND(E57/20.92/8*考勤表!N57*200%,2)","v":0},{"$f":"L57+M57+N57+O57","v":0},null,null,null,{"$f":"ROUND(E57/20.92/8*考勤表!C57+10%*F57/8*考勤表!C57,2)","v":0},{"$f":"ROUND(E57/20.92/8*考勤表!D57+5%*F57/8*考勤表!D57,2)","v":0},null,{"$f":"SUM(E57:K57)+SUM(P57:S57)-SUM(T57:V57)","v":0},{"$f":"社會保障系統!F57","v":0},{"$f":"社會保障系統!J57","v":0},{"$f":"社會保障系統!V57","v":0},{"$f":"社會保障系統!X57","v":0},{"$f":"SUM(X57:AA57)","v":0},{"$f":"W57-AB57","v":0},{"$f":"IF(AC57<=1600,0,AC57-1600)","v":0},{"$f":"IF(AD57>100000,AD57*0.45-15375,IF(AD57>80000,AD57*0.4-10375,IF(AD57>60000,AD57*0.35-6375,IF(AD57>40000,AD57*0.3-3375,IF(AD57>20000,AD57*0.25-1375,IF(AD57>5000,AD57*0.2-375,IF(AD57>2000,AD57*0.15-125,IF(AD57>500,AD57*0.1-25,AD57*0.05))))))))","v":0},null,null,null,{"$f":"W57-AB57-AG57+AH57-AF57-ROUND(AE57,2)","v":0}]
[14,null,{"$f":"考勤表!A58","v":0},null,null,null,null,null,null,{"$f":"40*考勤表!J58","v":0},{"$f":"12*考勤表!I58","v":0},{"$f":"ROUND(E58/20.92/8*考勤表!K58*150%,2)","v":0},{"$f":"ROUND(E58/20.92/8*考勤表!L58*200%,2)","v":0},{"$f":"ROUND(E58/20.92/8*考勤表!M58*300%,2)","v":0},{"$f":"ROUND(E58/20.92/8*考勤表!N58*200%,2)","v":0},{"$f":"L58+M58+N58+O58","v":0},null,null,null,{"$f":"ROUND(E58/20.92/8*考勤表!C58+10%*F58/8*考勤表!C58,2)","v":0},{"$f":"ROUND(E58/20.92/8*考勤表!D58+5%*F58/8*考勤表!D58,2)","v":0},null,{"$f":"SUM(E58:K58)+SUM(P58:S58)-SUM(T58:V58)","v":0},{"$f":"社會保障系統!F58","v":0},{"$f":"社會保障系統!J58","v":0},{"$f":"社會保障系統!V58","v":0},{"$f":"社會保障系統!X58","v":0},{"$f":"SUM(X58:AA58)","v":0},{"$f":"W58-AB58","v":0},{"$f":"IF(AC58<=1600,0,AC58-1600)","v":0},{"$f":"IF(AD58>100000,AD58*0.45-15375,IF(AD58>80000,AD58*0.4-10375,IF(AD58>60000,AD58*0.35-6375,IF(AD58>40000,AD58*0.3-3375,IF(AD58>20000,AD58*0.25-1375,IF(AD58>5000,AD58*0.2-375,IF(AD58>2000,AD58*0.15-125,IF(AD58>500,AD58*0.1-25,AD58*0.05))))))))","v":0},null,null,null,{"$f":"W58-AB58-AG58+AH58-AF58-ROUND(AE58,2)","v":0}]
[15,null,{"$f":"考勤表!A59","v":0},null,null,null,null,null,null,{"$f":"40*考勤表!J59","v":0},{"$f":"12*考勤表!I59","v":0},{"$f":"ROUND(E59/20.92/8*考勤表!K59*150%,2)","v":0},{"$f":"ROUND(E59/20.92/8*考勤表!L59*200%,2)","v":0},{"$f":"ROUND(E59/20.92/8*考勤表!M59*300%,2)","v":0},{"$f":"ROUND(E59/20.92/8*考勤表!N59*200%,2)","v":0},{"$f":"L59+M59+N59+O59","v":0},null,null,null,{"$f":"ROUND(E59/20.92/8*考勤表!C59+10%*F59/8*考勤表!C59,2)","v":0},{"$f":"ROUND(E59/20.92/8*考勤表!D59+5%*F59/8*考勤表!D59,2)","v":0},null,{"$f":"SUM(E59:K59)+SUM(P59:S59)-SUM(T59:V59)","v":0},{"$f":"社會保障系統!F59","v":0},{"$f":"社會保障系統!J59","v":0},{"$f":"社會保障系統!V59","v":0},{"$f":"社會保障系統!X59","v":0},{"$f":"SUM(X59:AA59)","v":0},{"$f":"W59-AB59","v":0},{"$f":"IF(AC59<=1600,0,AC59-1600)","v":0},{"$f":"IF(AD59>100000,AD59*0.45-15375,IF(AD59>80000,AD59*0.4-10375,IF(AD59>60000,AD59*0.35-6375,IF(AD59>40000,AD59*0.3-3375,IF(AD59>20000,AD59*0.25-1375,IF(AD59>5000,AD59*0.2-375,IF(AD59>2000,AD59*0.15-125,IF(AD59>500,AD59*0.1-25,AD59*0.05))))))))","v":0},null,null,null,{"$f":"W59-AB59-AG59+AH59-AF59-ROUND(AE59,2)","v":0}]
[16,null,{"$f":"考勤表!A60","v":0},null,null,null,null,null,null,{"$f":"40*考勤表!J60","v":0},{"$f":"12*考勤表!I60","v":0},{"$f":"ROUND(E60/20.92/8*考勤表!K60*150%,2)","v":0},{"$f":"ROUND(E60/20.92/8*考勤表!L60*200%,2)","v":0},{"$f":"ROUND(E60/20.92/8*考勤表!M60*300%,2)","v":0},{"$f":"ROUND(E60/20.92/8*考勤表!N60*200%,2)","v":0},{"$f":"L60+M60+N60+O60","v":0},null,null,null,{"$f":"ROUND(E60/20.92/8*考勤表!C60+10%*F60/8*考勤表!C60,2)","v":0},{"$f":"ROUND(E60/20.92/8*考勤表!D60+5%*F60/8*考勤表!D60,2)","v":0},null,{"$f":"SUM(E60:K60)+SUM(P60:S60)-SUM(T60:V60)","v":0},{"$f":"社會保障系統!F60","v":0},{"$f":"社會保障系統!J60","v":0},{"$f":"社會保障系統!V60","v":0},{"$f":"社會保障系統!X60","v":0},{"$f":"SUM(X60:AA60)","v":0},{"$f":"W60-AB60","v":0},{"$f":"IF(AC60<=1600,0,AC60-1600)","v":0},{"$f":"IF(AD60>100000,AD60*0.45-15375,IF(AD60>80000,AD60*0.4-10375,IF(AD60>60000,AD60*0.35-6375,IF(AD60>40000,AD60*0.3-3375,IF(AD60>20000,AD60*0.25-1375,IF(AD60>5000,AD60*0.2-375,IF(AD60>2000,AD60*0.15-125,IF(AD60>500,AD60*0.1-25,AD60*0.05))))))))","v":0},null,null,null,{"$f":"W60-AB60-AG60+AH60-AF60-ROUND(AE60,2)","v":0}]
[17,null,{"$f":"考勤表!A61","v":0},null,null,null,null,null,null,{"$f":"40*考勤表!J61","v":0},{"$f":"12*考勤表!I61","v":0},{"$f":"ROUND(E61/20.92/8*考勤表!K61*150%,2)","v":0},{"$f":"ROUND(E61/20.92/8*考勤表!L61*200%,2)","v":0},{"$f":"ROUND(E61/20.92/8*考勤表!M61*300%,2)","v":0},{"$f":"ROUND(E61/20.92/8*考勤表!N61*200%,2)","v":0},{"$f":"L61+M61+N61+O61","v":0},null,null,null,{"$f":"ROUND(E61/20.92/8*考勤表!C61+10%*F61/8*考勤表!C61,2)","v":0},{"$f":"ROUND(E61/20.92/8*考勤表!D61+5%*F61/8*考勤表!D61,2)","v":0},null,{"$f":"SUM(E61:K61)+SUM(P61:S61)-SUM(T61:V61)","v":0},{"$f":"社會保障系統!F61","v":0},{"$f":"社會保障系統!J61","v":0},{"$f":"社會保障系統!V61","v":0},{"$f":"社會保障系統!X61","v":0},{"$f":"SUM(X61:AA61)","v":0},{"$f":"W61-AB61","v":0},{"$f":"IF(AC61<=1600,0,AC61-1600)","v":0},{"$f":"IF(AD61>100000,AD61*0.45-15375,IF(AD61>80000,AD61*0.4-10375,IF(AD61>60000,AD61*0.35-6375,IF(AD61>40000,AD61*0.3-3375,IF(AD61>20000,AD61*0.25-1375,IF(AD61>5000,AD61*0.2-375,IF(AD61>2000,AD61*0.15-125,IF(AD61>500,AD61*0.1-25,AD61*0.05))))))))","v":0},null,null,null,{"$f":"W61-AB61-AG61+AH61-AF61-ROUND(AE61,2)","v":0}]
[null,"質管部合計",null,null,{"$f":"SUM(E57:E61)","v":0},0,0,0,0,0,0,0,0,0,0,0,0,0,0,0,0,0,0,0,0,0,0,0,0,0,0,0,0,0,0]
[1,null,{"$f":"考勤表!A63","v":0},null,null,null,null,null,null,{"$f":"40*考勤表!J63","v":0},{"$f":"12*考勤表!I63","v":0},{"$f":"ROUND(E63/20.92/8*考勤表!K63*150%,2)","v":0},{"$f":"ROUND(E63/20.92/8*考勤表!L63*200%,2)","v":0},{"$f":"ROUND(E63/20.92/8*考勤表!M63*300%,2)","v":0},{"$f":"ROUND(E63/20.92/8*考勤表!N63*200%,2)","v":0},{"$f":"L63+M63+N63+O63","v":0},null,null,null,{"$f":"ROUND(E63/20.92/8*考勤表!C63+10%*F63/8*考勤表!C63,2)","v":0},{"$f":"ROUND(E63/20.92/8*考勤表!D63+5%*F63/8*考勤表!D63,2)","v":0},null,{"$f":"SUM(E63:K63)+SUM(P63:S63)-SUM(T63:V63)","v":0},{"$f":"社會保障系統!F63","v":0},{"$f":"社會保障系統!J63","v":0},{"$f":"社會保障系統!V63","v":0},0,{"$f":"SUM(X63:AA63)","v":0},{"$f":"W63-AB63","v":0},{"$f":"IF(AC63<=1600,0,AC63-1600)","v":0},{"$f":"IF(AD63>100000,AD63*0.45-15375,IF(AD63>80000,AD63*0.4-10375,IF(AD63>60000,AD63*0.35-6375,IF(AD63>40000,AD63*0.3-3375,IF(AD63>20000,AD63*0.25-1375,IF(AD63>5000,AD63*0.2-375,IF(AD63>2000,AD63*0.15-125,IF(AD63>500,AD63*0.1-25,AD63*0.05))))))))","v":0},null,null,null,{"$f":"W63-AB63-AG63+AH63-AF63-ROUND(AE63,2)","v":0}]
[2,null,{"$f":"考勤表!A64","v":0},null,null,null,null,null,null,{"$f":"40*考勤表!J64","v":0},{"$f":"12*考勤表!I64","v":0},{"$f":"ROUND(E64/20.92/8*考勤表!K64*150%,2)","v":0},{"$f":"ROUND(E64/20.92/8*考勤表!L64*200%,2)","v":0},{"$f":"ROUND(E64/20.92/8*考勤表!M64*300%,2)","v":0},{"$f":"ROUND(E64/20.92/8*考勤表!N64*200%,2)","v":0},0,null,null,null,{"$f":"ROUND(E64/20.92/8*考勤表!C64+10%*F64/8*考勤表!C64,2)","v":0},{"$f":"ROUND(E64/20.92/8*考勤表!D64+5%*F64/8*考勤表!D64,2)","v":0},null,0,{"$f":"社會保障系統!F64","v":0},{"$f":"社會保障系統!J64","v":0},{"$f":"社會保障系統!V64","v":0},{"$f":"社會保障系統!X64","v":0},0,0,0,0,null,null,null,0]
[3,null,{"$f":"考勤表!A65","v":0},null,null,null,null,null,null,{"$f":"40*考勤表!J65","v":0},{"$f":"12*考勤表!I65","v":0},{"$f":"ROUND(E65/20.92/8*考勤表!K65*150%,2)","v":0},{"$f":"ROUND(E64/20.92/8*考勤表!L65*200%,2)","v":0},{"$f":"ROUND(E64/20.92/8*考勤表!M65*300%,2)","v":0},{"$f":"ROUND(E64/20.92/8*考勤表!N65*200%,2)","v":0},0,null,null,null,{"$f":"ROUND(E65/20.92/8*考勤表!C65+10%*F65/8*考勤表!C65,2)","v":0},{"$f":"ROUND(E65/20.92/8*考勤表!D65+5%*F65/8*考勤表!D65,2)","v":0},null,0,{"$f":"社會保障系統!F65","v":0},{"$f":"社會保障系統!J65","v":0},{"$f":"社會保障系統!V65","v":0},0,0,0,0,0,null,null,null,0]
[4,null,{"$f":"考勤表!A66","v":0},null,null,null,null,null,null,{"$f":"40*考勤表!J66","v":0},{"$f":"12*考勤表!I66","v":0},{"$f":"ROUND(E66/20.92/8*考勤表!K66*150%,2)","v":0},{"$f":"ROUND(E65/20.92/8*考勤表!L66*200%,2)","v":0},{"$f":"ROUND(E65/20.92/8*考勤表!M66*300%,2)","v":0},{"$f":"ROUND(E65/20.92/8*考勤表!N66*200%,2)","v":0},0,null,null,null,{"$f":"ROUND(E66/20.92/8*考勤表!C66+10%*F66/8*考勤表!C66,2)","v":0},{"$f":"ROUND(E66/20.92/8*考勤表!D66+5%*F66/8*考勤表!D66,2)","v":0},null,0,{"$f":"社會保障系統!F66","v":0},{"$f":"社會保障系統!J66","v":0},{"$f":"社會保障系統!V66","v":0},0,0,0,0,0,null,null,null,0]
[5,null,{"$f":"考勤表!A67","v":0},null,null,null,null,null,null,{"$f":"40*考勤表!J67","v":0},{"$f":"12*考勤表!I67","v":0},{"$f":"ROUND(E67/20.92/8*考勤表!K67*150%,2)","v":0},{"$f":"ROUND(E66/20.92/8*考勤表!L67*200%,2)","v":0},{"$f":"ROUND(E66/20.92/8*考勤表!M67*300%,2)","v":0},{"$f":"ROUND(E66/20.92/8*考勤表!N67*200%,2)","v":0},0,null,null,null,{"$f":"ROUND(E67/20.92/8*考勤表!C67+10%*F67/8*考勤表!C67,2)","v":0},{"$f":"ROUND(E67/20.92/8*考勤表!D67+5%*F67/8*考勤表!D67,2)","v":0},null,0,{"$f":"社會保障系統!F67","v":0},{"$f":"社會保障系統!J67","v":0},{"$f":"社會保障系統!V67","v":0},0,0,0,0,0,null,null,null,0]
[6,null,{"$f":"考勤表!A68","v":0},null,null,null,null,null,null,{"$f":"40*考勤表!J68","v":0},{"$f":"12*考勤表!I68","v":0},{"$f":"ROUND(E68/20.92/8*考勤表!K68*150%,2)","v":0},{"$f":"ROUND(E67/20.92/8*考勤表!L68*200%,2)","v":0},{"$f":"ROUND(E67/20.92/8*考勤表!M68*300%,2)","v":0},{"$f":"ROUND(E67/20.92/8*考勤表!N68*200%,2)","v":0},0,null,null,null,{"$f":"ROUND(E68/20.92/8*考勤表!C68+10%*F68/8*考勤表!C68,2)","v":0},{"$f":"ROUND(E68/20.92/8*考勤表!D68+5%*F68/8*考勤表!D68,2)","v":0},null,0,{"$f":"社會保障系統!F68","v":0},{"$f":"社會保障系統!J68","v":0},{"$f":"社會保障系統!V68","v":0},0,0,0,0,0,null,null,null,0]
[7,null,{"$f":"考勤表!A69","v":0},null,null,null,null,null,null,{"$f":"40*考勤表!J69","v":0},{"$f":"12*考勤表!I69","v":0},{"$f":"ROUND(E69/20.92/8*考勤表!K69*150%,2)","v":0},{"$f":"ROUND(E68/20.92/8*考勤表!L69*200%,2)","v":0},{"$f":"ROUND(E68/20.92/8*考勤表!M69*300%,2)","v":0},{"$f":"ROUND(E68/20.92/8*考勤表!N69*200%,2)","v":0},0,null,null,null,{"$f":"ROUND(E69/20.92/8*考勤表!C69+10%*F69/8*考勤表!C69,2)","v":0},{"$f":"ROUND(E69/20.92/8*考勤表!D69+5%*F69/8*考勤表!D69,2)","v":0},null,0,{"$f":"社會保障系統!F69","v":0},{"$f":"社會保障系統!J69","v":0},{"$f":"社會保障系統!V69","v":0},0,0,0,0,0,null,null,null,0]
[8,null,{"$f":"考勤表!A70","v":0},null,null,null,null,null,null,{"$f":"40*考勤表!J70","v":0},{"$f":"12*考勤表!I70","v":0},{"$f":"ROUND(E70/20.92/8*考勤表!K70*150%,2)","v":0},{"$f":"ROUND(E18/20.92/8*考勤表!L70*200%,2)","v":0},{"$f":"ROUND(E18/20.92/8*考勤表!M70*300%,2)","v":0},{"$f":"ROUND(E18/20.92/8*考勤表!N70*200%,2)","v":0},0,null,null,null,{"$f":"ROUND(E70/20.92/8*考勤表!C70+10%*F70/8*考勤表!C70,2)","v":0},{"$f":"ROUND(E70/20.92/8*考勤表!D70+5%*F70/8*考勤表!D70,2)","v":0},null,0,{"$f":"社會保障系統!F70","v":0},{"$f":"社會保障系統!J70","v":0},{"$f":"社會保障系統!V70","v":0},0,0,0,0,0,null,null,null,0]
[9,null,{"$f":"考勤表!A71","v":0},null,null,null,null,null,null,{"$f":"40*考勤表!J71","v":0},{"$f":"12*考勤表!I71","v":0},{"$f":"ROUND(E71/20.92/8*考勤表!K71*150%,2)","v":0},{"$f":"ROUND(E70/20.92/8*考勤表!L71*200%,2)","v":0},{"$f":"ROUND(E70/20.92/8*考勤表!M71*300%,2)","v":0},{"$f":"ROUND(E70/20.92/8*考勤表!N71*200%,2)","v":0},0,null,null,null,{"$f":"ROUND(E71/20.92/8*考勤表!C71+10%*F71/8*考勤表!C71,2)","v":0},{"$f":"ROUND(E71/20.92/8*考勤表!D71+5%*F71/8*考勤表!D71,2)","v":0},null,0,{"$f":"社會保障系統!F71","v":0},{"$f":"社會保障系統!J71","v":0},{"$f":"社會保障系統!V71","v":0},0,0,0,0,0,null,null,null,0]
[10,null,{"$f":"考勤表!A72","v":0},null,null,null,null,null,null,{"$f":"40*考勤表!J72","v":0},{"$f":"12*考勤表!I72","v":0},{"$f":"ROUND(E72/20.92/8*考勤表!K72*150%,2)","v":0},{"$f":"ROUND(E71/20.92/8*考勤表!L72*200%,2)","v":0},{"$f":"ROUND(E71/20.92/8*考勤表!M72*300%,2)","v":0},{"$f":"ROUND(E71/20.92/8*考勤表!N72*200%,2)","v":0},0,null,null,null,{"$f":"ROUND(E72/20.92/8*考勤表!C72+10%*F72/8*考勤表!C72,2)","v":0},{"$f":"ROUND(E72/20.92/8*考勤表!D72+5%*F72/8*考勤表!D72,2)","v":0},null,0,{"$f":"社會保障系統!F72","v":0},{"$f":"社會保障系統!J72","v":0},{"$f":"社會保障系統!V72","v":0},0,0,0,0,0,null,null,null,0]
[11,null,{"$f":"考勤表!A73","v":0},null,null,null,null,null,null,{"$f":"40*考勤表!J73","v":0},{"$f":"12*考勤表!I73","v":0},{"$f":"ROUND(E73/20.92/8*考勤表!K73*150%,2)","v":0},{"$f":"ROUND(E72/20.92/8*考勤表!L73*200%,2)","v":0},{"$f":"ROUND(E72/20.92/8*考勤表!M73*300%,2)","v":0},{"$f":"ROUND(E72/20.92/8*考勤表!N73*200%,2)","v":0},0,null,null,null,{"$f":"ROUND(E73/20.92/8*考勤表!C73+10%*F73/8*考勤表!C73,2)","v":0},{"$f":"ROUND(E73/20.92/8*考勤表!D73+5%*F73/8*考勤表!D73,2)","v":0},null,0,{"$f":"社會保障系統!F73","v":0},{"$f":"社會保障系統!J73","v":0},{"$f":"社會保障系統!V73","v":0},0,0,0,0,0,null,null,null,0]
[12,null,{"$f":"考勤表!A74","v":0},null,null,null,null,null,null,{"$f":"40*考勤表!J74","v":0},{"$f":"12*考勤表!I74","v":0},{"$f":"ROUND(E74/20.92/8*考勤表!K74*150%,2)","v":0},{"$f":"ROUND(E73/20.92/8*考勤表!L74*200%,2)","v":0},{"$f":"ROUND(E73/20.92/8*考勤表!M74*300%,2)","v":0},{"$f":"ROUND(E73/20.92/8*考勤表!N74*200%,2)","v":0},0,null,null,null,{"$f":"ROUND(E74/20.92/8*考勤表!C74+10%*F74/8*考勤表!C74,2)","v":0},{"$f":"ROUND(E74/20.92/8*考勤表!D74+5%*F74/8*考勤表!D74,2)","v":0},null,0,{"$f":"社會保障系統!F74","v":0},{"$f":"社會保障系統!J74","v":0},{"$f":"社會保障系統!V74","v":0},0,0,0,0,0,null,null,null,0]
[13,null,{"$f":"考勤表!A75","v":0},null,null,null,null,null,null,{"$f":"40*考勤表!J75","v":0},{"$f":"12*考勤表!I75","v":0},{"$f":"ROUND(E75/20.92/8*考勤表!K75*150%,2)","v":0},{"$f":"ROUND(E74/20.92/8*考勤表!L75*200%,2)","v":0},{"$f":"ROUND(E74/20.92/8*考勤表!M75*300%,2)","v":0},{"$f":"ROUND(E74/20.92/8*考勤表!N75*200%,2)","v":0},0,null,null,null,{"$f":"ROUND(E75/20.92/8*考勤表!C75+10%*F75/8*考勤表!C75,2)","v":0},{"$f":"ROUND(E75/20.92/8*考勤表!D75+5%*F75/8*考勤表!D75,2)","v":0},null,0,{"$f":"社會保障系統!F75","v":0},{"$f":"社會保障系統!J75","v":0},{"$f":"社會保障系統!V75","v":0},0,0,0,0,0,null,null,null,0]
[14,null,{"$f":"考勤表!A76","v":0},null,null,null,null,null,null,{"$f":"40*考勤表!J76","v":0},{"$f":"12*考勤表!I76","v":0},{"$f":"ROUND(E76/20.92/8*考勤表!K76*150%,2)","v":0},{"$f":"ROUND(E75/20.92/8*考勤表!L76*200%,2)","v":0},{"$f":"ROUND(E75/20.92/8*考勤表!M76*300%,2)","v":0},{"$f":"ROUND(E75/20.92/8*考勤表!N76*200%,2)","v":0},0,null,null,null,{"$f":"ROUND(E76/20.92/8*考勤表!C76+10%*F76/8*考勤表!C76,2)","v":0},{"$f":"ROUND(E76/20.92/8*考勤表!D76+5%*F76/8*考勤表!D76,2)","v":0},null,0,{"$f":"社會保障系統!F76","v":0},{"$f":"社會保障系統!J76","v":0},{"$f":"社會保障系統!V76","v":0},0,0,0,0,0,null,null,null,0]
[15,null,{"$f":"考勤表!A77","v":0},null,null,null,null,null,null,{"$f":"40*考勤表!J77","v":0},{"$f":"12*考勤表!I77","v":0},{"$f":"ROUND(E77/20.92/8*考勤表!K77*150%,2)","v":0},{"$f":"ROUND(E76/20.92/8*考勤表!L77*200%,2)","v":0},{"$f":"ROUND(E76/20.92/8*考勤表!M77*300%,2)","v":0},{"$f":"ROUND(E76/20.92/8*考勤表!N77*200%,2)","v":0},0,null,null,null,{"$f":"ROUND(E77/20.92/8*考勤表!C77+10%*F77/8*考勤表!C77,2)","v":0},{"$f":"ROUND(E77/20.92/8*考勤表!D77+5%*F77/8*考勤表!D77,2)","v":0},null,0,{"$f":"社會保障系統!F77","v":0},{"$f":"社會保障系統!J77","v":0},{"$f":"社會保障系統!V77","v":0},0,0,0,0,0,null,null,null,0]
[16,null,{"$f":"考勤表!A78","v":0},null,null,null,null,null,null,{"$f":"40*考勤表!J78","v":0},{"$f":"12*考勤表!I78","v":0},{"$f":"ROUND(E78/20.92/8*考勤表!K78*150%,2)","v":0},{"$f":"ROUND(E77/20.92/8*考勤表!L78*200%,2)","v":0},{"$f":"ROUND(E77/20.92/8*考勤表!M78*300%,2)","v":0},{"$f":"ROUND(E77/20.92/8*考勤表!N78*200%,2)","v":0},0,null,null,null,{"$f":"ROUND(E78/20.92/8*考勤表!C78+10%*F78/8*考勤表!C78,2)","v":0},{"$f":"ROUND(E78/20.92/8*考勤表!D78+5%*F78/8*考勤表!D78,2)","v":0},null,0,{"$f":"社會保障系統!F78","v":0},{"$f":"社會保障系統!J78","v":0},{"$f":"社會保障系統!V78","v":0},0,0,0,0,0,null,null,null,0]
[null,"人事行政部合計",null,null,{"$f":"SUM(E63:E78)","v":0},0,0,0,0,0,0,0,0,0,0,0,0,0,0,0,0,0,0,0,0,0,0,0,0,0,0,0,0,0,0]
[null,"總  計",null,null,{"$f":"SUM(E14,E25,E36,E44,E56,E62,E79)","v":0},0,0,0,0,0,0,0,0,0,0,0,0,0,0,0,0,0,0,0,0,0,0,0,0,0,0,0,0,0,0]
[]
[null,"備 注："]
[null,"1."]
[null,"2."]
[null,"3."]

{"sheet":"考勤表","index":2,"n_rows":3,"n_cols":18,"rows_kept":3,"cut":false,"hidden":false,"merged":[[43,0,43,17],[55,0,55,17],[61,0,61,17],[1,0,2,0],[1,1,2,1],[1,2,2,2],[1,3,2,3],[1,4,2,4],[1,5,2,5],[1,6,2,6],[1,7,2,7],[1,8,2,8],[1,9,2,9],[1,10,2,10],[1,11,2,11],[1,14,2,14],[0,0,0,17],[1,12,1,13],[13,0,13,17],[24,0,24,17],[35,0,35,17],[1,15,2,15],[1,16,2,16],[1,17,2,17]]}
["XXXX年XX月考勤"]
["姓 名","部 門","事假\n(H)","病假\n(H)","喪假\n(天)","婚假\n(天)","年假\n(天)","產假\n(天)","夜餐\n(天)","夜值","加班\n(H)","六、日\n(H)","元旦春節加班",null,"早退\n(次)","遲到\n(次)","曠工\n(H)","備 注"]
[null,null,null,null,null,null,null,null,null,null,null,null,300,200]

{"sheet":"報稅","index":3,"n_rows":81,"n_cols":7,"rows_kept":81,"cut":false,"hidden":false,"merged":[[1,1,1,6]]}
[]
[null,"XXX XXX 公司 X 月報稅表"]
[]
[null,"身份證號碼","姓名","納稅人收入額","應納稅所得額","稅率","稅金"]
[null,{"$f":"薪酬構成!D4","v":0},{"$f":"薪酬構成!C4","v":0},{"$f":"薪酬構成!AC4","v":0},{"$f":"薪酬構成!AD4","v":0},{"$f":"IF(E5>100000,45%,IF(E5>80000,40%,IF(E5>60000,35%,IF(E5>40000,30%,IF(E5>20000,25%,IF(E5>5000,20%,IF(E5>2000,15%,IF(E5>500,10%,5%))))))))","v":0.05},{"$f":"薪酬構成!AE4","v":0}]
[null,{"$f":"薪酬構成!D5","v":0},{"$f":"薪酬構成!C5","v":0},{"$f":"薪酬構成!AC5","v":0},{"$f":"薪酬構成!AD5","v":0},0.05,{"$f":"薪酬構成!AE5","v":0}]
[null,{"$f":"薪酬構成!D6","v":0},{"$f":"薪酬構成!C6","v":0},{"$f":"薪酬構成!AC6","v":0},{"$f":"薪酬構成!AD6","v":0},0.05,{"$f":"薪酬構成!AE6","v":0}]
[null,{"$f":"薪酬構成!D7","v":0},{"$f":"薪酬構成!C7","v":0},{"$f":"薪酬構成!AC7","v":0},{"$f":"薪酬構成!AD7","v":0},0.05,{"$f":"薪酬構成!AE7","v":0}]
[null,{"$f":"薪酬構成!D8","v":0},{"$f":"薪酬構成!C8","v":0},{"$f":"薪酬構成!AC8","v":0},{"$f":"薪酬構成!AD8","v":0},0.05,{"$f":"薪酬構成!AE8","v":0}]
[null,{"$f":"薪酬構成!D9","v":0},{"$f":"薪酬構成!C9","v":0},{"$f":"薪酬構成!AC9","v":0},{"$f":"薪酬構成!AD9","v":0},0.05,{"$f":"薪酬構成!AE9","v":0}]
[null,{"$f":"薪酬構成!D10","v":0},{"$f":"薪酬構成!C10","v":0},{"$f":"薪酬構成!AC10","v":0},{"$f":"薪酬構成!AD10","v":0},0.05,{"$f":"薪酬構成!AE10","v":0}]
[null,{"$f":"薪酬構成!D11","v":0},{"$f":"薪酬構成!C11","v":0},{"$f":"薪酬構成!AC11","v":0},{"$f":"薪酬構成!AD11","v":0},0.05,{"$f":"薪酬構成!AE11","v":0}]
[null,{"$f":"薪酬構成!D12","v":0},{"$f":"薪酬構成!C12","v":0},{"$f":"薪酬構成!AC12","v":0},{"$f":"薪酬構成!AD12","v":0},0.05,{"$f":"薪酬構成!AE12","v":0}]
[null,{"$f":"薪酬構成!D13","v":0},{"$f":"薪酬構成!C13","v":0},{"$f":"薪酬構成!AC13","v":0},{"$f":"薪酬構成!AD13","v":0},0.05,{"$f":"薪酬構成!AE13","v":0}]
[null,{"$f":"薪酬構成!D14","v":0},{"$f":"薪酬構成!C14","v":0},{"$f":"薪酬構成!AC14","v":0},{"$f":"薪酬構成!AD14","v":0},0.05,{"$f":"薪酬構成!AE14","v":0}]
[null,{"$f":"薪酬構成!D15","v":0},{"$f":"薪酬構成!C15","v":0},{"$f":"薪酬構成!AC15","v":0},{"$f":"薪酬構成!AD15","v":0},0.05,{"$f":"薪酬構成!AE15","v":0}]
[null,{"$f":"薪酬構成!D16","v":0},{"$f":"薪酬構成!C16","v":0},{"$f":"薪酬構成!AC16","v":0},{"$f":"薪酬構成!AD16","v":0},0.05,{"$f":"薪酬構成!AE16","v":0}]
[null,{"$f":"薪酬構成!D17","v":0},{"$f":"薪酬構成!C17","v":0},{"$f":"薪酬構成!AC17","v":0},{"$f":"薪酬構成!AD17","v":0},0.05,{"$f":"薪酬構成!AE17","v":0}]
[null,{"$f":"薪酬構成!D18","v":0},{"$f":"薪酬構成!C18","v":0},{"$f":"薪酬構成!AC18","v":0},{"$f":"薪酬構成!AD18","v":0},0.05,{"$f":"薪酬構成!AE18","v":0}]
[null,{"$f":"薪酬構成!D19","v":0},{"$f":"薪酬構成!C19","v":0},{"$f":"薪酬構成!AC19","v":0},{"$f":"薪酬構成!AD19","v":0},0.05,{"$f":"薪酬構成!AE19","v":0}]
[null,{"$f":"薪酬構成!D20","v":0},{"$f":"薪酬構成!C20","v":0},{"$f":"薪酬構成!AC20","v":0},{"$f":"薪酬構成!AD20","v":0},0.05,{"$f":"薪酬構成!AE20","v":0}]
[null,{"$f":"薪酬構成!D21","v":0},{"$f":"薪酬構成!C21","v":0},{"$f":"薪酬構成!AC21","v":0},{"$f":"薪酬構成!AD21","v":0},0.05,{"$f":"薪酬構成!AE21","v":0}]
[null,{"$f":"薪酬構成!D22","v":0},{"$f":"薪酬構成!C22","v":0},{"$f":"薪酬構成!AC22","v":0},{"$f":"薪酬構成!AD22","v":0},0.05,{"$f":"薪酬構成!AE22","v":0}]
[null,{"$f":"薪酬構成!D23","v":0},{"$f":"薪酬構成!C23","v":0},{"$f":"薪酬構成!AC23","v":0},{"$f":"薪酬構成!AD23","v":0},0.05,{"$f":"薪酬構成!AE23","v":0}]
[null,{"$f":"薪酬構成!D24","v":0},{"$f":"薪酬構成!C24","v":0},{"$f":"薪酬構成!AC24","v":0},{"$f":"薪酬構成!AD24","v":0},0.05,{"$f":"薪酬構成!AE24","v":0}]
[null,{"$f":"薪酬構成!D25","v":0},{"$f":"薪酬構成!C25","v":0},{"$f":"薪酬構成!AC25","v":0},{"$f":"薪酬構成!AD25","v":0},0.05,{"$f":"薪酬構成!AE25","v":0}]
[null,{"$f":"薪酬構成!D26","v":0},{"$f":"薪酬構成!C26","v":0},{"$f":"薪酬構成!AC26","v":0},{"$f":"薪酬構成!AD26","v":0},0.05,{"$f":"薪酬構成!AE26","v":0}]
[null,{"$f":"薪酬構成!D27","v":0},{"$f":"薪酬構成!C27","v":0},{"$f":"薪酬構成!AC27","v":0},{"$f":"薪酬構成!AD27","v":0},0.05,{"$f":"薪酬構成!AE27","v":0}]
[null,{"$f":"薪酬構成!D28","v":0},{"$f":"薪酬構成!C28","v":0},{"$f":"薪酬構成!AC28","v":0},{"$f":"薪酬構成!AD28","v":0},0.05,{"$f":"薪酬構成!AE28","v":0}]
[null,{"$f":"薪酬構成!D29","v":0},{"$f":"薪酬構成!C29","v":0},{"$f":"薪酬構成!AC29","v":0},{"$f":"薪酬構成!AD29","v":0},0.05,{"$f":"薪酬構成!AE29","v":0}]
[null,{"$f":"薪酬構成!D30","v":0},{"$f":"薪酬構成!C30","v":0},{"$f":"薪酬構成!AC30","v":0},{"$f":"薪酬構成!AD30","v":0},0.05,{"$f":"薪酬構成!AE30","v":0}]
[null,{"$f":"薪酬構成!D31","v":0},{"$f":"薪酬構成!C31","v":0},{"$f":"薪酬構成!AC31","v":0},{"$f":"薪酬構成!AD31","v":0},0.05,{"$f":"薪酬構成!AE31","v":0}]
[null,{"$f":"薪酬構成!D32","v":0},{"$f":"薪酬構成!C32","v":0},{"$f":"薪酬構成!AC32","v":0},{"$f":"薪酬構成!AD32","v":0},0.05,{"$f":"薪酬構成!AE32","v":0}]
[null,{"$f":"薪酬構成!D33","v":0},{"$f":"薪酬構成!C33","v":0},{"$f":"薪酬構成!AC33","v":0},{"$f":"薪酬構成!AD33","v":0},0.05,{"$f":"薪酬構成!AE33","v":0}]
[null,{"$f":"薪酬構成!D34","v":0},{"$f":"薪酬構成!C34","v":0},{"$f":"薪酬構成!AC34","v":0},{"$f":"薪酬構成!AD34","v":0},0.05,{"$f":"薪酬構成!AE34","v":0}]
[null,{"$f":"薪酬構成!D35","v":0},{"$f":"薪酬構成!C35","v":0},{"$f":"薪酬構成!AC35","v":0},{"$f":"薪酬構成!AD35","v":0},0.05,{"$f":"薪酬構成!AE35","v":0}]
[null,{"$f":"薪酬構成!D36","v":0},{"$f":"薪酬構成!C36","v":0},{"$f":"薪酬構成!AC36","v":0},{"$f":"薪酬構成!AD36","v":0},0.05,{"$f":"薪酬構成!AE36","v":0}]
[null,{"$f":"薪酬構成!D37","v":0},{"$f":"薪酬構成!C37","v":0},{"$f":"薪酬構成!AC37","v":0},{"$f":"薪酬構成!AD37","v":0},0.05,{"$f":"薪酬構成!AE37","v":0}]
[null,{"$f":"薪酬構成!D38","v":0},{"$f":"薪酬構成!C38","v":0},{"$f":"薪酬構成!AC38","v":0},{"$f":"薪酬構成!AD38","v":0},0.05,{"$f":"薪酬構成!AE38","v":0}]
[null,{"$f":"薪酬構成!D39","v":0},{"$f":"薪酬構成!C39","v":0},{"$f":"薪酬構成!AC39","v":0},{"$f":"薪酬構成!AD39","v":0},0.05,{"$f":"薪酬構成!AE39","v":0}]
[null,{"$f":"薪酬構成!D40","v":0},{"$f":"薪酬構成!C40","v":0},{"$f":"薪酬構成!AC40","v":0},{"$f":"薪酬構成!AD40","v":0},0.05,{"$f":"薪酬構成!AE40","v":0}]
[null,{"$f":"薪酬構成!D41","v":0},{"$f":"薪酬構成!C41","v":0},{"$f":"薪酬構成!AC41","v":0},{"$f":"薪酬構成!AD41","v":0},0.05,{"$f":"薪酬構成!AE41","v":0}]
[null,{"$f":"薪酬構成!D42","v":0},{"$f":"薪酬構成!C42","v":0},{"$f":"薪酬構成!AC42","v":0},{"$f":"薪酬構成!AD42","v":0},0.05,{"$f":"薪酬構成!AE42","v":0}]
[null,{"$f":"薪酬構成!D43","v":0},{"$f":"薪酬構成!C43","v":0},{"$f":"薪酬構成!AC43","v":0},{"$f":"薪酬構成!AD43","v":0},0.05,{"$f":"薪酬構成!AE43","v":0}]
[null,{"$f":"薪酬構成!D44","v":0},{"$f":"薪酬構成!C44","v":0},{"$f":"薪酬構成!AC44","v":0},{"$f":"薪酬構成!AD44","v":0},0.05,{"$f":"薪酬構成!AE44","v":0}]
[null,{"$f":"薪酬構成!D45","v":0},{"$f":"薪酬構成!C45","v":0},{"$f":"薪酬構成!AC45","v":0},{"$f":"薪酬構成!AD45","v":0},0.05,{"$f":"薪酬構成!AE45","v":0}]
[null,{"$f":"薪酬構成!D46","v":0},{"$f":"薪酬構成!C46","v":0},{"$f":"薪酬構成!AC46","v":0},{"$f":"薪酬構成!AD46","v":0},0.05,{"$f":"薪酬構成!AE46","v":0}]
[null,{"$f":"薪酬構成!D47","v":0},{"$f":"薪酬構成!C47","v":0},{"$f":"薪酬構成!AC47","v":0},{"$f":"薪酬構成!AD47","v":0},0.05,{"$f":"薪酬構成!AE47","v":0}]
[null,{"$f":"薪酬構成!D48","v":0},{"$f":"薪酬構成!C48","v":0},{"$f":"薪酬構成!AC48","v":0},{"$f":"薪酬構成!AD48","v":0},0.05,{"$f":"薪酬構成!AE48","v":0}]
[null,{"$f":"薪酬構成!D49","v":0},{"$f":"薪酬構成!C49","v":0},{"$f":"薪酬構成!AC49","v":0},{"$f":"薪酬構成!AD49","v":0},0.05,{"$f":"薪酬構成!AE49","v":0}]
[null,{"$f":"薪酬構成!D50","v":0},{"$f":"薪酬構成!C50","v":0},{"$f":"薪酬構成!AC50","v":0},{"$f":"薪酬構成!AD50","v":0},0.05,{"$f":"薪酬構成!AE50","v":0}]
[null,{"$f":"薪酬構成!D51","v":0},{"$f":"薪酬構成!C51","v":0},{"$f":"薪酬構成!AC51","v":0},{"$f":"薪酬構成!AD51","v":0},0.05,{"$f":"薪酬構成!AE51","v":0}]
[null,{"$f":"薪酬構成!D52","v":0},{"$f":"薪酬構成!C52","v":0},{"$f":"薪酬構成!AC52","v":0},{"$f":"薪酬構成!AD52","v":0},0.05,{"$f":"薪酬構成!AE52","v":0}]
[null,{"$f":"薪酬構成!D53","v":0},{"$f":"薪酬構成!C53","v":0},{"$f":"薪酬構成!AC53","v":0},{"$f":"薪酬構成!AD53","v":0},0.05,{"$f":"薪酬構成!AE53","v":0}]
[null,{"$f":"薪酬構成!D54","v":0},{"$f":"薪酬構成!C54","v":0},{"$f":"薪酬構成!AC54","v":0},{"$f":"薪酬構成!AD54","v":0},0.05,{"$f":"薪酬構成!AE54","v":0}]
[null,{"$f":"薪酬構成!D55","v":0},{"$f":"薪酬構成!C55","v":0},{"$f":"薪酬構成!AC55","v":0},{"$f":"薪酬構成!AD55","v":0},0.05,{"$f":"薪酬構成!AE55","v":0}]
[null,{"$f":"薪酬構成!D56","v":0},{"$f":"薪酬構成!C56","v":0},{"$f":"薪酬構成!AC56","v":0},{"$f":"薪酬構成!AD56","v":0},0.05,{"$f":"薪酬構成!AE56","v":0}]
[null,{"$f":"薪酬構成!D57","v":0},{"$f":"薪酬構成!C57","v":0},{"$f":"薪酬構成!AC57","v":0},{"$f":"薪酬構成!AD57","v":0},0.05,{"$f":"薪酬構成!AE57","v":0}]
[null,{"$f":"薪酬構成!D58","v":0},{"$f":"薪酬構成!C58","v":0},{"$f":"薪酬構成!AC58","v":0},{"$f":"薪酬構成!AD58","v":0},0.05,{"$f":"薪酬構成!AE58","v":0}]
[null,{"$f":"薪酬構成!D59","v":0},{"$f":"薪酬構成!C59","v":0},{"$f":"薪酬構成!AC59","v":0},{"$f":"薪酬構成!AD59","v":0},0.05,{"$f":"薪酬構成!AE59","v":0}]
[null,{"$f":"薪酬構成!D60","v":0},{"$f":"薪酬構成!C60","v":0},{"$f":"薪酬構成!AC60","v":0},{"$f":"薪酬構成!AD60","v":0},0.05,{"$f":"薪酬構成!AE60","v":0}]
[null,{"$f":"薪酬構成!D61","v":0},{"$f":"薪酬構成!C61","v":0},{"$f":"薪酬構成!AC61","v":0},{"$f":"薪酬構成!AD61","v":0},0.05,{"$f":"薪酬構成!AE61","v":0}]
[null,{"$f":"薪酬構成!D62","v":0},{"$f":"薪酬構成!C62","v":0},{"$f":"薪酬構成!AC62","v":0},{"$f":"薪酬構成!AD62","v":0},0.05,{"$f":"薪酬構成!AE62","v":0}]
[null,{"$f":"薪酬構成!D63","v":0},{"$f":"薪酬構成!C63","v":0},{"$f":"薪酬構成!AC63","v":0},{"$f":"薪酬構成!AD63","v":0},0.05,{"$f":"薪酬構成!AE63","v":0}]
[null,{"$f":"薪酬構成!D64","v":0},{"$f":"薪酬構成!C64","v":0},{"$f":"薪酬構成!AC64","v":0},{"$f":"薪酬構成!AD64","v":0},0.05,{"$f":"薪酬構成!AE64","v":0}]
[null,{"$f":"薪酬構成!D65","v":0},{"$f":"薪酬構成!C65","v":0},{"$f":"薪酬構成!AC65","v":0},{"$f":"薪酬構成!AD65","v":0},0.05,{"$f":"薪酬構成!AE65","v":0}]
[null,{"$f":"薪酬構成!D66","v":0},{"$f":"薪酬構成!C66","v":0},{"$f":"薪酬構成!AC66","v":0},{"$f":"薪酬構成!AD66","v":0},0.05,{"$f":"薪酬構成!AE66","v":0}]
[null,{"$f":"薪酬構成!D67","v":0},{"$f":"薪酬構成!C67","v":0},{"$f":"薪酬構成!AC67","v":0},{"$f":"薪酬構成!AD67","v":0},0.05,{"$f":"薪酬構成!AE67","v":0}]
[null,{"$f":"薪酬構成!D68","v":0},{"$f":"薪酬構成!C68","v":0},{"$f":"薪酬構成!AC68","v":0},{"$f":"薪酬構成!AD68","v":0},{"$f":"IF(E69>100000,45%,IF(E69>80000,40%,IF(E69>60000,35%,IF(E69>40000,30%,IF(E69>20000,25%,IF(E69>5000,20%,IF(E69>2000,15%,IF(E69>500,10%,5%))))))))","v":0.05},{"$f":"薪酬構成!AE68","v":0}]
[null,{"$f":"薪酬構成!D69","v":0},{"$f":"薪酬構成!C69","v":0},{"$f":"薪酬構成!AC69","v":0},{"$f":"薪酬構成!AD69","v":0},0.05,{"$f":"薪酬構成!AE69","v":0}]
[null,{"$f":"薪酬構成!D70","v":0},{"$f":"薪酬構成!C70","v":0},{"$f":"薪酬構成!AC70","v":0},{"$f":"薪酬構成!AD70","v":0},0.05,{"$f":"薪酬構成!AE70","v":0}]
[null,{"$f":"薪酬構成!D71","v":0},{"$f":"薪酬構成!C71","v":0},{"$f":"薪酬構成!AC71","v":0},{"$f":"薪酬構成!AD71","v":0},0.05,{"$f":"薪酬構成!AE71","v":0}]
[null,{"$f":"薪酬構成!D72","v":0},{"$f":"薪酬構成!C72","v":0},{"$f":"薪酬構成!AC72","v":0},{"$f":"薪酬構成!AD72","v":0},0.05,{"$f":"薪酬構成!AE72","v":0}]
[null,{"$f":"薪酬構成!D73","v":0},{"$f":"薪酬構成!C73","v":0},{"$f":"薪酬構成!AC73","v":0},{"$f":"薪酬構成!AD73","v":0},0.05,{"$f":"薪酬構成!AE73","v":0}]
[null,{"$f":"薪酬構成!D74","v":0},{"$f":"薪酬構成!C74","v":0},{"$f":"薪酬構成!AC74","v":0},{"$f":"薪酬構成!AD74","v":0},0.05,{"$f":"薪酬構成!AE74","v":0}]
[null,{"$f":"薪酬構成!D75","v":0},{"$f":"薪酬構成!C75","v":0},{"$f":"薪酬構成!AC75","v":0},{"$f":"薪酬構成!AD75","v":0},0.05,{"$f":"薪酬構成!AE75","v":0}]
[null,{"$f":"薪酬構成!D76","v":0},{"$f":"薪酬構成!C76","v":0},{"$f":"薪酬構成!AC76","v":0},{"$f":"薪酬構成!AD76","v":0},0.05,{"$f":"薪酬構成!AE76","v":0}]
[null,{"$f":"薪酬構成!D77","v":0},{"$f":"薪酬構成!C77","v":0},{"$f":"薪酬構成!AC77","v":0},{"$f":"薪酬構成!AD77","v":0},0.05,{"$f":"薪酬構成!AE77","v":0}]
[null,{"$f":"薪酬構成!D78","v":0},{"$f":"薪酬構成!C78","v":0},{"$f":"薪酬構成!AC78","v":0},{"$f":"薪酬構成!AD78","v":0},0.05,{"$f":"薪酬構成!AE78","v":0}]
[null,{"$f":"薪酬構成!D79","v":0},{"$f":"薪酬構成!C79","v":0},{"$f":"薪酬構成!AC79","v":0},{"$f":"薪酬構成!AD79","v":0},0.05,{"$f":"薪酬構成!AE79","v":0}]
[" ","合  計",{"$f":"薪酬構成!C80","v":0},{"$f":"薪酬構成!AC80","v":0},{"$f":"薪酬構成!AD80","v":0},0.05,{"$f":"薪酬構成!AE80","v":0}]

{"sheet":"列印提取","index":4,"n_rows":80,"n_cols":22,"rows_kept":80,"cut":false,"hidden":false,"merged":[[0,0,0,21],[1,0,1,1],[1,2,1,11],[1,12,1,14],[1,16,1,19]]}
["XXX XXX月份工資"]
["基本資訊",null,"收入部分",null,null,null,null,null,null,null,null,null,"扣款部分",null,null,null,"社會保險"]
["編號","姓名","基本\n工資","獎金","福利\n津貼","崗位\n津貼","值班\n補貼","夜餐\n補貼","加班費","應加\n工資","提成\n獎金","考核\n工資","事假\n扣款","病假\n扣款","其他\n扣款","應發\n工資","養老","失業","醫療","住房","代扣\n個稅","實發工資"]
[1,{"$f":"薪酬構成!C4","v":0},{"$f":"薪酬構成!E4","v":0},{"$f":"薪酬構成!F4","v":0},{"$f":"薪酬構成!G4","v":0},{"$f":"薪酬構成!H4","v":0},{"$f":"薪酬構成!J4","v":0},{"$f":"薪酬構成!K4","v":0},{"$f":"薪酬構成!P4","v":0},{"$f":"薪酬構成!Q4","v":0},{"$f":"薪酬構成!R4","v":0},{"$f":"薪酬構成!S4","v":0},{"$f":"薪酬構成!T4","v":0},{"$f":"薪酬構成!U4","v":0},{"$f":"薪酬構成!V4","v":0},{"$f":"薪酬構成!W4","v":0},{"$f":"薪酬構成!X4","v":0},{"$f":"薪酬構成!Y4","v":0},{"$f":"薪酬構成!Z4","v":0},{"$f":"薪酬構成!AA4","v":0},{"$f":"薪酬構成!AE4","v":0},{"$f":"薪酬構成!AI4","v":0}]
[2,{"$f":"薪酬構成!C5","v":0},{"$f":"薪酬構成!E5","v":0},{"$f":"薪酬構成!F5","v":0},{"$f":"薪酬構成!G5","v":0},{"$f":"薪酬構成!H5","v":0},{"$f":"薪酬構成!J5","v":0},{"$f":"薪酬構成!K5","v":0},{"$f":"薪酬構成!P5","v":0},{"$f":"薪酬構成!Q5","v":0},{"$f":"薪酬構成!R5","v":0},{"$f":"薪酬構成!S5","v":0},{"$f":"薪酬構成!T5","v":0},{"$f":"薪酬構成!U5","v":0},{"$f":"薪酬構成!V5","v":0},{"$f":"薪酬構成!W5","v":0},{"$f":"薪酬構成!X5","v":0},{"$f":"薪酬構成!Y5","v":0},{"$f":"薪酬構成!Z5","v":0},{"$f":"薪酬構成!AA5","v":0},{"$f":"薪酬構成!AE5","v":0},{"$f":"薪酬構成!AI5","v":0}]
[3,{"$f":"薪酬構成!C6","v":0},{"$f":"薪酬構成!E6","v":0},{"$f":"薪酬構成!F6","v":0},{"$f":"薪酬構成!G6","v":0},{"$f":"薪酬構成!H6","v":0},{"$f":"薪酬構成!J6","v":0},{"$f":"薪酬構成!K6","v":0},{"$f":"薪酬構成!P6","v":0},{"$f":"薪酬構成!Q6","v":0},{"$f":"薪酬構成!R6","v":0},{"$f":"薪酬構成!S6","v":0},{"$f":"薪酬構成!T6","v":0},{"$f":"薪酬構成!U6","v":0},{"$f":"薪酬構成!V6","v":0},{"$f":"薪酬構成!W6","v":0},{"$f":"薪酬構成!X6","v":0},{"$f":"薪酬構成!Y6","v":0},{"$f":"薪酬構成!Z6","v":0},{"$f":"薪酬構成!AA6","v":0},{"$f":"薪酬構成!AE6","v":0},{"$f":"薪酬構成!AI6","v":0}]
[4,{"$f":"薪酬構成!C7","v":0},{"$f":"薪酬構成!E7","v":0},{"$f":"薪酬構成!F7","v":0},{"$f":"薪酬構成!G7","v":0},{"$f":"薪酬構成!H7","v":0},{"$f":"薪酬構成!J7","v":0},{"$f":"薪酬構成!K7","v":0},{"$f":"薪酬構成!P7","v":0},{"$f":"薪酬構成!Q7","v":0},{"$f":"薪酬構成!R7","v":0},{"$f":"薪酬構成!S7","v":0},{"$f":"薪酬構成!T7","v":0},{"$f":"薪酬構成!U7","v":0},{"$f":"薪酬構成!V7","v":0},{"$f":"薪酬構成!W7","v":0},{"$f":"薪酬構成!X7","v":0},{"$f":"薪酬構成!Y7","v":0},{"$f":"薪酬構成!Z7","v":0},{"$f":"薪酬構成!AA7","v":0},{"$f":"薪酬構成!AE7","v":0},{"$f":"薪酬構成!AI7","v":0}]
[5,{"$f":"薪酬構成!C8","v":0},{"$f":"薪酬構成!E8","v":0},{"$f":"薪酬構成!F8","v":0},{"$f":"薪酬構成!G8","v":0},{"$f":"薪酬構成!H8","v":0},{"$f":"薪酬構成!J8","v":0},{"$f":"薪酬構成!K8","v":0},{"$f":"薪酬構成!P8","v":0},{"$f":"薪酬構成!Q8","v":0},{"$f":"薪酬構成!R8","v":0},{"$f":"薪酬構成!S8","v":0},{"$f":"薪酬構成!T8","v":0},{"$f":"薪酬構成!U8","v":0},{"$f":"薪酬構成!V8","v":0},{"$f":"薪酬構成!W8","v":0},{"$f":"薪酬構成!X8","v":0},{"$f":"薪酬構成!Y8","v":0},{"$f":"薪酬構成!Z8","v":0},{"$f":"薪酬構成!AA8","v":0},{"$f":"薪酬構成!AE8","v":0},{"$f":"薪酬構成!AI8","v":0}]
[6,{"$f":"薪酬構成!C9","v":0},{"$f":"薪酬構成!E9","v":0},{"$f":"薪酬構成!F9","v":0},{"$f":"薪酬構成!G9","v":0},{"$f":"薪酬構成!H9","v":0},{"$f":"薪酬構成!J9","v":0},{"$f":"薪酬構成!K9","v":0},{"$f":"薪酬構成!P9","v":0},{"$f":"薪酬構成!Q9","v":0},{"$f":"薪酬構成!R9","v":0},{"$f":"薪酬構成!S9","v":0},{"$f":"薪酬構成!T9","v":0},{"$f":"薪酬構成!U9","v":0},{"$f":"薪酬構成!V9","v":0},{"$f":"薪酬構成!W9","v":0},{"$f":"薪酬構成!X9","v":0},{"$f":"薪酬構成!Y9","v":0},{"$f":"薪酬構成!Z9","v":0},{"$f":"薪酬構成!AA9","v":0},{"$f":"薪酬構成!AE9","v":0},{"$f":"薪酬構成!AI9","v":0}]
[7,{"$f":"薪酬構成!C10","v":0},{"$f":"薪酬構成!E10","v":0},{"$f":"薪酬構成!F10","v":0},{"$f":"薪酬構成!G10","v":0},{"$f":"薪酬構成!H10","v":0},{"$f":"薪酬構成!J10","v":0},{"$f":"薪酬構成!K10","v":0},{"$f":"薪酬構成!P10","v":0},{"$f":"薪酬構成!Q10","v":0},{"$f":"薪酬構成!R10","v":0},{"$f":"薪酬構成!S10","v":0},{"$f":"薪酬構成!T10","v":0},{"$f":"薪酬構成!U10","v":0},{"$f":"薪酬構成!V10","v":0},{"$f":"薪酬構成!W10","v":0},{"$f":"薪酬構成!X10","v":0},{"$f":"薪酬構成!Y10","v":0},{"$f":"薪酬構成!Z10","v":0},{"$f":"薪酬構成!AA10","v":0},{"$f":"薪酬構成!AE10","v":0},{"$f":"薪酬構成!AI10","v":0}]
[8,{"$f":"薪酬構成!C11","v":0},{"$f":"薪酬構成!E11","v":0},{"$f":"薪酬構成!F11","v":0},{"$f":"薪酬構成!G11","v":0},{"$f":"薪酬構成!H11","v":0},{"$f":"薪酬構成!J11","v":0},{"$f":"薪酬構成!K11","v":0},{"$f":"薪酬構成!P11","v":0},{"$f":"薪酬構成!Q11","v":0},{"$f":"薪酬構成!R11","v":0},{"$f":"薪酬構成!S11","v":0},{"$f":"薪酬構成!T11","v":0},{"$f":"薪酬構成!U11","v":0},{"$f":"薪酬構成!V11","v":0},{"$f":"薪酬構成!W11","v":0},{"$f":"薪酬構成!X11","v":0},{"$f":"薪酬構成!Y11","v":0},{"$f":"薪酬構成!Z11","v":0},{"$f":"薪酬構成!AA11","v":0},{"$f":"薪酬構成!AE11","v":0},{"$f":"薪酬構成!AI11","v":0}]
[9,{"$f":"薪酬構成!C12","v":0},{"$f":"薪酬構成!E12","v":0},{"$f":"薪酬構成!F12","v":0},{"$f":"薪酬構成!G12","v":0},{"$f":"薪酬構成!H12","v":0},{"$f":"薪酬構成!J12","v":0},{"$f":"薪酬構成!K12","v":0},{"$f":"薪酬構成!P12","v":0},{"$f":"薪酬構成!Q12","v":0},{"$f":"薪酬構成!R12","v":0},{"$f":"薪酬構成!S12","v":0},{"$f":"薪酬構成!T12","v":0},{"$f":"薪酬構成!U12","v":0},{"$f":"薪酬構成!V12","v":0},{"$f":"薪酬構成!W12","v":0},{"$f":"薪酬構成!X12","v":0},{"$f":"薪酬構成!Y12","v":0},{"$f":"薪酬構成!Z12","v":0},{"$f":"薪酬構成!AA12","v":0},{"$f":"薪酬構成!AE12","v":0},{"$f":"薪酬構成!AI12","v":0}]
[10,{"$f":"薪酬構成!C13","v":0},{"$f":"薪酬構成!E13","v":0},{"$f":"薪酬構成!F13","v":0},{"$f":"薪酬構成!G13","v":0},{"$f":"薪酬構成!H13","v":0},{"$f":"薪酬構成!J13","v":0},{"$f":"薪酬構成!K13","v":0},{"$f":"薪酬構成!P13","v":0},{"$f":"薪酬構成!Q13","v":0},{"$f":"薪酬構成!R13","v":0},{"$f":"薪酬構成!S13","v":0},{"$f":"薪酬構成!T13","v":0},{"$f":"薪酬構成!U13","v":0},{"$f":"薪酬構成!V13","v":0},{"$f":"薪酬構成!W13","v":0},{"$f":"薪酬構成!X13","v":0},{"$f":"薪酬構成!Y13","v":0},{"$f":"薪酬構成!Z13","v":0},{"$f":"薪酬構成!AA13","v":0},{"$f":"薪酬構成!AE13","v":0},{"$f":"薪酬構成!AI13","v":0}]
[null,{"$f":"薪酬構成!C14","v":0},{"$f":"薪酬構成!E14","v":0},{"$f":"薪酬構成!F14","v":0},{"$f":"薪酬構成!G14","v":0},{"$f":"薪酬構成!H14","v":0},{"$f":"薪酬構成!J14","v":0},{"$f":"薪酬構成!K14","v":0},{"$f":"薪酬構成!P14","v":0},{"$f":"薪酬構成!Q14","v":0},{"$f":"薪酬構成!R14","v":0},{"$f":"薪酬構成!S14","v":0},{"$f":"薪酬構成!T14","v":0},{"$f":"薪酬構成!U14","v":0},{"$f":"薪酬構成!V14","v":0},{"$f":"薪酬構成!W14","v":0},{"$f":"薪酬構成!X14","v":0},{"$f":"薪酬構成!Y14","v":0},{"$f":"薪酬構成!Z14","v":0},{"$f":"薪酬構成!AA14","v":0},{"$f":"薪酬構成!AE14","v":0},{"$f":"薪酬構成!AI14","v":0}]
[1,{"$f":"薪酬構成!C15","v":0},{"$f":"薪酬構成!E15","v":0},{"$f":"薪酬構成!F15","v":0},{"$f":"薪酬構成!G15","v":0},{"$f":"薪酬構成!H15","v":0},{"$f":"薪酬構成!J15","v":0},{"$f":"薪酬構成!K15","v":0},{"$f":"薪酬構成!P15","v":0},{"$f":"薪酬構成!Q15","v":0},{"$f":"薪酬構成!R15","v":0},{"$f":"薪酬構成!S15","v":0},{"$f":"薪酬構成!T15","v":0},{"$f":"薪酬構成!U15","v":0},{"$f":"薪酬構成!V15","v":0},{"$f":"薪酬構成!W15","v":0},{"$f":"薪酬構成!X15","v":0},{"$f":"薪酬構成!Y15","v":0},{"$f":"薪酬構成!Z15","v":0},{"$f":"薪酬構成!AA15","v":0},{"$f":"薪酬構成!AE15","v":0},{"$f":"薪酬構成!AI15","v":0}]
[2,{"$f":"薪酬構成!C16","v":0},{"$f":"薪酬構成!E16","v":0},{"$f":"薪酬構成!F16","v":0},{"$f":"薪酬構成!G16","v":0},{"$f":"薪酬構成!H16","v":0},{"$f":"薪酬構成!J16","v":0},{"$f":"薪酬構成!K16","v":0},{"$f":"薪酬構成!P16","v":0},{"$f":"薪酬構成!Q16","v":0},{"$f":"薪酬構成!R16","v":0},{"$f":"薪酬構成!S16","v":0},{"$f":"薪酬構成!T16","v":0},{"$f":"薪酬構成!U16","v":0},{"$f":"薪酬構成!V16","v":0},{"$f":"薪酬構成!W16","v":0},{"$f":"薪酬構成!X16","v":0},{"$f":"薪酬構成!Y16","v":0},{"$f":"薪酬構成!Z16","v":0},{"$f":"薪酬構成!AA16","v":0},{"$f":"薪酬構成!AE16","v":0},{"$f":"薪酬構成!AI16","v":0}]
[3,{"$f":"薪酬構成!C17","v":0},{"$f":"薪酬構成!E17","v":0},{"$f":"薪酬構成!F17","v":0},{"$f":"薪酬構成!G17","v":0},{"$f":"薪酬構成!H17","v":0},{"$f":"薪酬構成!J17","v":0},{"$f":"薪酬構成!K17","v":0},{"$f":"薪酬構成!P17","v":0},{"$f":"薪酬構成!Q17","v":0},{"$f":"薪酬構成!R17","v":0},{"$f":"薪酬構成!S17","v":0},{"$f":"薪酬構成!T17","v":0},{"$f":"薪酬構成!U17","v":0},{"$f":"薪酬構成!V17","v":0},{"$f":"薪酬構成!W17","v":0},{"$f":"薪酬構成!X17","v":0},{"$f":"薪酬構成!Y17","v":0},{"$f":"薪酬構成!Z17","v":0},{"$f":"薪酬構成!AA17","v":0},{"$f":"薪酬構成!AE17","v":0},{"$f":"薪酬構成!AI17","v":0}]
[4,{"$f":"薪酬構成!C18","v":0},{"$f":"薪酬構成!E18","v":0},{"$f":"薪酬構成!F18","v":0},{"$f":"薪酬構成!G18","v":0},{"$f":"薪酬構成!H18","v":0},{"$f":"薪酬構成!J18","v":0},{"$f":"薪酬構成!K18","v":0},{"$f":"薪酬構成!P18","v":0},{"$f":"薪酬構成!Q18","v":0},{"$f":"薪酬構成!R18","v":0},{"$f":"薪酬構成!S18","v":0},{"$f":"薪酬構成!T18","v":0},{"$f":"薪酬構成!U18","v":0},{"$f":"薪酬構成!V18","v":0},{"$f":"薪酬構成!W18","v":0},{"$f":"薪酬構成!X18","v":0},{"$f":"薪酬構成!Y18","v":0},{"$f":"薪酬構成!Z18","v":0},{"$f":"薪酬構成!AA18","v":0},{"$f":"薪酬構成!AE18","v":0},{"$f":"薪酬構成!AI18","v":0}]
[5,{"$f":"薪酬構成!C19","v":0},{"$f":"薪酬構成!E19","v":0},{"$f":"薪酬構成!F19","v":0},{"$f":"薪酬構成!G19","v":0},{"$f":"薪酬構成!H19","v":0},{"$f":"薪酬構成!J19","v":0},{"$f":"薪酬構成!K19","v":0},{"$f":"薪酬構成!P19","v":0},{"$f":"薪酬構成!Q19","v":0},{"$f":"薪酬構成!R19","v":0},{"$f":"薪酬構成!S19","v":0},{"$f":"薪酬構成!T19","v":0},{"$f":"薪酬構成!U19","v":0},{"$f":"薪酬構成!V19","v":0},{"$f":"薪酬構成!W19","v":0},{"$f":"薪酬構成!X19","v":0},{"$f":"薪酬構成!Y19","v":0},{"$f":"薪酬構成!Z19","v":0},{"$f":"薪酬構成!AA19","v":0},{"$f":"薪酬構成!AE19","v":0},{"$f":"薪酬構成!AI19","v":0}]
[6,{"$f":"薪酬構成!C20","v":0},{"$f":"薪酬構成!E20","v":0},{"$f":"薪酬構成!F20","v":0},{"$f":"薪酬構成!G20","v":0},{"$f":"薪酬構成!H20","v":0},{"$f":"薪酬構成!J20","v":0},{"$f":"薪酬構成!K20","v":0},{"$f":"薪酬構成!P20","v":0},{"$f":"薪酬構成!Q20","v":0},{"$f":"薪酬構成!R20","v":0},{"$f":"薪酬構成!S20","v":0},{"$f":"薪酬構成!T20","v":0},{"$f":"薪酬構成!U20","v":0},{"$f":"薪酬構成!V20","v":0},{"$f":"薪酬構成!W20","v":0},{"$f":"薪酬構成!X20","v":0},{"$f":"薪酬構成!Y20","v":0},{"$f":"薪酬構成!Z20","v":0},{"$f":"薪酬構成!AA20","v":0},{"$f":"薪酬構成!AE20","v":0},{"$f":"薪酬構成!AI20","v":0}]
[7,{"$f":"薪酬構成!C21","v":0},{"$f":"薪酬構成!E21","v":0},{"$f":"薪酬構成!F21","v":0},{"$f":"薪酬構成!G21","v":0},{"$f":"薪酬構成!H21","v":0},{"$f":"薪酬構成!J21","v":0},{"$f":"薪酬構成!K21","v":0},{"$f":"薪酬構成!P21","v":0},{"$f":"薪酬構成!Q21","v":0},{"$f":"薪酬構成!R21","v":0},{"$f":"薪酬構成!S21","v":0},{"$f":"薪酬構成!T21","v":0},{"$f":"薪酬構成!U21","v":0},{"$f":"薪酬構成!V21","v":0},{"$f":"薪酬構成!W21","v":0},{"$f":"薪酬構成!X21","v":0},{"$f":"薪酬構成!Y21","v":0},{"$f":"薪酬構成!Z21","v":0},{"$f":"薪酬構成!AA21","v":0},{"$f":"薪酬構成!AE21","v":0},{"$f":"薪酬構成!AI21","v":0}]
[8,{"$f":"薪酬構成!C22","v":0},{"$f":"薪酬構成!E22","v":0},{"$f":"薪酬構成!F22","v":0},{"$f":"薪酬構成!G22","v":0},{"$f":"薪酬構成!H22","v":0},{"$f":"薪酬構成!J22","v":0},{"$f":"薪酬構成!K22","v":0},{"$f":"薪酬構成!P22","v":0},{"$f":"薪酬構成!Q22","v":0},{"$f":"薪酬構成!R22","v":0},{"$f":"薪酬構成!S22","v":0},{"$f":"薪酬構成!T22","v":0},{"$f":"薪酬構成!U22","v":0},{"$f":"薪酬構成!V22","v":0},{"$f":"薪酬構成!W22","v":0},{"$f":"薪酬構成!X22","v":0},{"$f":"薪酬構成!Y22","v":0},{"$f":"薪酬構成!Z22","v":0},{"$f":"薪酬構成!AA22","v":0},{"$f":"薪酬構成!AE22","v":0},{"$f":"薪酬構成!AI22","v":0}]
[9,{"$f":"薪酬構成!C23","v":0},{"$f":"薪酬構成!E23","v":0},{"$f":"薪酬構成!F23","v":0},{"$f":"薪酬構成!G23","v":0},{"$f":"薪酬構成!H23","v":0},{"$f":"薪酬構成!J23","v":0},{"$f":"薪酬構成!K23","v":0},{"$f":"薪酬構成!P23","v":0},{"$f":"薪酬構成!Q23","v":0},{"$f":"薪酬構成!R23","v":0},{"$f":"薪酬構成!S23","v":0},{"$f":"薪酬構成!T23","v":0},{"$f":"薪酬構成!U23","v":0},{"$f":"薪酬構成!V23","v":0},{"$f":"薪酬構成!W23","v":0},{"$f":"薪酬構成!X23","v":0},{"$f":"薪酬構成!Y23","v":0},{"$f":"薪酬構成!Z23","v":0},{"$f":"薪酬構成!AA23","v":0},{"$f":"薪酬構成!AE23","v":0},{"$f":"薪酬構成!AI23","v":0}]
[10,{"$f":"薪酬構成!C24","v":0},{"$f":"薪酬構成!E24","v":0},{"$f":"薪酬構成!F24","v":0},{"$f":"薪酬構成!G24","v":0},{"$f":"薪酬構成!H24","v":0},{"$f":"薪酬構成!J24","v":0},{"$f":"薪酬構成!K24","v":0},{"$f":"薪酬構成!P24","v":0},{"$f":"薪酬構成!Q24","v":0},{"$f":"薪酬構成!R24","v":0},{"$f":"薪酬構成!S24","v":0},{"$f":"薪酬構成!T24","v":0},{"$f":"薪酬構成!U24","v":0},{"$f":"薪酬構成!V24","v":0},{"$f":"薪酬構成!W24","v":0},{"$f":"薪酬構成!X24","v":0},{"$f":"薪酬構成!Y24","v":0},{"$f":"薪酬構成!Z24","v":0},{"$f":"薪酬構成!AA24","v":0},{"$f":"薪酬構成!AE24","v":0},{"$f":"薪酬構成!AI24","v":0}]
[null,{"$f":"薪酬構成!C25","v":0},{"$f":"薪酬構成!E25","v":0},{"$f":"薪酬構成!F25","v":0},{"$f":"薪酬構成!G25","v":0},{"$f":"薪酬構成!H25","v":0},{"$f":"薪酬構成!J25","v":0},{"$f":"薪酬構成!K25","v":0},{"$f":"薪酬構成!P25","v":0},{"$f":"薪酬構成!Q25","v":0},{"$f":"薪酬構成!R25","v":0},{"$f":"薪酬構成!S25","v":0},{"$f":"薪酬構成!T25","v":0},{"$f":"薪酬構成!U25","v":0},{"$f":"薪酬構成!V25","v":0},{"$f":"薪酬構成!W25","v":0},{"$f":"薪酬構成!X25","v":0},{"$f":"薪酬構成!Y25","v":0},{"$f":"薪酬構成!Z25","v":0},{"$f":"薪酬構成!AA25","v":0},{"$f":"薪酬構成!AE25","v":0},{"$f":"薪酬構成!AI25","v":0}]
[1,{"$f":"薪酬構成!C26","v":0},{"$f":"薪酬構成!E26","v":0},{"$f":"薪酬構成!F26","v":0},{"$f":"薪酬構成!G26","v":0},{"$f":"薪酬構成!H26","v":0},{"$f":"薪酬構成!J26","v":0},{"$f":"薪酬構成!K26","v":0},{"$f":"薪酬構成!P26","v":0},{"$f":"薪酬構成!Q26","v":0},{"$f":"薪酬構成!R26","v":0},{"$f":"薪酬構成!S26","v":0},{"$f":"薪酬構成!T26","v":0},{"$f":"薪酬構成!U26","v":0},{"$f":"薪酬構成!V26","v":0},{"$f":"薪酬構成!W26","v":0},{"$f":"薪酬構成!X26","v":0},{"$f":"薪酬構成!Y26","v":0},{"$f":"薪酬構成!Z26","v":0},{"$f":"薪酬構成!AA26","v":0},{"$f":"薪酬構成!AE26","v":0},{"$f":"薪酬構成!AI26","v":0}]
[2,{"$f":"薪酬構成!C27","v":0},{"$f":"薪酬構成!E27","v":0},{"$f":"薪酬構成!F27","v":0},{"$f":"薪酬構成!G27","v":0},{"$f":"薪酬構成!H27","v":0},{"$f":"薪酬構成!J27","v":0},{"$f":"薪酬構成!K27","v":0},{"$f":"薪酬構成!P27","v":0},{"$f":"薪酬構成!Q27","v":0},{"$f":"薪酬構成!R27","v":0},{"$f":"薪酬構成!S27","v":0},{"$f":"薪酬構成!T27","v":0},{"$f":"薪酬構成!U27","v":0},{"$f":"薪酬構成!V27","v":0},{"$f":"薪酬構成!W27","v":0},{"$f":"薪酬構成!X27","v":0},{"$f":"薪酬構成!Y27","v":0},{"$f":"薪酬構成!Z27","v":0},{"$f":"薪酬構成!AA27","v":0},{"$f":"薪酬構成!AE27","v":0},{"$f":"薪酬構成!AI27","v":0}]
[3,{"$f":"薪酬構成!C28","v":0},{"$f":"薪酬構成!E28","v":0},{"$f":"薪酬構成!F28","v":0},{"$f":"薪酬構成!G28","v":0},{"$f":"薪酬構成!H28","v":0},{"$f":"薪酬構成!J28","v":0},{"$f":"薪酬構成!K28","v":0},{"$f":"薪酬構成!P28","v":0},{"$f":"薪酬構成!Q28","v":0},{"$f":"薪酬構成!R28","v":0},{"$f":"薪酬構成!S28","v":0},{"$f":"薪酬構成!T28","v":0},{"$f":"薪酬構成!U28","v":0},{"$f":"薪酬構成!V28","v":0},{"$f":"薪酬構成!W28","v":0},{"$f":"薪酬構成!X28","v":0},{"$f":"薪酬構成!Y28","v":0},{"$f":"薪酬構成!Z28","v":0},{"$f":"薪酬構成!AA28","v":0},{"$f":"薪酬構成!AE28","v":0},{"$f":"薪酬構成!AI28","v":0}]
[4,{"$f":"薪酬構成!C29","v":0},{"$f":"薪酬構成!E29","v":0},{"$f":"薪酬構成!F29","v":0},{"$f":"薪酬構成!G29","v":0},{"$f":"薪酬構成!H29","v":0},{"$f":"薪酬構成!J29","v":0},{"$f":"薪酬構成!K29","v":0},{"$f":"薪酬構成!P29","v":0},{"$f":"薪酬構成!Q29","v":0},{"$f":"薪酬構成!R29","v":0},{"$f":"薪酬構成!S29","v":0},{"$f":"薪酬構成!T29","v":0},{"$f":"薪酬構成!U29","v":0},{"$f":"薪酬構成!V29","v":0},{"$f":"薪酬構成!W29","v":0},{"$f":"薪酬構成!X29","v":0},{"$f":"薪酬構成!Y29","v":0},{"$f":"薪酬構成!Z29","v":0},{"$f":"薪酬構成!AA29","v":0},{"$f":"薪酬構成!AE29","v":0},{"$f":"薪酬構成!AI29","v":0}]
[5,{"$f":"薪酬構成!C30","v":0},{"$f":"薪酬構成!E30","v":0},{"$f":"薪酬構成!F30","v":0},{"$f":"薪酬構成!G30","v":0},{"$f":"薪酬構成!H30","v":0},{"$f":"薪酬構成!J30","v":0},{"$f":"薪酬構成!K30","v":0},{"$f":"薪酬構成!P30","v":0},{"$f":"薪酬構成!Q30","v":0},{"$f":"薪酬構成!R30","v":0},{"$f":"薪酬構成!S30","v":0},{"$f":"薪酬構成!T30","v":0},{"$f":"薪酬構成!U30","v":0},{"$f":"薪酬構成!V30","v":0},{"$f":"薪酬構成!W30","v":0},{"$f":"薪酬構成!X30","v":0},{"$f":"薪酬構成!Y30","v":0},{"$f":"薪酬構成!Z30","v":0},{"$f":"薪酬構成!AA30","v":0},{"$f":"薪酬構成!AE30","v":0},{"$f":"薪酬構成!AI30","v":0}]
[6,{"$f":"薪酬構成!C31","v":0},{"$f":"薪酬構成!E31","v":0},{"$f":"薪酬構成!F31","v":0},{"$f":"薪酬構成!G31","v":0},{"$f":"薪酬構成!H31","v":0},{"$f":"薪酬構成!J31","v":0},{"$f":"薪酬構成!K31","v":0},{"$f":"薪酬構成!P31","v":0},{"$f":"薪酬構成!Q31","v":0},{"$f":"薪酬構成!R31","v":0},{"$f":"薪酬構成!S31","v":0},{"$f":"薪酬構成!T31","v":0},{"$f":"薪酬構成!U31","v":0},{"$f":"薪酬構成!V31","v":0},{"$f":"薪酬構成!W31","v":0},{"$f":"薪酬構成!X31","v":0},{"$f":"薪酬構成!Y31","v":0},{"$f":"薪酬構成!Z31","v":0},{"$f":"薪酬構成!AA31","v":0},{"$f":"薪酬構成!AE31","v":0},{"$f":"薪酬構成!AI31","v":0}]
[7,{"$f":"薪酬構成!C32","v":0},{"$f":"薪酬構成!E32","v":0},{"$f":"薪酬構成!F32","v":0},{"$f":"薪酬構成!G32","v":0},{"$f":"薪酬構成!H32","v":0},{"$f":"薪酬構成!J32","v":0},{"$f":"薪酬構成!K32","v":0},{"$f":"薪酬構成!P32","v":0},{"$f":"薪酬構成!Q32","v":0},{"$f":"薪酬構成!R32","v":0},{"$f":"薪酬構成!S32","v":0},{"$f":"薪酬構成!T32","v":0},{"$f":"薪酬構成!U32","v":0},{"$f":"薪酬構成!V32","v":0},{"$f":"薪酬構成!W32","v":0},{"$f":"薪酬構成!X32","v":0},{"$f":"薪酬構成!Y32","v":0},{"$f":"薪酬構成!Z32","v":0},{"$f":"薪酬構成!AA32","v":0},{"$f":"薪酬構成!AE32","v":0},{"$f":"薪酬構成!AI32","v":0}]
[8,{"$f":"薪酬構成!C33","v":0},{"$f":"薪酬構成!E33","v":0},{"$f":"薪酬構成!F33","v":0},{"$f":"薪酬構成!G33","v":0},{"$f":"薪酬構成!H33","v":0},{"$f":"薪酬構成!J33","v":0},{"$f":"薪酬構成!K33","v":0},{"$f":"薪酬構成!P33","v":0},{"$f":"薪酬構成!Q33","v":0},{"$f":"薪酬構成!R33","v":0},{"$f":"薪酬構成!S33","v":0},{"$f":"薪酬構成!T33","v":0},{"$f":"薪酬構成!U33","v":0},{"$f":"薪酬構成!V33","v":0},{"$f":"薪酬構成!W33","v":0},{"$f":"薪酬構成!X33","v":0},{"$f":"薪酬構成!Y33","v":0},{"$f":"薪酬構成!Z33","v":0},{"$f":"薪酬構成!AA33","v":0},{"$f":"薪酬構成!AE33","v":0},{"$f":"薪酬構成!AI33","v":0}]
[9,{"$f":"薪酬構成!C34","v":0},{"$f":"薪酬構成!E34","v":0},{"$f":"薪酬構成!F34","v":0},{"$f":"薪酬構成!G34","v":0},{"$f":"薪酬構成!H34","v":0},{"$f":"薪酬構成!J34","v":0},{"$f":"薪酬構成!K34","v":0},{"$f":"薪酬構成!P34","v":0},{"$f":"薪酬構成!Q34","v":0},{"$f":"薪酬構成!R34","v":0},{"$f":"薪酬構成!S34","v":0},{"$f":"薪酬構成!T34","v":0},{"$f":"薪酬構成!U34","v":0},{"$f":"薪酬構成!V34","v":0},{"$f":"薪酬構成!W34","v":0},{"$f":"薪酬構成!X34","v":0},{"$f":"薪酬構成!Y34","v":0},{"$f":"薪酬構成!Z34","v":0},{"$f":"薪酬構成!AA34","v":0},{"$f":"薪酬構成!AE34","v":0},{"$f":"薪酬構成!AI34","v":0}]
[10,{"$f":"薪酬構成!C35","v":0},{"$f":"薪酬構成!E35","v":0},{"$f":"薪酬構成!F35","v":0},{"$f":"薪酬構成!G35","v":0},{"$f":"薪酬構成!H35","v":0},{"$f":"薪酬構成!J35","v":0},{"$f":"薪酬構成!K35","v":0},{"$f":"薪酬構成!P35","v":0},{"$f":"薪酬構成!Q35","v":0},{"$f":"薪酬構成!R35","v":0},{"$f":"薪酬構成!S35","v":0},{"$f":"薪酬構成!T35","v":0},{"$f":"薪酬構成!U35","v":0},{"$f":"薪酬構成!V35","v":0},{"$f":"薪酬構成!W35","v":0},{"$f":"薪酬構成!X35","v":0},{"$f":"薪酬構成!Y35","v":0},{"$f":"薪酬構成!Z35","v":0},{"$f":"薪酬構成!AA35","v":0},{"$f":"薪酬構成!AE35","v":0},{"$f":"薪酬構成!AI35","v":0}]
[null,{"$f":"薪酬構成!C36","v":0},{"$f":"薪酬構成!E36","v":0},{"$f":"薪酬構成!F36","v":0},{"$f":"薪酬構成!G36","v":0},{"$f":"薪酬構成!H36","v":0},{"$f":"薪酬構成!J36","v":0},{"$f":"薪酬構成!K36","v":0},{"$f":"薪酬構成!P36","v":0},{"$f":"薪酬構成!Q36","v":0},{"$f":"薪酬構成!R36","v":0},{"$f":"薪酬構成!S36","v":0},{"$f":"薪酬構成!T36","v":0},{"$f":"薪酬構成!U36","v":0},{"$f":"薪酬構成!V36","v":0},{"$f":"薪酬構成!W36","v":0},{"$f":"薪酬構成!X36","v":0},{"$f":"薪酬構成!Y36","v":0},{"$f":"薪酬構成!Z36","v":0},{"$f":"薪酬構成!AA36","v":0},{"$f":"薪酬構成!AE36","v":0},{"$f":"薪酬構成!AI36","v":0}]
[1,{"$f":"薪酬構成!C37","v":0},{"$f":"薪酬構成!E37","v":0},{"$f":"薪酬構成!F37","v":0},{"$f":"薪酬構成!G37","v":0},{"$f":"薪酬構成!H37","v":0},{"$f":"薪酬構成!J37","v":0},{"$f":"薪酬構成!K37","v":0},{"$f":"薪酬構成!P37","v":0},{"$f":"薪酬構成!Q37","v":0},{"$f":"薪酬構成!R37","v":0},{"$f":"薪酬構成!S37","v":0},{"$f":"薪酬構成!T37","v":0},{"$f":"薪酬構成!U37","v":0},{"$f":"薪酬構成!V37","v":0},{"$f":"薪酬構成!W37","v":0},{"$f":"薪酬構成!X37","v":0},{"$f":"薪酬構成!Y37","v":0},{"$f":"薪酬構成!Z37","v":0},{"$f":"薪酬構成!AA37","v":0},{"$f":"薪酬構成!AE37","v":0},{"$f":"薪酬構成!AI37","v":0}]
[2,{"$f":"薪酬構成!C38","v":0},{"$f":"薪酬構成!E38","v":0},{"$f":"薪酬構成!F38","v":0},{"$f":"薪酬構成!G38","v":0},{"$f":"薪酬構成!H38","v":0},{"$f":"薪酬構成!J38","v":0},{"$f":"薪酬構成!K38","v":0},{"$f":"薪酬構成!P38","v":0},{"$f":"薪酬構成!Q38","v":0},{"$f":"薪酬構成!R38","v":0},{"$f":"薪酬構成!S38","v":0},{"$f":"薪酬構成!T38","v":0},{"$f":"薪酬構成!U38","v":0},{"$f":"薪酬構成!V38","v":0},{"$f":"薪酬構成!W38","v":0},{"$f":"薪酬構成!X38","v":0},{"$f":"薪酬構成!Y38","v":0},{"$f":"薪酬構成!Z38","v":0},{"$f":"薪酬構成!AA38","v":0},{"$f":"薪酬構成!AE38","v":0},{"$f":"薪酬構成!AI38","v":0}]
[3,{"$f":"薪酬構成!C39","v":0},{"$f":"薪酬構成!E39","v":0},{"$f":"薪酬構成!F39","v":0},{"$f":"薪酬構成!G39","v":0},{"$f":"薪酬構成!H39","v":0},{"$f":"薪酬構成!J39","v":0},{"$f":"薪酬構成!K39","v":0},{"$f":"薪酬構成!P39","v":0},{"$f":"薪酬構成!Q39","v":0},{"$f":"薪酬構成!R39","v":0},{"$f":"薪酬構成!S39","v":0},{"$f":"薪酬構成!T39","v":0},{"$f":"薪酬構成!U39","v":0},{"$f":"薪酬構成!V39","v":0},{"$f":"薪酬構成!W39","v":0},{"$f":"薪酬構成!X39","v":0},{"$f":"薪酬構成!Y39","v":0},{"$f":"薪酬構成!Z39","v":0},{"$f":"薪酬構成!AA39","v":0},{"$f":"薪酬構成!AE39","v":0},{"$f":"薪酬構成!AI39","v":0}]
[4,{"$f":"薪酬構成!C40","v":0},{"$f":"薪酬構成!E40","v":0},{"$f":"薪酬構成!F40","v":0},{"$f":"薪酬構成!G40","v":0},{"$f":"薪酬構成!H40","v":0},{"$f":"薪酬構成!J40","v":0},{"$f":"薪酬構成!K40","v":0},{"$f":"薪酬構成!P40","v":0},{"$f":"薪酬構成!Q40","v":0},{"$f":"薪酬構成!R40","v":0},{"$f":"薪酬構成!S40","v":0},{"$f":"薪酬構成!T40","v":0},{"$f":"薪酬構成!U40","v":0},{"$f":"薪酬構成!V40","v":0},{"$f":"薪酬構成!W40","v":0},{"$f":"薪酬構成!X40","v":0},{"$f":"薪酬構成!Y40","v":0},{"$f":"薪酬構成!Z40","v":0},{"$f":"薪酬構成!AA40","v":0},{"$f":"薪酬構成!AE40","v":0},{"$f":"薪酬構成!AI40","v":0}]
[5,{"$f":"薪酬構成!C41","v":0},{"$f":"薪酬構成!E41","v":0},{"$f":"薪酬構成!F41","v":0},{"$f":"薪酬構成!G41","v":0},{"$f":"薪酬構成!H41","v":0},{"$f":"薪酬構成!J41","v":0},{"$f":"薪酬構成!K41","v":0},{"$f":"薪酬構成!P41","v":0},{"$f":"薪酬構成!Q41","v":0},{"$f":"薪酬構成!R41","v":0},{"$f":"薪酬構成!S41","v":0},{"$f":"薪酬構成!T41","v":0},{"$f":"薪酬構成!U41","v":0},{"$f":"薪酬構成!V41","v":0},{"$f":"薪酬構成!W41","v":0},{"$f":"薪酬構成!X41","v":0},{"$f":"薪酬構成!Y41","v":0},{"$f":"薪酬構成!Z41","v":0},{"$f":"薪酬構成!AA41","v":0},{"$f":"薪酬構成!AE41","v":0},{"$f":"薪酬構成!AI41","v":0}]
[6,{"$f":"薪酬構成!C42","v":0},{"$f":"薪酬構成!E42","v":0},{"$f":"薪酬構成!F42","v":0},{"$f":"薪酬構成!G42","v":0},{"$f":"薪酬構成!H42","v":0},{"$f":"薪酬構成!J42","v":0},{"$f":"薪酬構成!K42","v":0},{"$f":"薪酬構成!P42","v":0},{"$f":"薪酬構成!Q42","v":0},{"$f":"薪酬構成!R42","v":0},{"$f":"薪酬構成!S42","v":0},{"$f":"薪酬構成!T42","v":0},{"$f":"薪酬構成!U42","v":0},{"$f":"薪酬構成!V42","v":0},{"$f":"薪酬構成!W42","v":0},{"$f":"薪酬構成!X42","v":0},{"$f":"薪酬構成!Y42","v":0},{"$f":"薪酬構成!Z42","v":0},{"$f":"薪酬構成!AA42","v":0},{"$f":"薪酬構成!AE42","v":0},{"$f":"薪酬構成!AI42","v":0}]
[7,{"$f":"薪酬構成!C43","v":0},{"$f":"薪酬構成!E43","v":0},{"$f":"薪酬構成!F43","v":0},{"$f":"薪酬構成!G43","v":0},{"$f":"薪酬構成!H43","v":0},{"$f":"薪酬構成!J43","v":0},{"$f":"薪酬構成!K43","v":0},{"$f":"薪酬構成!P43","v":0},{"$f":"薪酬構成!Q43","v":0},{"$f":"薪酬構成!R43","v":0},{"$f":"薪酬構成!S43","v":0},{"$f":"薪酬構成!T43","v":0},{"$f":"薪酬構成!U43","v":0},{"$f":"薪酬構成!V43","v":0},{"$f":"薪酬構成!W43","v":0},{"$f":"薪酬構成!X43","v":0},{"$f":"薪酬構成!Y43","v":0},{"$f":"薪酬構成!Z43","v":0},{"$f":"薪酬構成!AA43","v":0},{"$f":"薪酬構成!AE43","v":0},{"$f":"薪酬構成!AI43","v":0}]
[null,{"$f":"薪酬構成!C44","v":0},{"$f":"薪酬構成!E44","v":0},{"$f":"薪酬構成!F44","v":0},{"$f":"薪酬構成!G44","v":0},{"$f":"薪酬構成!H44","v":0},{"$f":"薪酬構成!J44","v":0},{"$f":"薪酬構成!K44","v":0},{"$f":"薪酬構成!P44","v":0},{"$f":"薪酬構成!Q44","v":0},{"$f":"薪酬構成!R44","v":0},{"$f":"薪酬構成!S44","v":0},{"$f":"薪酬構成!T44","v":0},{"$f":"薪酬構成!U44","v":0},{"$f":"薪酬構成!V44","v":0},{"$f":"薪酬構成!W44","v":0},{"$f":"薪酬構成!X44","v":0},{"$f":"薪酬構成!Y44","v":0},{"$f":"薪酬構成!Z44","v":0},{"$f":"薪酬構成!AA44","v":0},{"$f":"薪酬構成!AE44","v":0},{"$f":"薪酬構成!AI44","v":0}]
[1,{"$f":"薪酬構成!C45","v":0},{"$f":"薪酬構成!E45","v":0},{"$f":"薪酬構成!F45","v":0},{"$f":"薪酬構成!G45","v":0},{"$f":"薪酬構成!H45","v":0},{"$f":"薪酬構成!J45","v":0},{"$f":"薪酬構成!K45","v":0},{"$f":"薪酬構成!P45","v":0},{"$f":"薪酬構成!Q45","v":0},{"$f":"薪酬構成!R45","v":0},{"$f":"薪酬構成!S45","v":0},{"$f":"薪酬構成!T45","v":0},{"$f":"薪酬構成!U45","v":0},{"$f":"薪酬構成!V45","v":0},{"$f":"薪酬構成!W45","v":0},{"$f":"薪酬構成!X45","v":0},{"$f":"薪酬構成!Y45","v":0},{"$f":"薪酬構成!Z45","v":0},{"$f":"薪酬構成!AA45","v":0},{"$f":"薪酬構成!AE45","v":0},{"$f":"薪酬構成!AI45","v":0}]
[2,{"$f":"薪酬構成!C46","v":0},{"$f":"薪酬構成!E46","v":0},{"$f":"薪酬構成!F46","v":0},{"$f":"薪酬構成!G46","v":0},{"$f":"薪酬構成!H46","v":0},{"$f":"薪酬構成!J46","v":0},{"$f":"薪酬構成!K46","v":0},{"$f":"薪酬構成!P46","v":0},{"$f":"薪酬構成!Q46","v":0},{"$f":"薪酬構成!R46","v":0},{"$f":"薪酬構成!S46","v":0},{"$f":"薪酬構成!T46","v":0},{"$f":"薪酬構成!U46","v":0},{"$f":"薪酬構成!V46","v":0},{"$f":"薪酬構成!W46","v":0},{"$f":"薪酬構成!X46","v":0},{"$f":"薪酬構成!Y46","v":0},{"$f":"薪酬構成!Z46","v":0},{"$f":"薪酬構成!AA46","v":0},{"$f":"薪酬構成!AE46","v":0},{"$f":"薪酬構成!AI46","v":0}]
[3,{"$f":"薪酬構成!C47","v":0},{"$f":"薪酬構成!E47","v":0},{"$f":"薪酬構成!F47","v":0},{"$f":"薪酬構成!G47","v":0},{"$f":"薪酬構成!H47","v":0},{"$f":"薪酬構成!J47","v":0},{"$f":"薪酬構成!K47","v":0},{"$f":"薪酬構成!P47","v":0},{"$f":"薪酬構成!Q47","v":0},{"$f":"薪酬構成!R47","v":0},{"$f":"薪酬構成!S47","v":0},{"$f":"薪酬構成!T47","v":0},{"$f":"薪酬構成!U47","v":0},{"$f":"薪酬構成!V47","v":0},{"$f":"薪酬構成!W47","v":0},{"$f":"薪酬構成!X47","v":0},{"$f":"薪酬構成!Y47","v":0},{"$f":"薪酬構成!Z47","v":0},{"$f":"薪酬構成!AA47","v":0},{"$f":"薪酬構成!AE47","v":0},{"$f":"薪酬構成!AI47","v":0}]
[4,{"$f":"薪酬構成!C48","v":0},{"$f":"薪酬構成!E48","v":0},{"$f":"薪酬構成!F48","v":0},{"$f":"薪酬構成!G48","v":0},{"$f":"薪酬構成!H48","v":0},{"$f":"薪酬構成!J48","v":0},{"$f":"薪酬構成!K48","v":0},{"$f":"薪酬構成!P48","v":0},{"$f":"薪酬構成!Q48","v":0},{"$f":"薪酬構成!R48","v":0},{"$f":"薪酬構成!S48","v":0},{"$f":"薪酬構成!T48","v":0},{"$f":"薪酬構成!U48","v":0},{"$f":"薪酬構成!V48","v":0},{"$f":"薪酬構成!W48","v":0},{"$f":"薪酬構成!X48","v":0},{"$f":"薪酬構成!Y48","v":0},{"$f":"薪酬構成!Z48","v":0},{"$f":"薪酬構成!AA48","v":0},{"$f":"薪酬構成!AE48","v":0},{"$f":"薪酬構成!AI48","v":0}]
[5,{"$f":"薪酬構成!C49","v":0},{"$f":"薪酬構成!E49","v":0},{"$f":"薪酬構成!F49","v":0},{"$f":"薪酬構成!G49","v":0},{"$f":"薪酬構成!H49","v":0},{"$f":"薪酬構成!J49","v":0},{"$f":"薪酬構成!K49","v":0},{"$f":"薪酬構成!P49","v":0},{"$f":"薪酬構成!Q49","v":0},{"$f":"薪酬構成!R49","v":0},{"$f":"薪酬構成!S49","v":0},{"$f":"薪酬構成!T49","v":0},{"$f":"薪酬構成!U49","v":0},{"$f":"薪酬構成!V49","v":0},{"$f":"薪酬構成!W49","v":0},{"$f":"薪酬構成!X49","v":0},{"$f":"薪酬構成!Y49","v":0},{"$f":"薪酬構成!Z49","v":0},{"$f":"薪酬構成!AA49","v":0},{"$f":"薪酬構成!AE49","v":0},{"$f":"薪酬構成!AI49","v":0}]
[6,{"$f":"薪酬構成!C50","v":0},{"$f":"薪酬構成!E50","v":0},{"$f":"薪酬構成!F50","v":0},{"$f":"薪酬構成!G50","v":0},{"$f":"薪酬構成!H50","v":0},{"$f":"薪酬構成!J50","v":0},{"$f":"薪酬構成!K50","v":0},{"$f":"薪酬構成!P50","v":0},{"$f":"薪酬構成!Q50","v":0},{"$f":"薪酬構成!R50","v":0},{"$f":"薪酬構成!S50","v":0},{"$f":"薪酬構成!T50","v":0},{"$f":"薪酬構成!U50","v":0},{"$f":"薪酬構成!V50","v":0},{"$f":"薪酬構成!W50","v":0},{"$f":"薪酬構成!X50","v":0},{"$f":"薪酬構成!Y50","v":0},{"$f":"薪酬構成!Z50","v":0},{"$f":"薪酬構成!AA50","v":0},{"$f":"薪酬構成!AE50","v":0},{"$f":"薪酬構成!AI50","v":0}]
[7,{"$f":"薪酬構成!C51","v":0},{"$f":"薪酬構成!E51","v":0},{"$f":"薪酬構成!F51","v":0},{"$f":"薪酬構成!G51","v":0},{"$f":"薪酬構成!H51","v":0},{"$f":"薪酬構成!J51","v":0},{"$f":"薪酬構成!K51","v":0},{"$f":"薪酬構成!P51","v":0},{"$f":"薪酬構成!Q51","v":0},{"$f":"薪酬構成!R51","v":0},{"$f":"薪酬構成!S51","v":0},{"$f":"薪酬構成!T51","v":0},{"$f":"薪酬構成!U51","v":0},{"$f":"薪酬構成!V51","v":0},{"$f":"薪酬構成!W51","v":0},{"$f":"薪酬構成!X51","v":0},{"$f":"薪酬構成!Y51","v":0},{"$f":"薪酬構成!Z51","v":0},{"$f":"薪酬構成!AA51","v":0},{"$f":"薪酬構成!AE51","v":0},{"$f":"薪酬構成!AI51","v":0}]
[8,{"$f":"薪酬構成!C52","v":0},{"$f":"薪酬構成!E52","v":0},{"$f":"薪酬構成!F52","v":0},{"$f":"薪酬構成!G52","v":0},{"$f":"薪酬構成!H52","v":0},{"$f":"薪酬構成!J52","v":0},{"$f":"薪酬構成!K52","v":0},{"$f":"薪酬構成!P52","v":0},{"$f":"薪酬構成!Q52","v":0},{"$f":"薪酬構成!R52","v":0},{"$f":"薪酬構成!S52","v":0},{"$f":"薪酬構成!T52","v":0},{"$f":"薪酬構成!U52","v":0},{"$f":"薪酬構成!V52","v":0},{"$f":"薪酬構成!W52","v":0},{"$f":"薪酬構成!X52","v":0},{"$f":"薪酬構成!Y52","v":0},{"$f":"薪酬構成!Z52","v":0},{"$f":"薪酬構成!AA52","v":0},{"$f":"薪酬構成!AE52","v":0},{"$f":"薪酬構成!AI52","v":0}]
[9,{"$f":"薪酬構成!C53","v":0},{"$f":"薪酬構成!E53","v":0},{"$f":"薪酬構成!F53","v":0},{"$f":"薪酬構成!G53","v":0},{"$f":"薪酬構成!H53","v":0},{"$f":"薪酬構成!J53","v":0},{"$f":"薪酬構成!K53","v":0},{"$f":"薪酬構成!P53","v":0},{"$f":"薪酬構成!Q53","v":0},{"$f":"薪酬構成!R53","v":0},{"$f":"薪酬構成!S53","v":0},{"$f":"薪酬構成!T53","v":0},{"$f":"薪酬構成!U53","v":0},{"$f":"薪酬構成!V53","v":0},{"$f":"薪酬構成!W53","v":0},{"$f":"薪酬構成!X53","v":0},{"$f":"薪酬構成!Y53","v":0},{"$f":"薪酬構成!Z53","v":0},{"$f":"薪酬構成!AA53","v":0},{"$f":"薪酬構成!AE53","v":0},{"$f":"薪酬構成!AI53","v":0}]
[10,{"$f":"薪酬構成!C54","v":0},{"$f":"薪酬構成!E54","v":0},{"$f":"薪酬構成!F54","v":0},{"$f":"薪酬構成!G54","v":0},{"$f":"薪酬構成!H54","v":0},{"$f":"薪酬構成!J54","v":0},{"$f":"薪酬構成!K54","v":0},{"$f":"薪酬構成!P54","v":0},{"$f":"薪酬構成!Q54","v":0},{"$f":"薪酬構成!R54","v":0},{"$f":"薪酬構成!S54","v":0},{"$f":"薪酬構成!T54","v":0},{"$f":"薪酬構成!U54","v":0},{"$f":"薪酬構成!V54","v":0},{"$f":"薪酬構成!W54","v":0},{"$f":"薪酬構成!X54","v":0},{"$f":"薪酬構成!Y54","v":0},{"$f":"薪酬構成!Z54","v":0},{"$f":"薪酬構成!AA54","v":0},{"$f":"薪酬構成!AE54","v":0},{"$f":"薪酬構成!AI54","v":0}]
[11,{"$f":"薪酬構成!C55","v":0},{"$f":"薪酬構成!E55","v":0},{"$f":"薪酬構成!F55","v":0},{"$f":"薪酬構成!G55","v":0},{"$f":"薪酬構成!H55","v":0},{"$f":"薪酬構成!J55","v":0},{"$f":"薪酬構成!K55","v":0},{"$f":"薪酬構成!P55","v":0},{"$f":"薪酬構成!Q55","v":0},{"$f":"薪酬構成!R55","v":0},{"$f":"薪酬構成!S55","v":0},{"$f":"薪酬構成!T55","v":0},{"$f":"薪酬構成!U55","v":0},{"$f":"薪酬構成!V55","v":0},{"$f":"薪酬構成!W55","v":0},{"$f":"薪酬構成!X55","v":0},{"$f":"薪酬構成!Y55","v":0},{"$f":"薪酬構成!Z55","v":0},{"$f":"薪酬構成!AA55","v":0},{"$f":"薪酬構成!AE55","v":0},{"$f":"薪酬構成!AI55","v":0}]
[null,{"$f":"薪酬構成!C56","v":0},{"$f":"薪酬構成!E56","v":0},{"$f":"薪酬構成!F56","v":0},{"$f":"薪酬構成!G56","v":0},{"$f":"薪酬構成!H56","v":0},{"$f":"薪酬構成!J56","v":0},{"$f":"薪酬構成!K56","v":0},{"$f":"薪酬構成!P56","v":0},{"$f":"薪酬構成!Q56","v":0},{"$f":"薪酬構成!R56","v":0},{"$f":"薪酬構成!S56","v":0},{"$f":"薪酬構成!T56","v":0},{"$f":"薪酬構成!U56","v":0},{"$f":"薪酬構成!V56","v":0},{"$f":"薪酬構成!W56","v":0},{"$f":"薪酬構成!X56","v":0},{"$f":"薪酬構成!Y56","v":0},{"$f":"薪酬構成!Z56","v":0},{"$f":"薪酬構成!AA56","v":0},{"$f":"薪酬構成!AE56","v":0},{"$f":"薪酬構成!AI56","v":0}]
[1,{"$f":"薪酬構成!C57","v":0},{"$f":"薪酬構成!E57","v":0},{"$f":"薪酬構成!F57","v":0},{"$f":"薪酬構成!G57","v":0},{"$f":"薪酬構成!H57","v":0},{"$f":"薪酬構成!J57","v":0},{"$f":"薪酬構成!K57","v":0},{"$f":"薪酬構成!P57","v":0},{"$f":"薪酬構成!Q57","v":0},{"$f":"薪酬構成!R57","v":0},{"$f":"薪酬構成!S57","v":0},{"$f":"薪酬構成!T57","v":0},{"$f":"薪酬構成!U57","v":0},{"$f":"薪酬構成!V57","v":0},{"$f":"薪酬構成!W57","v":0},{"$f":"薪酬構成!X57","v":0},{"$f":"薪酬構成!Y57","v":0},{"$f":"薪酬構成!Z57","v":0},{"$f":"薪酬構成!AA57","v":0},{"$f":"薪酬構成!AE57","v":0},{"$f":"薪酬構成!AI57","v":0}]
[2,{"$f":"薪酬構成!C58","v":0},{"$f":"薪酬構成!E58","v":0},{"$f":"薪酬構成!F58","v":0},{"$f":"薪酬構成!G58","v":0},{"$f":"薪酬構成!H58","v":0},{"$f":"薪酬構成!J58","v":0},{"$f":"薪酬構成!K58","v":0},{"$f":"薪酬構成!P58","v":0},{"$f":"薪酬構成!Q58","v":0},{"$f":"薪酬構成!R58","v":0},{"$f":"薪酬構成!S58","v":0},{"$f":"薪酬構成!T58","v":0},{"$f":"薪酬構成!U58","v":0},{"$f":"薪酬構成!V58","v":0},{"$f":"薪酬構成!W58","v":0},{"$f":"薪酬構成!X58","v":0},{"$f":"薪酬構成!Y58","v":0},{"$f":"薪酬構成!Z58","v":0},{"$f":"薪酬構成!AA58","v":0},{"$f":"薪酬構成!AE58","v":0},{"$f":"薪酬構成!AI58","v":0}]
[3,{"$f":"薪酬構成!C59","v":0},{"$f":"薪酬構成!E59","v":0},{"$f":"薪酬構成!F59","v":0},{"$f":"薪酬構成!G59","v":0},{"$f":"薪酬構成!H59","v":0},{"$f":"薪酬構成!J59","v":0},{"$f":"薪酬構成!K59","v":0},{"$f":"薪酬構成!P59","v":0},{"$f":"薪酬構成!Q59","v":0},{"$f":"薪酬構成!R59","v":0},{"$f":"薪酬構成!S59","v":0},{"$f":"薪酬構成!T59","v":0},{"$f":"薪酬構成!U59","v":0},{"$f":"薪酬構成!V59","v":0},{"$f":"薪酬構成!W59","v":0},{"$f":"薪酬構成!X59","v":0},{"$f":"薪酬構成!Y59","v":0},{"$f":"薪酬構成!Z59","v":0},{"$f":"薪酬構成!AA59","v":0},{"$f":"薪酬構成!AE59","v":0},{"$f":"薪酬構成!AI59","v":0}]
[4,{"$f":"薪酬構成!C60","v":0},{"$f":"薪酬構成!E60","v":0},{"$f":"薪酬構成!F60","v":0},{"$f":"薪酬構成!G60","v":0},{"$f":"薪酬構成!H60","v":0},{"$f":"薪酬構成!J60","v":0},{"$f":"薪酬構成!K60","v":0},{"$f":"薪酬構成!P60","v":0},{"$f":"薪酬構成!Q60","v":0},{"$f":"薪酬構成!R60","v":0},{"$f":"薪酬構成!S60","v":0},{"$f":"薪酬構成!T60","v":0},{"$f":"薪酬構成!U60","v":0},{"$f":"薪酬構成!V60","v":0},{"$f":"薪酬構成!W60","v":0},{"$f":"薪酬構成!X60","v":0},{"$f":"薪酬構成!Y60","v":0},{"$f":"薪酬構成!Z60","v":0},{"$f":"薪酬構成!AA60","v":0},{"$f":"薪酬構成!AE60","v":0},{"$f":"薪酬構成!AI60","v":0}]
[5,{"$f":"薪酬構成!C61","v":0},{"$f":"薪酬構成!E61","v":0},{"$f":"薪酬構成!F61","v":0},{"$f":"薪酬構成!G61","v":0},{"$f":"薪酬構成!H61","v":0},{"$f":"薪酬構成!J61","v":0},{"$f":"薪酬構成!K61","v":0},{"$f":"薪酬構成!P61","v":0},{"$f":"薪酬構成!Q61","v":0},{"$f":"薪酬構成!R61","v":0},{"$f":"薪酬構成!S61","v":0},{"$f":"薪酬構成!T61","v":0},{"$f":"薪酬構成!U61","v":0},{"$f":"薪酬構成!V61","v":0},{"$f":"薪酬構成!W61","v":0},{"$f":"薪酬構成!X61","v":0},{"$f":"薪酬構成!Y61","v":0},{"$f":"薪酬構成!Z61","v":0},{"$f":"薪酬構成!AA61","v":0},{"$f":"薪酬構成!AE61","v":0},{"$f":"薪酬構成!AI61","v":0}]
[null,{"$f":"薪酬構成!C62","v":0},{"$f":"薪酬構成!E62","v":0},{"$f":"薪酬構成!F62","v":0},{"$f":"薪酬構成!G62","v":0},{"$f":"薪酬構成!H62","v":0},{"$f":"薪酬構成!J62","v":0},{"$f":"薪酬構成!K62","v":0},{"$f":"薪酬構成!P62","v":0},{"$f":"薪酬構成!Q62","v":0},{"$f":"薪酬構成!R62","v":0},{"$f":"薪酬構成!S62","v":0},{"$f":"薪酬構成!T62","v":0},{"$f":"薪酬構成!U62","v":0},{"$f":"薪酬構成!V62","v":0},{"$f":"薪酬構成!W62","v":0},{"$f":"薪酬構成!X62","v":0},{"$f":"薪酬構成!Y62","v":0},{"$f":"薪酬構成!Z62","v":0},{"$f":"薪酬構成!AA62","v":0},{"$f":"薪酬構成!AE62","v":0},{"$f":"薪酬構成!AI62","v":0}]
[1,{"$f":"薪酬構成!C63","v":0},{"$f":"薪酬構成!E63","v":0},{"$f":"薪酬構成!F63","v":0},{"$f":"薪酬構成!G63","v":0},{"$f":"薪酬構成!H63","v":0},{"$f":"薪酬構成!J63","v":0},{"$f":"薪酬構成!K63","v":0},{"$f":"薪酬構成!P63","v":0},{"$f":"薪酬構成!Q63","v":0},{"$f":"薪酬構成!R63","v":0},{"$f":"薪酬構成!S63","v":0},{"$f":"薪酬構成!T63","v":0},{"$f":"薪酬構成!U63","v":0},{"$f":"薪酬構成!V63","v":0},{"$f":"薪酬構成!W63","v":0},{"$f":"薪酬構成!X63","v":0},{"$f":"薪酬構成!Y63","v":0},{"$f":"薪酬構成!Z63","v":0},{"$f":"薪酬構成!AA63","v":0},{"$f":"薪酬構成!AE63","v":0},{"$f":"薪酬構成!AI63","v":0}]
[2,{"$f":"薪酬構成!C64","v":0},{"$f":"薪酬構成!E64","v":0},{"$f":"薪酬構成!F64","v":0},{"$f":"薪酬構成!G64","v":0},{"$f":"薪酬構成!H64","v":0},{"$f":"薪酬構成!J64","v":0},{"$f":"薪酬構成!K64","v":0},{"$f":"薪酬構成!P64","v":0},{"$f":"薪酬構成!Q64","v":0},{"$f":"薪酬構成!R64","v":0},{"$f":"薪酬構成!S64","v":0},{"$f":"薪酬構成!T64","v":0},{"$f":"薪酬構成!U64","v":0},{"$f":"薪酬構成!V64","v":0},{"$f":"薪酬構成!W64","v":0},{"$f":"薪酬構成!X64","v":0},{"$f":"薪酬構成!Y64","v":0},{"$f":"薪酬構成!Z64","v":0},{"$f":"薪酬構成!AA64","v":0},{"$f":"薪酬構成!AE64","v":0},{"$f":"薪酬構成!AI64","v":0}]
[3,{"$f":"薪酬構成!C65","v":0},{"$f":"薪酬構成!E65","v":0},{"$f":"薪酬構成!F65","v":0},{"$f":"薪酬構成!G65","v":0},{"$f":"薪酬構成!H65","v":0},{"$f":"薪酬構成!J65","v":0},{"$f":"薪酬構成!K65","v":0},{"$f":"薪酬構成!P65","v":0},{"$f":"薪酬構成!Q65","v":0},{"$f":"薪酬構成!R65","v":0},{"$f":"薪酬構成!S65","v":0},{"$f":"薪酬構成!T65","v":0},{"$f":"薪酬構成!U65","v":0},{"$f":"薪酬構成!V65","v":0},{"$f":"薪酬構成!W65","v":0},{"$f":"薪酬構成!X65","v":0},{"$f":"薪酬構成!Y65","v":0},{"$f":"薪酬構成!Z65","v":0},{"$f":"薪酬構成!AA65","v":0},{"$f":"薪酬構成!AE65","v":0},{"$f":"薪酬構成!AI65","v":0}]
[4,{"$f":"薪酬構成!C66","v":0},{"$f":"薪酬構成!E66","v":0},{"$f":"薪酬構成!F66","v":0},{"$f":"薪酬構成!G66","v":0},{"$f":"薪酬構成!H66","v":0},{"$f":"薪酬構成!J66","v":0},{"$f":"薪酬構成!K66","v":0},{"$f":"薪酬構成!P66","v":0},{"$f":"薪酬構成!Q66","v":0},{"$f":"薪酬構成!R66","v":0},{"$f":"薪酬構成!S66","v":0},{"$f":"薪酬構成!T66","v":0},{"$f":"薪酬構成!U66","v":0},{"$f":"薪酬構成!V66","v":0},{"$f":"薪酬構成!W66","v":0},{"$f":"薪酬構成!X66","v":0},{"$f":"薪酬構成!Y66","v":0},{"$f":"薪酬構成!Z66","v":0},{"$f":"薪酬構成!AA66","v":0},{"$f":"薪酬構成!AE66","v":0},{"$f":"薪酬構成!AI66","v":0}]
[5,{"$f":"薪酬構成!C67","v":0},{"$f":"薪酬構成!E67","v":0},{"$f":"薪酬構成!F67","v":0},{"$f":"薪酬構成!G67","v":0},{"$f":"薪酬構成!H67","v":0},{"$f":"薪酬構成!J67","v":0},{"$f":"薪酬構成!K67","v":0},{"$f":"薪酬構成!P67","v":0},{"$f":"薪酬構成!Q67","v":0},{"$f":"薪酬構成!R67","v":0},{"$f":"薪酬構成!S67","v":0},{"$f":"薪酬構成!T67","v":0},{"$f":"薪酬構成!U67","v":0},{"$f":"薪酬構成!V67","v":0},{"$f":"薪酬構成!W67","v":0},{"$f":"薪酬構成!X67","v":0},{"$f":"薪酬構成!Y67","v":0},{"$f":"薪酬構成!Z67","v":0},{"$f":"薪酬構成!AA67","v":0},{"$f":"薪酬構成!AE67","v":0},{"$f":"薪酬構成!AI67","v":0}]
[6,{"$f":"薪酬構成!C68","v":0},{"$f":"薪酬構成!E68","v":0},{"$f":"薪酬構成!F68","v":0},{"$f":"薪酬構成!G68","v":0},{"$f":"薪酬構成!H68","v":0},{"$f":"薪酬構成!J68","v":0},{"$f":"薪酬構成!K68","v":0},{"$f":"薪酬構成!P68","v":0},{"$f":"薪酬構成!Q68","v":0},{"$f":"薪酬構成!R68","v":0},{"$f":"薪酬構成!S68","v":0},{"$f":"薪酬構成!T68","v":0},{"$f":"薪酬構成!U68","v":0},{"$f":"薪酬構成!V68","v":0},{"$f":"薪酬構成!W68","v":0},{"$f":"薪酬構成!X68","v":0},{"$f":"薪酬構成!Y68","v":0},{"$f":"薪酬構成!Z68","v":0},{"$f":"薪酬構成!AA68","v":0},{"$f":"薪酬構成!AE68","v":0},{"$f":"薪酬構成!AI68","v":0}]
[7,{"$f":"薪酬構成!C69","v":0},{"$f":"薪酬構成!E69","v":0},{"$f":"薪酬構成!F69","v":0},{"$f":"薪酬構成!G69","v":0},{"$f":"薪酬構成!H69","v":0},{"$f":"薪酬構成!J69","v":0},{"$f":"薪酬構成!K69","v":0},{"$f":"薪酬構成!P69","v":0},{"$f":"薪酬構成!Q69","v":0},{"$f":"薪酬構成!R69","v":0},{"$f":"薪酬構成!S69","v":0},{"$f":"薪酬構成!T69","v":0},{"$f":"薪酬構成!U69","v":0},{"$f":"薪酬構成!V69","v":0},{"$f":"薪酬構成!W69","v":0},{"$f":"薪酬構成!X69","v":0},{"$f":"薪酬構成!Y69","v":0},{"$f":"薪酬構成!Z69","v":0},{"$f":"薪酬構成!AA69","v":0},{"$f":"薪酬構成!AE69","v":0},{"$f":"薪酬構成!AI69","v":0}]
[8,{"$f":"薪酬構成!C70","v":0},{"$f":"薪酬構成!E70","v":0},{"$f":"薪酬構成!F70","v":0},{"$f":"薪酬構成!G70","v":0},{"$f":"薪酬構成!H70","v":0},{"$f":"薪酬構成!J70","v":0},{"$f":"薪酬構成!K70","v":0},{"$f":"薪酬構成!P70","v":0},{"$f":"薪酬構成!Q70","v":0},{"$f":"薪酬構成!R70","v":0},{"$f":"薪酬構成!S70","v":0},{"$f":"薪酬構成!T70","v":0},{"$f":"薪酬構成!U70","v":0},{"$f":"薪酬構成!V70","v":0},{"$f":"薪酬構成!W70","v":0},{"$f":"薪酬構成!X70","v":0},{"$f":"薪酬構成!Y70","v":0},{"$f":"薪酬構成!Z70","v":0},{"$f":"薪酬構成!AA70","v":0},{"$f":"薪酬構成!AE70","v":0},{"$f":"薪酬構成!AI70","v":0}]
[9,{"$f":"薪酬構成!C71","v":0},{"$f":"薪酬構成!E71","v":0},{"$f":"薪酬構成!F71","v":0},{"$f":"薪酬構成!G71","v":0},{"$f":"薪酬構成!H71","v":0},{"$f":"薪酬構成!J71","v":0},{"$f":"薪酬構成!K71","v":0},{"$f":"薪酬構成!P71","v":0},{"$f":"薪酬構成!Q71","v":0},{"$f":"薪酬構成!R71","v":0},{"$f":"薪酬構成!S71","v":0},{"$f":"薪酬構成!T71","v":0},{"$f":"薪酬構成!U71","v":0},{"$f":"薪酬構成!V71","v":0},{"$f":"薪酬構成!W71","v":0},{"$f":"薪酬構成!X71","v":0},{"$f":"薪酬構成!Y71","v":0},{"$f":"薪酬構成!Z71","v":0},{"$f":"薪酬構成!AA71","v":0},{"$f":"薪酬構成!AE71","v":0},{"$f":"薪酬構成!AI71","v":0}]
[10,{"$f":"薪酬構成!C72","v":0},{"$f":"薪酬構成!E72","v":0},{"$f":"薪酬構成!F72","v":0},{"$f":"薪酬構成!G72","v":0},{"$f":"薪酬構成!H72","v":0},{"$f":"薪酬構成!J72","v":0},{"$f":"薪酬構成!K72","v":0},{"$f":"薪酬構成!P72","v":0},{"$f":"薪酬構成!Q72","v":0},{"$f":"薪酬構成!R72","v":0},{"$f":"薪酬構成!S72","v":0},{"$f":"薪酬構成!T72","v":0},{"$f":"薪酬構成!U72","v":0},{"$f":"薪酬構成!V72","v":0},{"$f":"薪酬構成!W72","v":0},{"$f":"薪酬構成!X72","v":0},{"$f":"薪酬構成!Y72","v":0},{"$f":"薪酬構成!Z72","v":0},{"$f":"薪酬構成!AA72","v":0},{"$f":"薪酬構成!AE72","v":0},{"$f":"薪酬構成!AI72","v":0}]
[11,{"$f":"薪酬構成!C73","v":0},{"$f":"薪酬構成!E73","v":0},{"$f":"薪酬構成!F73","v":0},{"$f":"薪酬構成!G73","v":0},{"$f":"薪酬構成!H73","v":0},{"$f":"薪酬構成!J73","v":0},{"$f":"薪酬構成!K73","v":0},{"$f":"薪酬構成!P73","v":0},{"$f":"薪酬構成!Q73","v":0},{"$f":"薪酬構成!R73","v":0},{"$f":"薪酬構成!S73","v":0},{"$f":"薪酬構成!T73","v":0},{"$f":"薪酬構成!U73","v":0},{"$f":"薪酬構成!V73","v":0},{"$f":"薪酬構成!W73","v":0},{"$f":"薪酬構成!X73","v":0},{"$f":"薪酬構成!Y73","v":0},{"$f":"薪酬構成!Z73","v":0},{"$f":"薪酬構成!AA73","v":0},{"$f":"薪酬構成!AE73","v":0},{"$f":"薪酬構成!AI73","v":0}]
[12,{"$f":"薪酬構成!C74","v":0},{"$f":"薪酬構成!E74","v":0},{"$f":"薪酬構成!F74","v":0},{"$f":"薪酬構成!G74","v":0},{"$f":"薪酬構成!H74","v":0},{"$f":"薪酬構成!J74","v":0},{"$f":"薪酬構成!K74","v":0},{"$f":"薪酬構成!P74","v":0},{"$f":"薪酬構成!Q74","v":0},{"$f":"薪酬構成!R74","v":0},{"$f":"薪酬構成!S74","v":0},{"$f":"薪酬構成!T74","v":0},{"$f":"薪酬構成!U74","v":0},{"$f":"薪酬構成!V74","v":0},{"$f":"薪酬構成!W74","v":0},{"$f":"薪酬構成!X74","v":0},{"$f":"薪酬構成!Y74","v":0},{"$f":"薪酬構成!Z74","v":0},{"$f":"薪酬構成!AA74","v":0},{"$f":"薪酬構成!AE74","v":0},{"$f":"薪酬構成!AI74","v":0}]
[13,{"$f":"薪酬構成!C75","v":0},{"$f":"薪酬構成!E75","v":0},{"$f":"薪酬構成!F75","v":0},{"$f":"薪酬構成!G75","v":0},{"$f":"薪酬構成!H75","v":0},{"$f":"薪酬構成!J75","v":0},{"$f":"薪酬構成!K75","v":0},{"$f":"薪酬構成!P75","v":0},{"$f":"薪酬構成!Q75","v":0},{"$f":"薪酬構成!R75","v":0},{"$f":"薪酬構成!S75","v":0},{"$f":"薪酬構成!T75","v":0},{"$f":"薪酬構成!U75","v":0},{"$f":"薪酬構成!V75","v":0},{"$f":"薪酬構成!W75","v":0},{"$f":"薪酬構成!X75","v":0},{"$f":"薪酬構成!Y75","v":0},{"$f":"薪酬構成!Z75","v":0},{"$f":"薪酬構成!AA75","v":0},{"$f":"薪酬構成!AE75","v":0},{"$f":"薪酬構成!AI75","v":0}]
[14,{"$f":"薪酬構成!C76","v":0},{"$f":"薪酬構成!E76","v":0},{"$f":"薪酬構成!F76","v":0},{"$f":"薪酬構成!G76","v":0},{"$f":"薪酬構成!H76","v":0},{"$f":"薪酬構成!J76","v":0},{"$f":"薪酬構成!K76","v":0},{"$f":"薪酬構成!P76","v":0},{"$f":"薪酬構成!Q76","v":0},{"$f":"薪酬構成!R76","v":0},{"$f":"薪酬構成!S76","v":0},{"$f":"薪酬構成!T76","v":0},{"$f":"薪酬構成!U76","v":0},{"$f":"薪酬構成!V76","v":0},{"$f":"薪酬構成!W76","v":0},{"$f":"薪酬構成!X76","v":0},{"$f":"薪酬構成!Y76","v":0},{"$f":"薪酬構成!Z76","v":0},{"$f":"薪酬構成!AA76","v":0},{"$f":"薪酬構成!AE76","v":0},{"$f":"薪酬構成!AI76","v":0}]
[15,{"$f":"薪酬構成!C77","v":0},{"$f":"薪酬構成!E77","v":0},{"$f":"薪酬構成!F77","v":0},{"$f":"薪酬構成!G77","v":0},{"$f":"薪酬構成!H77","v":0},{"$f":"薪酬構成!J77","v":0},{"$f":"薪酬構成!K77","v":0},{"$f":"薪酬構成!P77","v":0},{"$f":"薪酬構成!Q77","v":0},{"$f":"薪酬構成!R77","v":0},{"$f":"薪酬構成!S77","v":0},{"$f":"薪酬構成!T77","v":0},{"$f":"薪酬構成!U77","v":0},{"$f":"薪酬構成!V77","v":0},{"$f":"薪酬構成!W77","v":0},{"$f":"薪酬構成!X77","v":0},{"$f":"薪酬構成!Y77","v":0},{"$f":"薪酬構成!Z77","v":0},{"$f":"薪酬構成!AA77","v":0},{"$f":"薪酬構成!AE77","v":0},{"$f":"薪酬構成!AI77","v":0}]
[16,{"$f":"薪酬構成!C78","v":0},{"$f":"薪酬構成!E78","v":0},{"$f":"薪酬構成!F78","v":0},{"$f":"薪酬構成!G78","v":0},{"$f":"薪酬構成!H78","v":0},{"$f":"薪酬構成!J78","v":0},{"$f":"薪酬構成!K78","v":0},{"$f":"薪酬構成!P78","v":0},{"$f":"薪酬構成!Q78","v":0},{"$f":"薪酬構成!R78","v":0},{"$f":"薪酬構成!S78","v":0},{"$f":"薪酬構成!T78","v":0},{"$f":"薪酬構成!U78","v":0},{"$f":"薪酬構成!V78","v":0},{"$f":"薪酬構成!W78","v":0},{"$f":"薪酬構成!X78","v":0},{"$f":"薪酬構成!Y78","v":0},{"$f":"薪酬構成!Z78","v":0},{"$f":"薪酬構成!AA78","v":0},{"$f":"薪酬構成!AE78","v":0},{"$f":"薪酬構成!AI78","v":0}]
[null,{"$f":"薪酬構成!C79","v":0},{"$f":"薪酬構成!E79","v":0},{"$f":"薪酬構成!F79","v":0},{"$f":"薪酬構成!G79","v":0},{"$f":"薪酬構成!H79","v":0},{"$f":"薪酬構成!J79","v":0},{"$f":"薪酬構成!K79","v":0},{"$f":"薪酬構成!P79","v":0},{"$f":"薪酬構成!Q79","v":0},{"$f":"薪酬構成!R79","v":0},{"$f":"薪酬構成!S79","v":0},{"$f":"薪酬構成!T79","v":0},{"$f":"薪酬構成!U79","v":0},{"$f":"薪酬構成!V79","v":0},{"$f":"薪酬構成!W79","v":0},{"$f":"薪酬構成!X79","v":0},{"$f":"薪酬構成!Y79","v":0},{"$f":"薪酬構成!Z79","v":0},{"$f":"薪酬構成!AA79","v":0},{"$f":"薪酬構成!AE79","v":0},{"$f":"薪酬構成!AI79","v":0}]
[null,{"$f":"薪酬構成!C80","v":0},{"$f":"薪酬構成!E80","v":0},{"$f":"薪酬構成!F80","v":0},{"$f":"薪酬構成!G80","v":0},{"$f":"薪酬構成!H80","v":0},{"$f":"薪酬構成!J80","v":0},{"$f":"薪酬構成!K80","v":0},{"$f":"薪酬構成!P80","v":0},{"$f":"薪酬構成!Q80","v":0},{"$f":"薪酬構成!R80","v":0},{"$f":"薪酬構成!S80","v":0},{"$f":"薪酬構成!T80","v":0},{"$f":"薪酬構成!U80","v":0},{"$f":"薪酬構成!V80","v":0},{"$f":"薪酬構成!W80","v":0},{"$f":"薪酬構成!X80","v":0},{"$f":"薪酬構成!Y80","v":0},{"$f":"薪酬構成!Z80","v":0},{"$f":"薪酬構成!AA80","v":0},{"$f":"薪酬構成!AE80","v":0},{"$f":"薪酬構成!AI80","v":0}]

{"sheet":"工資明細表","index":5,"n_rows":13,"n_cols":25,"rows_kept":13,"cut":false,"hidden":false,"merged":[[0,0,0,24],[1,0,1,1],[1,2,1,11],[1,12,1,14],[1,16,1,19]]}
["XXXX年XX月份工資部門明細"]
["基本資訊",null,"收入部分",null,null,null,null,null,null,null,null,null,"扣款部分",null,null,null,"社會保險"]
["部門","人數","基本\n工資","獎金","福利\n津貼","崗位\n津貼","職務\n津貼","值班\n補貼","夜餐\n補貼","加班費","應加\n工資","考核\n工資","事假\n扣款","病假\n扣款","其他\n扣款","應發\n工資","養老","失業","醫療","住房","代扣\n個稅","代扣\n話費","扣飯卡\n押金","退飯卡\n押金","實發工資"]
["安管部",200,{"$f":"薪酬構成!E14","v":0},{"$f":"薪酬構成!F14","v":0},{"$f":"薪酬構成!G14","v":0},{"$f":"薪酬構成!H14","v":0},{"$f":"薪酬構成!I14","v":0},{"$f":"薪酬構成!J14","v":0},{"$f":"薪酬構成!K14","v":0},{"$f":"薪酬構成!P14","v":0},{"$f":"薪酬構成!Q14","v":0},{"$f":"薪酬構成!S14","v":0},{"$f":"薪酬構成!T14","v":0},{"$f":"薪酬構成!U14","v":0},{"$f":"薪酬構成!V14","v":0},{"$f":"C4+D4+E4+F4+G4+H4+I4+J4+K4+L4+-M4-N4-O4","v":0},{"$f":"薪酬構成!X14","v":0},{"$f":"薪酬構成!Y14","v":0},{"$f":"薪酬構成!Z14","v":0},{"$f":"薪酬構成!AA14","v":0},{"$f":"薪酬構成!AE14","v":0},{"$f":"薪酬構成!AF14","v":0},{"$f":"薪酬構成!AG14","v":0},{"$f":"薪酬構成!AH14","v":0},{"$f":"P4-Q4-R4-S4-T4-U4-V4-W4+X4","v":0}]
["工程部",95,{"$f":"薪酬構成!E25","v":0},{"$f":"薪酬構成!F25","v":0},{"$f":"薪酬構成!G25","v":0},{"$f":"薪酬構成!H25","v":0},{"$f":"薪酬構成!I25","v":0},{"$f":"薪酬構成!J25","v":0},{"$f":"薪酬構成!K25","v":0},{"$f":"薪酬構成!P25","v":0},{"$f":"薪酬構成!Q25","v":0},{"$f":"薪酬構成!S25","v":0},{"$f":"薪酬構成!T25","v":0},{"$f":"薪酬構成!U25","v":0},{"$f":"薪酬構成!V25","v":0},{"$f":"C5+D5+E5+F5+G5+H5+I5+J5+K5+L5+-M5-N5-O5","v":0},{"$f":"薪酬構成!X25","v":0},{"$f":"薪酬構成!Y25","v":0},{"$f":"薪酬構成!Z25","v":0},{"$f":"薪酬構成!AA25","v":0},{"$f":"薪酬構成!AE25","v":0},{"$f":"薪酬構成!AF25","v":0},{"$f":"薪酬構成!AG25","v":0},{"$f":"薪酬構成!AH25","v":0},0]
["客服",33,{"$f":"薪酬構成!E36","v":0},{"$f":"薪酬構成!F36","v":0},{"$f":"薪酬構成!G36","v":0},{"$f":"薪酬構成!H36","v":0},{"$f":"薪酬構成!I36","v":0},{"$f":"薪酬構成!J36","v":0},{"$f":"薪酬構成!K36","v":0},{"$f":"薪酬構成!L36","v":0},{"$f":"薪酬構成!Q36","v":0},{"$f":"薪酬構成!S36","v":0},{"$f":"薪酬構成!T36","v":0},{"$f":"薪酬構成!U36","v":0},{"$f":"薪酬構成!V36","v":0},{"$f":"C6+D6+E6+F6+G6+H6+I6+J6+K6+L6+-M6-N6-O6","v":0},{"$f":"薪酬構成!X36","v":0},{"$f":"薪酬構成!Y36","v":0},{"$f":"薪酬構成!Z36","v":0},{"$f":"薪酬構成!AA36","v":0},{"$f":"薪酬構成!AE36","v":0},{"$f":"薪酬構成!AF36","v":0},{"$f":"薪酬構成!AG36","v":0},{"$f":"薪酬構成!AH36","v":0},0]
["車場",10,{"$f":"薪酬構成!E56","v":0},{"$f":"薪酬構成!F56","v":0},{"$f":"薪酬構成!G56","v":0},{"$f":"薪酬構成!H56","v":0},{"$f":"薪酬構成!I56","v":0},{"$f":"薪酬構成!J56","v":0},{"$f":"薪酬構成!K56","v":0},{"$f":"薪酬構成!L56","v":0},{"$f":"薪酬構成!Q56","v":0},{"$f":"薪酬構成!S56","v":0},{"$f":"薪酬構成!T56","v":0},{"$f":"薪酬構成!U56","v":0},{"$f":"薪酬構成!V56","v":0},{"$f":"C7+D7+E7+F7+G7+H7+I7+J7+K7+L7+-M7-N7-O7","v":0},{"$f":"薪酬構成!X56","v":0},{"$f":"薪酬構成!Y56","v":0},{"$f":"薪酬構成!Z56","v":0},{"$f":"薪酬構成!AA56","v":0},{"$f":"薪酬構成!AE56","v":0},{"$f":"薪酬構成!AF56","v":0},{"$f":"薪酬構成!AG56","v":0},{"$f":"薪酬構成!AH56","v":0},0]
["總部",28,{"$f":"薪酬構成!E44+薪酬構成!E62+薪酬構成!E79","v":0},{"$f":"薪酬構成!F44+薪酬構成!F62+薪酬構成!F79","v":0},{"$f":"薪酬構成!G44+薪酬構成!G62+薪酬構成!G79","v":0},{"$f":"薪酬構成!H44+薪酬構成!H62+薪酬構成!H79","v":0},{"$f":"薪酬構成!I44+薪酬構成!I62+薪酬構成!I79","v":0},{"$f":"薪酬構成!J44+薪酬構成!J62+薪酬構成!J79","v":0},{"$f":"薪酬構成!K44+薪酬構成!K62+薪酬構成!K79","v":0},{"$f":"薪酬構成!L44+薪酬構成!L62+薪酬構成!L79","v":0},{"$f":"薪酬構成!Q44+薪酬構成!Q62+薪酬構成!Q79","v":0},{"$f":"薪酬構成!R44+薪酬構成!R62+薪酬構成!R79","v":0},{"$f":"薪酬構成!T44+薪酬構成!T62+薪酬構成!T79","v":0},{"$f":"薪酬構成!U44+薪酬構成!U62+薪酬構成!U79","v":0},{"$f":"薪酬構成!V44+薪酬構成!V62+薪酬構成!V79","v":0},{"$f":"C8+D8+E8+F8+G8+H8+I8+J8+K8+L8+-M8-N8-O8","v":0},{"$f":"薪酬構成!X79+薪酬構成!X62+薪酬構成!X44","v":0},{"$f":"薪酬構成!Y44+薪酬構成!Y62+薪酬構成!Y79","v":0},{"$f":"薪酬構成!Z44+薪酬構成!Z62+薪酬構成!Z79","v":0},{"$f":"薪酬構成!AA44+薪酬構成!AA62+薪酬構成!AA79","v":0},{"$f":"薪酬構成!AE44+薪酬構成!AE62+薪酬構成!AE79","v":0},{"$f":"薪酬構成!AF44+薪酬構成!AF62+薪酬構成!AF79","v":0},{"$f":"薪酬構成!AG44+薪酬構成!AG62+薪酬構成!AG79","v":0},{"$f":"薪酬構成!AH44+薪酬構成!AH62+薪酬構成!AH79","v":0},0]
["合計",{"$f":"SUM(B4:B8)","v":366},0,0,0,0,0,0,0,0,0,0,0,0,0,0,0,0,0,0,0,0,0,0,0]
[]
[]
[]
["審批：",null,null,null,null,null,null,null,null,null,"審核：",null,null,null,null,null,null,null,"製錶："]

{"sheet":"社會保障系統","index":6,"n_rows":85,"n_cols":27,"rows_kept":85,"cut":false,"hidden":false,"merged":[[0,0,0,26],[1,0,1,2],[1,3,1,6],[1,7,1,10],[1,11,1,12],[1,13,1,14],[1,15,1,22],[1,24,1,26]]}
["社會保障系統（養老、醫療、生育、工傷、住房公積金）"]
["基本資訊",null,null,"養老保險",null,null,null,"失業保險",null,null,null,"工傷",null,"生育",null,"醫療",null,null,null,null,null,null,null,"住房","社保合計"]
["姓 名","部 門","人員類型","基 數","統籌20％","個人8％","合計28％","基 數","單位繳費1.5％","個人繳費0.5％","合計2%","基 數","單位繳費0.5%","基 數","單位繳費0.8％","基 數","單位交納","個人互助","單位合計","個人交納","個人互助","個人合計","醫療合計","公積金","單位合計","個人合計","總計"]
[{"$f":"考勤表!A4","v":0},"保安部",null,null,{"$f":"D4*20%","v":0},{"$f":"D4*8%","v":0},{"$f":"SUM(E4:F4)","v":0},{"$f":"D4","v":0},{"$f":"ROUND(H4*1.5%,2)","v":0},{"$f":"ROUND(H4*0.5%,2)","v":0},{"$f":"I4+J4","v":0},{"$f":"社會保障系統!D4","v":0},{"$f":"ROUND(L4*0.5%,2)","v":0},null,{"$f":"ROUND(N4*0.8%,2)","v":0},null,{"$f":"P4*9%","v":0},{"$f":"P4*1%","v":0},{"$f":"Q4+R4","v":0},{"$f":"P4*2%","v":0},null,{"$f":"T4+U4","v":0},{"$f":"S4+V4","v":0},null,{"$f":"SUM(E4+I4+M4+O4+S4)","v":0},{"$f":"SUM(F4+J4+V4)","v":0},{"$f":"SUM(Y4:Z4)","v":0}]
[{"$f":"考勤表!A5","v":0},"保安部",null,null,0,0,0,0,0,0,0,{"$f":"社會保障系統!D5","v":0},0,null,0,null,0,0,0,0,null,0,0,null,0,0,0]
[{"$f":"考勤表!A6","v":0},"保安部",null,null,0,0,0,0,0,0,0,{"$f":"社會保障系統!D6","v":0},0,null,0,null,0,0,0,0,null,0,0,null,0,{"$f":"SUM(F6+J6+V6)","v":0},0]
[{"$f":"考勤表!A7","v":0},"保安部",null,null,0,0,0,0,0,0,0,{"$f":"社會保障系統!D7","v":0},0,null,0,null,0,0,0,0,null,0,0,null,0,0,0]
[{"$f":"考勤表!A8","v":0},"保安部",null,null,0,0,0,0,0,0,0,{"$f":"社會保障系統!D8","v":0},0,null,0,null,0,0,0,0,null,0,0,null,0,0,0]
[{"$f":"考勤表!A9","v":0},"保安部",null,null,0,0,0,0,0,0,0,{"$f":"社會保障系統!D9","v":0},0,null,0,null,0,0,0,0,null,0,0,null,0,0,0]
[{"$f":"考勤表!A10","v":0},"保安部",null,null,0,0,0,0,0,0,0,{"$f":"社會保障系統!D10","v":0},0,null,0,null,0,0,0,0,null,0,0,null,0,0,0]
[{"$f":"考勤表!A11","v":0},"保安部",null,null,0,0,0,0,0,0,0,{"$f":"社會保障系統!D11","v":0},0,null,0,null,0,0,0,0,null,0,0,null,0,0,0]
[{"$f":"考勤表!A12","v":0},"保安部",null,null,0,0,0,0,0,0,0,{"$f":"社會保障系統!D12","v":0},0,null,0,null,0,0,0,0,null,0,0,null,0,0,0]
[{"$f":"考勤表!A13","v":0},"保安部",null,null,0,0,0,0,0,0,0,{"$f":"社會保障系統!D13","v":0},0,null,0,null,0,0,0,0,null,0,0,null,0,0,0]
[null,null,{"$f":"COUNTIF(P4:P13,1640)","v":0},{"$f":"SUM(D4:D13)","v":0},0,0,0,0,0,0,0,0,0,0,0,0,0,0,0,0,0,0,0,0,0,0,0]
[{"$f":"考勤表!A15","v":0},"工程部",null,null,{"$f":"D15*20%","v":0},{"$f":"D15*8%","v":0},{"$f":"SUM(E15:F15)","v":0},{"$f":"D15","v":0},{"$f":"ROUND(H15*1.5%,2)","v":0},{"$f":"ROUND(H15*0.5%,2)","v":0},{"$f":"I15+J15","v":0},{"$f":"社會保障系統!D15","v":0},{"$f":"ROUND(L15*0.5%,2)","v":0},null,{"$f":"ROUND(N15*0.8%,2)","v":0},null,{"$f":"P15*9%","v":0},{"$f":"P15*1%","v":0},{"$f":"Q15+R15","v":0},{"$f":"P15*2%","v":0},null,{"$f":"T15+U15","v":0},{"$f":"S15+V15","v":0},null,{"$f":"SUM(E15+I15+M15+O15+S15)","v":0},{"$f":"SUM(F15+J15+V15)","v":0},{"$f":"SUM(Y15:Z15)","v":0}]
[{"$f":"考勤表!A16","v":0},"工程部",null,null,0,0,0,0,0,0,0,{"$f":"社會保障系統!D16","v":0},0,null,0,null,0,0,0,0,null,0,0,null,0,0,0]
[{"$f":"考勤表!A17","v":0},"工程部",null,null,0,0,0,0,0,0,0,{"$f":"社會保障系統!D17","v":0},0,null,0,null,0,0,0,0,null,0,0,null,0,0,0]
[{"$f":"考勤表!A18","v":0},"工程部",null,null,0,0,0,0,0,0,0,{"$f":"社會保障系統!D18","v":0},0,null,0,null,0,0,0,0,null,0,0,null,0,0,0]
[{"$f":"考勤表!A19","v":0},"工程部",null,null,0,0,0,0,0,0,0,{"$f":"社會保障系統!D19","v":0},0,null,0,null,0,0,0,0,null,0,0,null,0,0,0]
[{"$f":"考勤表!A20","v":0},"工程部",null,null,0,0,0,0,0,0,0,{"$f":"社會保障系統!D20","v":0},0,null,0,null,0,0,0,0,null,0,0,null,0,0,0]
[{"$f":"考勤表!A21","v":0},"工程部",null,null,0,0,0,0,0,0,0,{"$f":"社會保障系統!D21","v":0},0,null,0,null,0,0,0,0,null,0,0,null,0,0,0]
[{"$f":"考勤表!A22","v":0},"工程部",null,null,0,0,0,0,0,0,0,{"$f":"社會保障系統!D22","v":0},0,null,0,null,0,0,0,0,null,0,0,null,0,0,0]
[{"$f":"考勤表!A23","v":0},"工程部",null,null,0,0,0,0,0,0,0,{"$f":"社會保障系統!D23","v":0},0,null,0,null,0,0,0,0,null,0,0,null,0,0,0]
[{"$f":"考勤表!A24","v":0},"工程部",null,null,0,0,0,0,0,0,0,{"$f":"社會保障系統!D24","v":0},0,null,0,null,0,0,0,0,null,0,0,null,0,0,0]
[null,null,null,{"$f":"SUM(D15:D24)","v":0},0,0,0,0,0,0,0,0,0,0,0,0,0,0,0,0,0,0,0,0,0,0,0]
[{"$f":"考勤表!A26","v":0},"客服中心",null,null,{"$f":"D26*20%","v":0},{"$f":"D26*8%","v":0},{"$f":"SUM(E26:F26)","v":0},{"$f":"D26","v":0},{"$f":"ROUND(H26*1.5%,2)","v":0},{"$f":"ROUND(H26*0.5%,2)","v":0},{"$f":"I26+J26","v":0},{"$f":"社會保障系統!D26","v":0},{"$f":"ROUND(L26*0.5%,2)","v":0},null,{"$f":"ROUND(N26*0.8%,2)","v":0},null,{"$f":"P26*9%","v":0},{"$f":"P26*1%","v":0},{"$f":"Q26+R26","v":0},{"$f":"P26*2%","v":0},null,{"$f":"T26+U26","v":0},{"$f":"S26+V26","v":0},null,{"$f":"SUM(E26+I26+M26+O26+S26)","v":0},{"$f":"SUM(F26+J26+V26)","v":0},{"$f":"SUM(Y26:Z26)","v":0}]
[{"$f":"考勤表!A27","v":0},"客服中心",null,null,0,0,0,0,0,0,0,{"$f":"社會保障系統!D27","v":0},0,null,0,null,0,0,0,0,null,0,0,null,0,0,0]
[{"$f":"考勤表!A28","v":0},"客服中心",null,null,0,0,0,0,0,0,0,{"$f":"社會保障系統!D28","v":0},0,null,0,null,0,0,0,0,null,0,0,null,0,0,0]
[{"$f":"考勤表!A29","v":0},"客服中心",null,null,0,0,0,0,0,0,0,{"$f":"社會保障系統!D29","v":0},0,null,0,null,0,0,0,0,null,0,0,null,0,0,0]
[{"$f":"考勤表!A30","v":0},"客服中心",null,null,0,0,0,0,0,0,0,{"$f":"社會保障系統!D30","v":0},0,null,0,null,0,0,0,0,null,0,0,null,0,0,0]
[{"$f":"考勤表!A31","v":0},"客服中心",null,null,0,0,0,0,0,0,0,{"$f":"社會保障系統!D31","v":0},0,null,0,null,0,0,0,0,null,0,0,null,0,0,0]
[{"$f":"考勤表!A32","v":0},"客服中心",null,null,0,0,0,0,0,0,0,{"$f":"社會保障系統!D32","v":0},0,null,0,null,0,0,0,0,null,0,0,null,0,0,0]
[{"$f":"考勤表!A33","v":0},"客服中心",null,null,0,0,0,0,0,0,0,{"$f":"社會保障系統!D33","v":0},0,null,0,null,0,0,0,0,null,0,0,null,0,0,0]
[{"$f":"考勤表!A34","v":0},"客服中心",null,null,0,0,0,0,0,0,0,{"$f":"社會保障系統!D34","v":0},0,null,0,null,0,0,0,0,null,0,0,null,0,0,0]
[{"$f":"考勤表!A35","v":0},"客服中心",null,null,0,0,0,0,0,0,0,{"$f":"社會保障系統!D35","v":0},0,null,0,null,0,0,0,0,null,0,0,null,0,0,0]
[null,null,null,{"$f":"SUM(D26:D35)","v":0},0,0,0,0,0,0,0,0,0,0,0,0,0,0,0,0,0,0,0,0,0,0,0]
[{"$f":"考勤表!A37","v":0},"財務部",null,null,{"$f":"D37*20%","v":0},{"$f":"D37*8%","v":0},{"$f":"SUM(E37:F37)","v":0},{"$f":"D37","v":0},{"$f":"ROUND(H37*1.5%,2)","v":0},{"$f":"ROUND(H37*0.5%,2)","v":0},{"$f":"I37+J37","v":0},{"$f":"社會保障系統!D37","v":0},{"$f":"ROUND(L37*0.5%,2)","v":0},null,{"$f":"ROUND(N37*0.8%,2)","v":0},null,{"$f":"P37*9%","v":0},{"$f":"P37*1%","v":0},{"$f":"Q37+R37","v":0},{"$f":"P37*2%","v":0},null,{"$f":"T37+U37","v":0},{"$f":"S37+V37","v":0},0,{"$f":"SUM(E37+I37+M37+O37+S37)","v":0},{"$f":"SUM(F37+J37+V37)","v":0},{"$f":"SUM(Y37:Z37)","v":0}]
[{"$f":"考勤表!A38","v":0},"財務部",null,null,0,0,0,0,0,0,0,{"$f":"社會保障系統!D38","v":0},0,null,0,null,0,0,0,0,null,0,0,null,0,0,0]
[{"$f":"考勤表!A39","v":0},"財務部",null,null,0,0,0,0,0,0,0,{"$f":"社會保障系統!D39","v":0},0,null,0,null,0,0,0,0,null,0,0,null,0,0,0]
[{"$f":"考勤表!A40","v":0},"財務部",null,null,0,0,0,0,0,0,0,{"$f":"社會保障系統!D40","v":0},0,null,0,null,0,0,0,0,null,0,0,null,0,0,0]
[{"$f":"考勤表!A41","v":0},"財務部",null,null,0,0,0,0,0,0,0,{"$f":"社會保障系統!D41","v":0},0,null,0,null,0,0,0,0,null,0,0,null,0,0,0]
[{"$f":"考勤表!A42","v":0},"財務部",null,null,0,0,0,0,0,0,0,{"$f":"社會保障系統!D42","v":0},0,null,0,null,0,0,0,0,null,0,0,null,0,0,0]
[{"$f":"考勤表!A43","v":0},"財務部",null,null,0,0,0,0,0,0,0,{"$f":"社會保障系統!D43","v":0},0,null,0,null,0,0,0,0,null,0,0,null,0,0,0]
[null,null,null,{"$f":"SUM(D37:D43)","v":0},0,0,0,0,0,0,0,0,0,0,0,0,0,0,0,0,0,0,0,0,0,0,0]
[{"$f":"考勤表!A45","v":0},"財務部",null,null,{"$f":"D45*20%","v":0},{"$f":"D45*8%","v":0},{"$f":"SUM(E45:F45)","v":0},{"$f":"D45","v":0},{"$f":"ROUND(H45*1.5%,2)","v":0},{"$f":"ROUND(H45*0.5%,2)","v":0},{"$f":"I45+J45","v":0},{"$f":"社會保障系統!D45","v":0},{"$f":"ROUND(L45*0.5%,2)","v":0},null,{"$f":"ROUND(N45*0.8%,2)","v":0},null,{"$f":"P45*9%","v":0},{"$f":"P45*1%","v":0},{"$f":"Q45+R45","v":0},{"$f":"P45*2%","v":0},null,{"$f":"T45+U45","v":0},{"$f":"S45+V45","v":0},null,{"$f":"SUM(E45+I45+M45+O45+S45)","v":0},{"$f":"SUM(F45+J45+V45)","v":0},{"$f":"SUM(Y45:Z45)","v":0}]
[{"$f":"考勤表!A46","v":0},"財務部",null,null,0,0,0,0,0,{"$f":"ROUND(H46*0.5%,2)","v":0},0,{"$f":"社會保障系統!D46","v":0},0,null,0,null,0,0,0,0,null,0,0,null,0,0,0]
[{"$f":"考勤表!A47","v":0},"財務部",null,null,0,0,0,0,0,{"$f":"ROUND(H47*0.5%,2)","v":0},0,{"$f":"社會保障系統!D47","v":0},0,null,0,null,0,0,0,0,null,0,0,null,0,0,0]
[{"$f":"考勤表!A48","v":0},"財務部",null,null,0,0,0,0,0,{"$f":"ROUND(H48*0.5%,2)","v":0},0,{"$f":"社會保障系統!D48","v":0},0,null,0,null,0,0,0,0,null,0,0,null,0,0,0]
[{"$f":"考勤表!A49","v":0},"財務部",null,null,0,0,0,0,0,{"$f":"ROUND(H49*0.5%,2)","v":0},0,{"$f":"社會保障系統!D49","v":0},0,null,0,null,0,0,0,0,null,0,0,null,0,0,0]
[{"$f":"考勤表!A50","v":0},"財務部",null,null,0,0,0,0,0,0,0,{"$f":"社會保障系統!D50","v":0},0,null,0,null,0,0,0,0,null,0,0,null,0,0,0]
[{"$f":"考勤表!A51","v":0},"財務部",null,null,0,0,0,0,0,{"$f":"ROUND(H51*0.5%,2)","v":0},0,{"$f":"社會保障系統!D51","v":0},0,null,0,null,0,0,0,0,null,0,0,null,0,0,0]
[{"$f":"考勤表!A52","v":0},"財務部",null,null,0,0,0,0,0,{"$f":"ROUND(H52*0.5%,2)","v":0},0,{"$f":"社會保障系統!D52","v":0},0,null,0,null,0,0,0,0,null,0,0,null,0,0,0]
[{"$f":"考勤表!A53","v":0},"財務部",null,null,0,0,0,0,0,{"$f":"ROUND(H53*0.5%,2)","v":0},0,{"$f":"社會保障系統!D53","v":0},0,null,0,null,0,0,0,0,null,0,0,null,0,0,0]
[{"$f":"考勤表!A54","v":0},"財務部",null,null,0,0,0,0,0,{"$f":"ROUND(H54*0.5%,2)","v":0},0,{"$f":"社會保障系統!D54","v":0},0,null,0,null,0,0,0,0,null,0,0,null,0,0,0]
[{"$f":"考勤表!A55","v":0},"財務部",null,null,0,0,0,0,0,{"$f":"ROUND(H55*0.5%,2)","v":0},0,{"$f":"社會保障系統!D55","v":0},0,null,0,null,0,0,0,0,null,0,0,null,0,0,0]
[null,null,null,{"$f":"SUM(D45:D55)","v":0},0,0,0,0,0,0,0,0,0,0,0,0,0,0,0,0,0,0,0,0,0,0,0]
[{"$f":"考勤表!A57","v":0},"質管部",null,null,{"$f":"D57*20%","v":0},{"$f":"D57*8%","v":0},{"$f":"SUM(E57:F57)","v":0},{"$f":"D57","v":0},{"$f":"ROUND(H57*1.5%,2)","v":0},{"$f":"ROUND(H57*0.5%,2)","v":0},{"$f":"I57+J57","v":0},{"$f":"社會保障系統!D57","v":0},{"$f":"ROUND(L57*0.5%,2)","v":0},null,{"$f":"ROUND(N57*0.8%,2)","v":0},null,{"$f":"P57*9%","v":0},{"$f":"P57*1%","v":0},{"$f":"Q57+R57","v":0},{"$f":"P57*2%","v":0},null,{"$f":"T57+U57","v":0},{"$f":"S57+V57","v":0},null,{"$f":"SUM(E57+I57+M57+O57+S57)","v":0},{"$f":"SUM(F57+J57+V57)","v":0},{"$f":"SUM(Y57:Z57)","v":0}]
[{"$f":"考勤表!A58","v":0},"質管部",null,null,{"$f":"D58*20%","v":0},{"$f":"D58*8%","v":0},{"$f":"SUM(E58:F58)","v":0},{"$f":"D58","v":0},{"$f":"ROUND(H58*1.5%,2)","v":0},{"$f":"ROUND(H58*0.5%,2)","v":0},{"$f":"I58+J58","v":0},{"$f":"社會保障系統!D58","v":0},{"$f":"ROUND(L58*0.5%,2)","v":0},null,{"$f":"ROUND(N58*0.8%,2)","v":0},null,{"$f":"P58*9%","v":0},{"$f":"P58*1%","v":0},{"$f":"Q58+R58","v":0},{"$f":"P58*2%","v":0},null,{"$f":"T58+U58","v":0},{"$f":"S58+V58","v":0},null,{"$f":"SUM(E58+I58+M58+O58+S58)","v":0},{"$f":"SUM(F58+J58+V58)","v":0},{"$f":"SUM(Y58:Z58)","v":0}]
[{"$f":"考勤表!A59","v":0},"質管部",null,null,{"$f":"D59*20%","v":0},{"$f":"D59*8%","v":0},{"$f":"SUM(E59:F59)","v":0},{"$f":"D59","v":0},{"$f":"ROUND(H59*1.5%,2)","v":0},{"$f":"ROUND(H59*0.5%,2)","v":0},{"$f":"I59+J59","v":0},{"$f":"社會保障系統!D59","v":0},{"$f":"ROUND(L59*0.5%,2)","v":0},null,{"$f":"ROUND(N59*0.8%,2)","v":0},null,{"$f":"P59*9%","v":0},{"$f":"P59*1%","v":0},{"$f":"Q59+R59","v":0},{"$f":"P59*2%","v":0},null,{"$f":"T59+U59","v":0},{"$f":"S59+V59","v":0},null,{"$f":"SUM(E59+I59+M59+O59+S59)","v":0},{"$f":"SUM(F59+J59+V59)","v":0},{"$f":"SUM(Y59:Z59)","v":0}]
[{"$f":"考勤表!A60","v":0},"質管部",null,null,{"$f":"D60*20%","v":0},{"$f":"D60*8%","v":0},{"$f":"SUM(E60:F60)","v":0},{"$f":"D60","v":0},{"$f":"ROUND(H60*1.5%,2)","v":0},{"$f":"ROUND(H60*0.5%,2)","v":0},{"$f":"I60+J60","v":0},{"$f":"社會保障系統!D60","v":0},{"$f":"ROUND(L60*0.5%,2)","v":0},null,{"$f":"ROUND(N60*0.8%,2)","v":0},null,{"$f":"P60*9%","v":0},{"$f":"P60*1%","v":0},{"$f":"Q60+R60","v":0},{"$f":"P60*2%","v":0},null,{"$f":"T60+U60","v":0},{"$f":"S60+V60","v":0},null,{"$f":"SUM(E60+I60+M60+O60+S60)","v":0},{"$f":"SUM(F60+J60+V60)","v":0},{"$f":"SUM(Y60:Z60)","v":0}]
[{"$f":"考勤表!A61","v":0},"質管部",null,null,{"$f":"D61*20%","v":0},{"$f":"D61*8%","v":0},{"$f":"SUM(E61:F61)","v":0},{"$f":"D61","v":0},{"$f":"ROUND(H61*1.5%,2)","v":0},{"$f":"ROUND(H61*0.5%,2)","v":0},{"$f":"I61+J61","v":0},{"$f":"社會保障系統!D61","v":0},{"$f":"ROUND(L61*0.5%,2)","v":0},null,{"$f":"ROUND(N61*0.8%,2)","v":0},null,{"$f":"P61*9%","v":0},{"$f":"P61*1%","v":0},{"$f":"Q61+R61","v":0},{"$f":"P61*2%","v":0},null,{"$f":"T61+U61","v":0},{"$f":"S61+V61","v":0},null,{"$f":"SUM(E61+I61+M61+O61+S61)","v":0},{"$f":"SUM(F61+J61+V61)","v":0},{"$f":"SUM(Y61:Z61)","v":0}]
[null,null,null,{"$f":"SUM(D57:D61)","v":0},0,0,0,0,0,0,0,0,0,0,0,0,0,0,0,0,0,0,0,0,0,0,0]
[{"$f":"考勤表!A63","v":0},"人事行政部",null,null,{"$f":"D63*20%","v":0},{"$f":"D63*8%","v":0},{"$f":"SUM(E63:F63)","v":0},{"$f":"D63","v":0},{"$f":"ROUND(H63*1.5%,2)","v":0},{"$f":"ROUND(H63*0.5%,2)","v":0},{"$f":"I63+J63","v":0},{"$f":"社會保障系統!D63","v":0},{"$f":"ROUND(L63*0.5%,2)","v":0},null,{"$f":"ROUND(N63*0.8%,2)","v":0},null,{"$f":"P63*9%","v":0},{"$f":"P63*1%","v":0},{"$f":"Q63+R63","v":0},{"$f":"P63*2%","v":0},null,{"$f":"T63+U63","v":0},{"$f":"S63+V63","v":0},null,{"$f":"SUM(E63+I63+M63+O63+S63)","v":0},{"$f":"SUM(F63+J63+V63)","v":0},{"$f":"SUM(Y63:Z63)","v":0}]
[{"$f":"考勤表!A64","v":0},"人事行政部",null,null,0,0,0,0,0,0,0,{"$f":"社會保障系統!D64","v":0},0,null,0,null,0,0,0,0,null,0,0,null,0,0,0]
[{"$f":"考勤表!A65","v":0},"人事行政部",null,null,0,0,0,0,0,0,0,{"$f":"社會保障系統!D65","v":0},0,null,0,null,0,0,0,0,null,0,0,null,0,0,0]
[{"$f":"考勤表!A66","v":0},"人事行政部",null,null,0,0,0,0,0,0,0,{"$f":"社會保障系統!D66","v":0},0,null,0,null,0,0,0,0,null,0,0,null,0,0,0]
[{"$f":"考勤表!A67","v":0},"人事行政部",null,null,0,0,0,0,0,0,0,{"$f":"社會保障系統!D67","v":0},0,null,0,null,0,0,0,0,null,0,0,null,0,0,0]
[{"$f":"考勤表!A68","v":0},"人事行政部",null,null,0,0,0,0,0,0,0,{"$f":"社會保障系統!D68","v":0},0,null,0,null,0,0,0,0,null,0,0,null,0,0,0]
[{"$f":"考勤表!A69","v":0},"人事行政部",null,null,0,0,0,0,0,0,0,{"$f":"社會保障系統!D69","v":0},0,null,0,null,0,0,0,0,null,0,0,null,0,0,0]
[{"$f":"考勤表!A70","v":0},"人事行政部",null,null,0,0,0,0,0,0,0,{"$f":"社會保障系統!D70","v":0},0,null,0,null,0,0,0,0,null,0,0,null,0,0,0]
[{"$f":"考勤表!A71","v":0},"人事行政部",null,null,0,0,0,0,0,0,0,{"$f":"社會保障系統!D71","v":0},0,null,0,null,0,0,0,0,null,0,0,null,0,0,0]
[{"$f":"考勤表!A72","v":0},"人事行政部",null,null,0,0,0,0,0,0,0,{"$f":"社會保障系統!D72","v":0},0,null,0,null,0,0,0,0,null,0,0,null,0,0,0]
[{"$f":"考勤表!A73","v":0},"人事行政部",null,null,0,0,0,0,0,0,0,{"$f":"社會保障系統!D73","v":0},0,null,0,null,0,0,0,0,null,0,0,null,0,0,0]
[{"$f":"考勤表!A74","v":0},"人事行政部",null,null,0,0,0,0,0,0,0,{"$f":"社會保障系統!D74","v":0},0,null,0,null,0,0,0,0,null,0,0,null,0,0,0]
[{"$f":"考勤表!A75","v":0},"人事行政部",null,null,0,0,0,0,0,0,0,{"$f":"社會保障系統!D75","v":0},0,null,0,null,0,0,0,0,null,0,0,null,0,0,0]
[{"$f":"考勤表!A76","v":0},"人事行政部",null,null,0,0,0,0,0,0,0,{"$f":"社會保障系統!D76","v":0},0,null,0,null,0,0,0,0,null,0,0,null,0,0,0]
[{"$f":"考勤表!A77","v":0},"人事行政部",null,null,0,0,0,0,0,0,0,{"$f":"社會保障系統!D77","v":0},0,null,0,null,0,0,0,0,null,0,0,null,0,0,0]
[{"$f":"考勤表!A78","v":0},"人事行政部",null,null,0,0,0,0,0,0,0,{"$f":"社會保障系統!D78","v":0},0,null,0,null,0,0,0,0,null,0,0,null,0,0,0]
[null,null,null,{"$f":"SUM(D63:D78)","v":0},0,0,0,0,0,0,0,0,0,0,0,0,0,0,0,0,0,0,0,0,0,0,0]
[]
[null,null,"基數合計",{"$f":"D14+D25+D36+D44+D56+D62+D79","v":0},0,0,0,0,0,0,0,0,0,0,0,0,0,0,0,0,0,0,0,0,0,0,0]
[]
["備註:","1.紫色為新入職未參加社會保險"]
[null,"2.綠色為外埠城鎮"]
[null,"3.亮綠色底的為外埠農村"]